{"text_format":"1","workbook":"xlsx","n_sheets":6,"sheets":["シート","データ","武器","防具","アイテム","経験値"],"not_rendered":{"charts":0,"images":1,"macros":1,"external_links":0,"defined_names":25,"comments":0,"pivot_tables":0},"unopened":[],"bounds":{"document_bytes":16777216,"sheet_cells":100000,"rows_first":2000,"rows_last":500,"rows_between":2000,"halvings":0,"cell_chars":16384,"cell_head_chars":4096},"cells_cut":0,"cells_raw":0,"read":"whole","date_system":"1900"}

{"sheet":"シート","index":0,"n_rows":67,"n_cols":59,"rows_kept":67,"cut":false,"hidden":false,"merged":[[8,11,8,14],[15,11,15,14],[14,11,14,14],[16,11,16,14],[13,11,13,14],[9,11,9,14],[12,11,12,14],[10,11,10,14],[11,11,11,14],[49,1,50,1],[49,2,50,2],[65,1,66,1],[65,2,66,2],[59,1,60,1],[59,2,60,2],[61,1,62,1],[61,2,62,2],[49,8,49,14],[50,8,50,14],[51,8,51,14],[52,8,52,14],[63,1,64,1],[63,2,64,2],[55,1,56,1],[55,2,56,2],[57,1,58,1],[57,2,58,2],[61,55,62,55],[63,55,64,55],[35,1,36,1],[35,2,36,2],[37,1,38,1],[37,2,38,2],[31,1,32,1],[31,2,32,2],[33,1,34,1],[33,2,34,2],[43,1,44,1],[43,2,44,2],[45,1,46,1],[45,2,46,2],[39,1,40,1],[39,2,40,2],[41,1,42,1],[41,2,42,2],[51,1,52,1],[51,2,52,2],[53,1,54,1],[53,2,54,2],[47,1,48,1],[47,2,48,2],[59,50,60,50],[61,50,62,50],[63,50,64,50],[49,50,50,50],[51,50,52,50],[53,50,54,50],[55,50,56,50],[65,50,66,50],[31,55,32,55],[33,55,34,55],[35,55,36,55],[37,55,38,55],[39,55,40,55],[41,55,42,55],[43,55,44,55],[45,55,46,55],[47,55,48,55],[65,55,66,55],[53,55,54,55],[55,55,56,55],[57,55,58,55],[59,55,60,55],[49,55,50,55],[51,55,52,55],[65,38,66,38],[47,37,48,37],[49,37,50,37],[61,40,62,40],[31,45,32,45],[33,45,34,45],[35,45,36,45],[37,45,38,45],[39,45,40,45],[41,45,42,45],[43,45,44,45],[45,45,46,45],[47,45,48,45],[57,45,58,45],[59,45,60,45],[61,45,62,45],[63,45,64,45],[49,45,50,45],[51,45,52,45],[53,45,54,45],[55,45,56,45],[65,45,66,45],[65,30,66,30],[31,35,32,35],[33,35,34,35],[35,35,36,35],[37,35,38,35],[39,35,40,35],[41,35,42,35],[43,35,44,35],[45,35,46,35],[55,35,56,35],[57,35,58,35],[59,35,60,35],[61,35,62,35],[47,35,48,35],[49,35,50,35],[51,35,52,35],[53,35,54,35],[63,35,64,35],[65,35,66,35],[55,30,56,30],[57,30,58,30],[59,30,60,30],[61,30,62,30],[47,30,48,30],[49,30,50,30],[51,30,52,30],[53,30,54,30],[63,30,64,30],[57,57,58,57],[59,57,60,57],[61,57,62,57],[47,57,48,57],[49,57,50,57],[51,57,52,57],[53,57,54,57],[63,57,64,57],[65,57,66,57],[31,57,32,57],[33,57,34,57],[35,57,36,57],[37,57,38,57],[39,57,40,57],[41,57,42,57],[43,57,44,57],[45,57,46,57],[55,57,56,57],[65,47,66,47],[31,52,32,52],[33,52,34,52],[35,52,36,52],[37,52,38,52],[39,52,40,52],[41,52,42,52],[43,52,44,52],[45,52,46,52],[55,52,56,52],[57,52,58,52],[59,52,60,52],[61,52,62,52],[47,52,48,52],[49,52,50,52],[51,52,52,52],[53,52,54,52],[63,52,64,52],[65,52,66,52],[31,50,32,50],[33,50,34,50],[35,50,36,50],[37,50,38,50],[39,50,40,50],[31,37,32,37],[33,37,34,37],[35,37,36,37],[37,37,38,37],[39,37,40,37],[41,37,42,37],[43,37,44,37],[45,37,46,37],[53,42,54,42],[43,40,44,40],[45,40,46,40],[31,40,32,40],[33,40,34,40],[35,40,36,40],[37,40,38,40],[39,40,40,40],[41,40,42,40],[47,40,48,40],[49,40,50,40],[51,40,52,40],[53,40,54,40],[57,58,58,58],[59,58,60,58],[61,58,62,58],[63,58,64,58],[49,58,50,58],[51,58,52,58],[53,58,54,58],[55,58,56,58],[65,58,66,58],[31,58,32,58],[33,58,34,58],[35,58,36,58],[37,58,38,58],[39,58,40,58],[41,58,42,58],[43,58,44,58],[45,58,46,58],[47,58,48,58],[65,48,66,48],[31,53,32,53],[33,53,34,53],[35,53,36,53],[37,53,38,53],[39,53,40,53],[41,53,42,53],[43,53,44,53],[45,53,46,53],[47,53,48,53],[57,53,58,53],[59,53,60,53],[61,53,62,53],[63,53,64,53],[49,53,50,53],[51,53,52,53],[53,53,54,53],[55,53,56,53],[65,53,66,53],[41,50,42,50],[43,50,44,50],[45,50,46,50],[47,50,48,50],[57,50,58,50],[59,48,60,48],[61,48,62,48],[63,48,64,48],[39,38,40,38],[41,38,42,38],[43,38,44,38],[55,48,56,48],[55,42,56,42],[39,47,40,47],[55,47,56,47],[57,47,58,47],[59,47,60,47],[61,47,62,47],[49,47,50,47],[51,47,52,47],[53,47,54,47],[41,47,42,47],[43,47,44,47],[63,47,64,47],[31,38,32,38],[33,38,34,38],[35,38,36,38],[37,38,38,38],[43,42,44,42],[45,42,46,42],[47,42,48,42],[35,47,36,47],[57,48,58,48],[37,47,38,47],[49,43,50,43],[33,32,34,32],[33,33,34,33],[39,33,40,33],[41,32,42,32],[41,33,42,33],[53,33,54,33],[45,32,46,32],[39,32,40,32],[47,32,48,32],[49,32,50,32],[43,32,44,32],[43,33,44,33],[45,33,46,33],[47,33,48,33],[49,33,50,33],[51,33,52,33],[49,38,50,38],[51,37,52,37],[55,37,56,37],[57,37,58,37],[59,37,60,37],[59,32,60,32],[53,38,54,38],[55,38,56,38],[57,38,58,38],[59,38,60,38],[53,37,54,37],[55,32,56,32],[57,32,58,32],[55,33,56,33],[57,33,58,33],[59,33,60,33],[55,43,56,43],[53,43,54,43],[51,38,52,38],[57,42,58,42],[55,40,56,40],[57,40,58,40],[51,42,52,42],[61,32,62,32],[63,32,64,32],[61,38,62,38],[63,38,64,38],[63,33,64,33],[61,33,62,33],[65,41,66,41],[65,40,66,40],[63,40,64,40],[57,43,58,43],[59,43,60,43],[59,42,60,42],[61,42,62,42],[63,42,64,42],[65,42,66,42],[59,40,60,40],[49,48,50,48],[51,48,52,48],[31,42,32,42],[33,42,34,42],[35,42,36,42],[37,42,38,42],[39,42,40,42],[41,42,42,42],[31,48,32,48],[49,42,50,42],[33,48,34,48],[35,48,36,48],[37,48,38,48],[31,43,32,43],[33,43,34,43],[35,43,36,43],[37,43,38,43],[31,47,32,47],[33,47,34,47],[51,43,52,43],[39,43,40,43],[41,43,42,43],[43,43,44,43],[45,43,46,43],[43,8,43,14],[44,8,44,14],[45,8,45,14],[46,8,46,14],[47,8,47,14],[48,8,48,14],[39,48,40,48],[41,48,42,48],[43,48,44,48],[45,48,46,48],[40,9,40,13],[41,9,41,13],[42,9,42,13],[47,48,48,48],[47,38,48,38],[45,38,46,38],[47,43,48,43],[45,47,46,47],[47,47,48,47],[39,30,40,30],[41,30,42,30],[43,30,44,30],[45,30,46,30],[19,33,20,33],[13,20,14,20],[15,20,16,20],[39,9,39,13],[35,32,36,32],[35,33,36,33],[37,32,38,32],[37,33,38,33],[31,32,32,32],[31,33,32,33],[31,30,32,30],[33,30,34,30],[35,30,36,30],[37,30,38,30],[15,33,16,33],[17,33,18,33],[18,11,18,14],[17,20,18,20],[15,32,16,32],[17,32,18,32],[15,31,16,31],[17,31,18,31],[15,30,16,30],[17,30,18,30],[9,20,10,20],[11,20,12,20],[12,9,12,10],[13,33,14,33],[13,32,14,32],[13,4,14,4],[11,4,12,4],[13,30,14,30],[13,31,14,31],[9,8,10,8],[11,8,12,8],[13,8,14,8],[15,8,16,8],[19,8,20,8],[9,6,10,6],[11,6,12,6],[23,4,24,4],[9,5,10,5],[11,5,12,5],[13,5,14,5],[15,5,16,5],[17,5,18,5],[19,5,20,5],[21,5,22,5],[9,4,10,4],[19,4,20,4],[15,4,16,4],[17,4,18,4],[17,8,18,8],[13,6,14,6],[15,6,16,6],[17,6,18,6],[21,8,22,8],[23,8,24,8],[28,4,28,5],[28,7,28,8],[23,5,24,5],[21,6,22,6],[23,6,24,6],[21,4,22,4],[19,6,20,6],[31,5,32,5],[33,5,34,5],[35,5,36,5],[37,5,38,5],[39,5,40,5],[43,4,44,4],[45,4,46,4],[47,4,48,4],[49,4,50,4],[31,4,32,4],[33,4,34,4],[35,4,36,4],[37,4,38,4],[39,4,40,4],[41,4,42,4],[33,6,34,6],[35,6,36,6],[33,7,34,7],[35,7,36,7],[53,5,54,5],[55,5,56,5],[57,5,58,5],[59,5,60,5],[61,5,62,5],[41,5,42,5],[43,5,44,5],[45,5,46,5],[47,5,48,5],[49,5,50,5],[51,5,52,5],[65,4,66,4],[65,5,66,5],[65,6,66,6],[65,7,66,7],[62,8,66,18],[56,8,60,18],[51,7,52,7],[53,7,54,7],[55,7,56,7],[55,6,56,6],[57,6,58,6],[59,6,60,6],[61,6,62,6],[51,6,52,6],[53,6,54,6],[63,5,64,5],[55,4,56,4],[57,4,58,4],[59,4,60,4],[61,4,62,4],[63,4,64,4],[51,4,52,4],[53,4,54,4],[53,9,53,11],[29,5,29,18],[57,7,58,7],[59,7,60,7],[61,7,62,7],[63,7,64,7],[63,6,64,6],[39,7,40,7],[41,7,42,7],[36,10,36,12],[37,10,37,12],[43,7,44,7],[45,7,46,7],[47,7,48,7],[49,7,50,7],[47,6,48,6],[49,6,50,6],[37,7,38,7],[37,6,38,6],[39,6,40,6],[41,6,42,6],[43,6,44,6],[45,6,46,6],[31,7,32,7],[31,6,32,6],[19,20,20,20],[21,20,22,20],[23,20,24,20],[26,20,27,20],[19,32,20,32],[21,32,22,32],[23,32,24,32],[19,30,20,30],[21,30,22,30],[23,30,24,30],[11,35,12,35],[11,37,12,37],[11,38,12,38],[6,32,6,33],[5,32,5,33],[9,30,10,30],[11,30,12,30],[9,31,10,31],[11,31,12,31],[9,33,10,33],[11,33,12,33],[9,32,10,32],[11,32,12,32],[23,37,24,37],[23,38,24,38],[5,42,5,43],[6,42,6,43],[9,40,10,40],[9,42,10,42],[9,43,10,43],[9,41,10,41],[17,35,18,35],[17,37,18,37],[17,38,18,38],[19,35,20,35],[19,37,20,37],[19,38,20,38],[13,35,14,35],[13,37,14,37],[13,38,14,38],[15,35,16,35],[15,37,16,37],[15,38,16,38],[6,37,6,38],[9,35,10,35],[9,37,10,37],[9,38,10,38],[15,43,16,43],[17,40,18,40],[17,42,18,42],[17,43,18,43],[15,41,16,41],[17,41,18,41],[11,40,12,40],[5,37,5,38],[11,42,12,42],[11,43,12,43],[13,40,14,40],[13,42,14,42],[13,43,14,43],[11,41,12,41],[13,41,14,41],[13,46,14,46],[15,45,16,45],[15,47,16,47],[15,48,16,48],[23,40,24,40],[23,42,24,42],[23,43,24,43],[5,47,5,48],[6,47,6,48],[9,45,10,45],[9,47,10,47],[9,48,10,48],[11,45,12,45],[11,47,12,47],[19,40,20,40],[19,42,20,42],[19,43,20,43],[21,40,22,40],[21,42,22,42],[21,43,22,43],[19,41,20,41],[21,41,22,41],[15,40,16,40],[15,42,16,42],[5,57,5,58],[6,57,6,58],[9,55,10,55],[9,57,10,57],[9,58,10,58],[11,55,12,55],[11,57,12,57],[11,53,12,53],[11,58,12,58],[5,52,5,53],[6,52,6,53],[9,52,10,52],[9,53,10,53],[11,52,12,52],[13,58,14,58],[18,9,19,10],[17,58,18,58],[19,31,20,31],[19,52,20,52],[19,53,20,53],[15,50,16,50],[15,52,16,52],[21,57,22,57],[21,58,22,58],[15,55,16,55],[15,57,16,57],[15,58,16,58],[17,55,18,55],[17,57,18,57],[19,58,20,58],[17,50,18,50],[17,52,18,52],[17,53,18,53],[17,51,18,51],[15,51,16,51],[21,50,22,50],[21,52,22,52],[21,53,22,53],[23,58,24,58],[17,11,17,14],[19,11,19,14],[21,11,21,14],[23,11,23,14],[19,55,20,55],[19,57,20,57],[20,11,20,14],[22,11,22,14],[23,53,24,53],[19,51,20,51],[21,51,22,51],[23,47,24,47],[23,48,24,48],[19,47,20,47],[17,45,18,45],[17,47,18,47],[17,48,18,48],[19,48,20,48],[21,45,22,45],[21,47,22,47],[21,48,22,48],[21,37,22,37],[21,38,22,38],[8,9,8,10],[9,9,9,10],[10,9,10,10],[11,9,11,10],[13,9,13,10],[14,9,14,10],[15,9,15,10],[16,9,17,10],[23,57,24,57],[13,55,14,55],[13,57,14,57],[13,50,14,50],[13,52,14,52],[13,53,14,53],[11,51,12,51],[13,51,14,51],[15,53,16,53],[9,50,10,50],[11,50,12,50],[15,46,16,46],[11,48,12,48],[13,45,14,45],[13,47,14,47],[13,48,14,48],[24,11,24,18],[24,9,24,10],[20,9,21,10],[22,9,23,10],[26,9,26,10],[27,9,27,10],[26,12,26,13],[27,12,27,13],[25,12,25,13],[21,31,22,31],[23,31,24,31],[65,31,66,31],[23,36,24,36],[21,35,22,35],[21,33,22,33],[23,33,24,33],[23,35,24,35],[51,32,52,32],[53,32,54,32],[65,32,66,32],[65,33,66,33],[23,46,24,46],[23,45,24,45],[19,45,20,45],[65,56,66,56],[9,36,10,36],[11,36,12,36],[13,36,14,36],[15,36,16,36],[17,36,18,36],[19,36,20,36],[21,36,22,36],[9,46,10,46],[11,46,12,46],[65,46,66,46],[65,51,66,51],[65,36,66,36],[53,48,54,48],[61,43,62,43],[63,43,64,43],[65,43,66,43],[61,37,62,37],[63,37,64,37],[65,37,66,37],[21,55,22,55],[23,56,24,56],[9,51,10,51],[25,14,25,18],[48,20,48,21],[27,17,27,18],[26,17,26,18],[26,14,26,15],[27,14,27,15],[23,50,24,50],[19,50,20,50],[23,51,24,51],[9,56,10,56],[11,56,12,56],[13,56,14,56],[15,56,16,56],[17,56,18,56],[19,56,20,56],[21,56,22,56],[23,55,24,55],[23,52,24,52],[23,41,24,41],[17,46,18,46],[19,46,20,46],[21,46,22,46],[62,20,62,21],[63,20,63,21],[64,20,64,21],[65,20,65,21],[66,20,66,21],[55,20,55,21],[56,20,56,21],[57,20,57,21],[58,20,58,21],[59,20,59,21],[60,20,60,21],[21,2,22,2],[23,2,24,2],[9,2,10,2],[11,2,12,2],[13,2,14,2],[15,2,16,2],[17,2,18,2],[19,2,20,2],[61,20,61,21],[49,20,49,21],[50,20,50,21],[51,20,51,21],[52,20,52,21],[53,20,53,21],[54,20,54,21],[28,12,28,15],[38,10,38,12],[35,10,35,12],[28,16,28,18],[32,10,32,12],[33,10,33,12],[34,10,34,12],[28,9,28,10],[31,10,31,12]]}
[]
[null,"■使用方法",null,"1)","右の「入力全クリア」ボタンを押す。"]
[null,null,null,"2)","色つきセルに入力する（オレンジ色のセルは、クリックするとドロップダウンメニューが出るので、そこから選択）。"]
[null,null,null,"3)","キーボードの[F9]を押して再計算する。"]
[null,null,null,"4)","右の「ダイス分計算」ボタンを押す。",null,null,null,null,null,null,null,null,null,null,null,null,null,null,null,null,null,null,null,null,null,null,null,null,null,"今回",null,null,null,null,"1回前",null,null,null,null,"2回前",null,null,null,null,"3回前",null,null,null,null,"4回前",null,null,null,null,"5回前"]
[null,null,null,"5)","キーボードの[F9]を押して再計算する。",null,null,null,null,null,null,null,null,null,null,null,null,null,null,null,null,null,null,null,null,null,null,null,null,null,"レベル",null,{"$f":"+V31","v":100},null,null,"レベル",null,{"$f":"+V32","v":0},null,null,"レベル",null,{"$f":"+V33","v":0},null,null,"レベル",null,{"$f":"+V34","v":0},null,null,"レベル",null,{"$f":"+V35","v":0},null,null,"レベル",null,{"$f":"+V36","v":0}]
[null,null,null,null,"フェイタル・ウォーリアーズ　キャラクターシート",null,null,null,null,null,null,null,null,null,null,null,null,null,null,null,"作製時",null,null,null,null,null,null,null,null,null,"クラス",null,{"$f":"+W31","v":"なし"},null,null,"クラス",null,{"$f":"+W32","v":"なし"},null,null,"クラス",null,{"$f":"+W33","v":"なし"},null,null,"クラス",null,{"$f":"+W34","v":"なし"},null,null,"クラス",null,{"$f":"+W35","v":"なし"},null,null,"クラス",null,{"$f":"+W36","v":"なし"}]
[null,null,null,null,null,null,null,null,null,null,null,null,null,null,null,null,null,null,null,null,"（2D8加算値）"]
[null,null,"上昇値修正",null,"特性値",null,"回避値","修正","上昇値","名前",null,"リベ・ガルフェン（メイナード・シレスタ）",null,null,null,null,null,null,null,null,"回避値","各欄には数値のみ入力",null,null,null,null,null,null,null,null,"特性値","乱数分","回避値","上昇値",null,"特性値","乱数分","回避値","上昇値",null,"特性値","乱数分","回避値","上昇値",null,"特性値","乱数分","回避値","上昇値",null,"特性値","乱数分","回避値","上昇値",null,"特性値","乱数分","回避値","上昇値"]
[null,null,null,null,"筋力",{"$f":"+AE10+COUNTA(W$38)*10*L$12+C10*L$12","v":10251},{"$f":"IF(W$38<>\"\",ROUNDDOWN(F10/10,0),AG10)","v":1025},"ダメージ",{"$f":"+AH10+COUNTA(W$38)*10+C10","v":100},"種族",null,"異世界神",null,null,null,null,null,null,null,null,4,"（「S=」などは入力不要）",null,null,null,null,null,null,null,null,{"$f":"IF(AG$6=0,0,ROUNDDOWN(RAND()*(10-1)+1,0)-1+AF10+AH10*(AG$6-1)+IF(AL$6=0,(VLOOKUP($L$10,データ!$B$4:$S$13,2,FALSE)+$U10)*10,ROUNDDOWN(AL10/2,0)*10))","v":10251},205,{"$f":"+IF(VLOOKUP(AG$7,データ!$B$17:$S$47,18,FALSE)+VLOOKUP($L$10,データ!$B$4:$S$13,18,FALSE)>0,ROUNDDOWN(AE10/10,0),MIN(ROUNDDOWN(AE10/10,0),18))","v":1025},{"$f":"IF(AG$6=0,0,VLOOKUP(AG$7,データ!$B$17:$S$47,10,FALSE)+VLOOKUP($L$10,データ!$B$4:$S$13,10,FALSE)+VLOOKUP($L$14,データ!$B$52:$S$54,10,FALSE))","v":100},null,{"$f":"IF(AL$6=0,0,ROUNDDOWN(RAND()*(10-1)+1,0)-1+AK10+AM10*(AL$6-1)+IF(AQ$6=0,(VLOOKUP($L$10,データ!$B$4:$S$13,2,FALSE)+$U10)*10,ROUNDDOWN(AQ10/2,0)*10))","v":0},null,{"$f":"+IF(VLOOKUP(AL$7,データ!$B$17:$S$47,18,FALSE)+VLOOKUP($L$10,データ!$B$4:$S$13,18,FALSE)>0,ROUNDDOWN(AJ10/10,0),MIN(ROUNDDOWN(AJ10/10,0),18))","v":0},{"$f":"IF(AL$6=0,0,VLOOKUP(AL$7,データ!$B$17:$S$47,10,FALSE)+VLOOKUP($L$10,データ!$B$4:$S$13,10,FALSE)+VLOOKUP($L$14,データ!$B$52:$S$54,10,FALSE))","v":0},null,{"$f":"IF(AQ$6=0,0,ROUNDDOWN(RAND()*(10-1)+1,0)-1+AP10+AR10*(AQ$6-1)+IF(AV$6=0,(VLOOKUP($L$10,データ!$B$4:$S$13,2,FALSE)+$U10)*10,ROUNDDOWN(AV10/2,0)*10))","v":0},null,{"$f":"+IF(VLOOKUP(AQ$7,データ!$B$17:$S$47,18,FALSE)+VLOOKUP($L$10,データ!$B$4:$S$13,18,FALSE)>0,ROUNDDOWN(AO10/10,0),MIN(ROUNDDOWN(AO10/10,0),18))","v":0},{"$f":"IF(AQ$6=0,0,VLOOKUP(AQ$7,データ!$B$17:$S$47,10,FALSE)+VLOOKUP($L$10,データ!$B$4:$S$13,10,FALSE)+VLOOKUP($L$14,データ!$B$52:$S$54,10,FALSE))","v":0},null,{"$f":"IF(AV$6=0,0,ROUNDDOWN(RAND()*(10-1)+1,0)-1+AU10+AW10*(AV$6-1)+IF(BA$6=0,(VLOOKUP($L$10,データ!$B$4:$S$13,2,FALSE)+$U10)*10,ROUNDDOWN(BA10/2,0)*10))","v":0},null,{"$f":"+IF(VLOOKUP(AV$7,データ!$B$17:$S$47,18,FALSE)+VLOOKUP($L$10,データ!$B$4:$S$13,18,FALSE)>0,ROUNDDOWN(AT10/10,0),MIN(ROUNDDOWN(AT10/10,0),18))","v":0},{"$f":"IF(AV$6=0,0,VLOOKUP(AV$7,データ!$B$17:$S$47,10,FALSE)+VLOOKUP($L$10,データ!$B$4:$S$13,10,FALSE)+VLOOKUP($L$14,データ!$B$52:$S$54,10,FALSE))","v":0},null,{"$f":"IF(BA$6=0,0,ROUNDDOWN(RAND()*(10-1)+1,0)-1+AZ10+BB10*(BA$6-1)+IF(BF$6=0,(VLOOKUP($L$10,データ!$B$4:$S$13,2,FALSE)+$U10)*10,ROUNDDOWN(BF10/2,0)*10))","v":0},null,{"$f":"+IF(VLOOKUP(BA$7,データ!$B$17:$S$47,18,FALSE)+VLOOKUP($L$10,データ!$B$4:$S$13,18,FALSE)>0,ROUNDDOWN(AY10/10,0),MIN(ROUNDDOWN(AY10/10,0),18))","v":0},{"$f":"IF(BA$6=0,0,VLOOKUP(BA$7,データ!$B$17:$S$47,10,FALSE)+VLOOKUP($L$10,データ!$B$4:$S$13,10,FALSE)+VLOOKUP($L$14,データ!$B$52:$S$54,10,FALSE))","v":0},null,{"$f":"IF(BF$6=0,0,ROUNDDOWN(RAND()*(10-1)+1,0)-1+BE10+BG10*(BF$6-1)+IF(BK$6=0,(VLOOKUP($L$10,データ!$B$4:$S$13,2,FALSE)+$U10)*10,ROUNDDOWN(BK10/2,0)*10))","v":0},null,{"$f":"+IF(VLOOKUP(BF$7,データ!$B$17:$S$47,18,FALSE)+VLOOKUP($L$10,データ!$B$4:$S$13,18,FALSE)>0,ROUNDDOWN(BD10/10,0),MIN(ROUNDDOWN(BD10/10,0),18))","v":0},{"$f":"IF(BF$6=0,0,VLOOKUP(BF$7,データ!$B$17:$S$47,10,FALSE)+VLOOKUP($L$10,データ!$B$4:$S$13,10,FALSE)+VLOOKUP($L$14,データ!$B$52:$S$54,10,FALSE))","v":0}]
[null,null,null,null,null,null,null,{"$f":"ROUNDDOWN(F10/5,0)","v":2050},null,"性別",null,"男"]
[null,null,null,null,"知恵",{"$f":"+AE12+COUNTA(W$38)*10*L$12+C12*L$12","v":10296},{"$f":"IF(W$38<>\"\",ROUNDDOWN(F12/10,0),AG12)","v":1029},"敵判別",{"$f":"+AH12+COUNTA(W$38)*10+C12","v":101},"レベル",null,{"$f":"+V31","v":100},null,null,null,null,null,null,null,null,0,null,null,null,null,null,null,null,null,null,{"$f":"IF(AG$6=0,0,ROUNDDOWN(RAND()*(10-1)+1,0)-1+AF12+AH12*(AG$6-1)+IF(AL$6=0,(VLOOKUP($L$10,データ!$B$4:$S$13,3,FALSE)+$U12)*10,ROUNDDOWN(AL12/2,0)*10))","v":10296},194,{"$f":"+IF(VLOOKUP(AG$7,データ!$B$17:$S$47,18,FALSE)+VLOOKUP($L$10,データ!$B$4:$S$13,18,FALSE)>0,ROUNDDOWN(AE12/10,0),MIN(ROUNDDOWN(AE12/10,0),18))","v":1029},{"$f":"IF(AG$6=0,0,VLOOKUP(AG$7,データ!$B$17:$S$47,11,FALSE)+VLOOKUP($L$10,データ!$B$4:$S$13,11,FALSE)+VLOOKUP($L$14,データ!$B$52:$S$54,11,FALSE))","v":101},null,{"$f":"IF(AL$6=0,0,ROUNDDOWN(RAND()*(10-1)+1,0)-1+AK12+AM12*(AL$6-1)+IF(AQ$6=0,(VLOOKUP($L$10,データ!$B$4:$S$13,3,FALSE)+$U12)*10,ROUNDDOWN(AQ12/2,0)*10))","v":0},null,{"$f":"+IF(VLOOKUP(AL$7,データ!$B$17:$S$47,18,FALSE)+VLOOKUP($L$10,データ!$B$4:$S$13,18,FALSE)>0,ROUNDDOWN(AJ12/10,0),MIN(ROUNDDOWN(AJ12/10,0),18))","v":0},{"$f":"IF(AL$6=0,0,VLOOKUP(AL$7,データ!$B$17:$S$47,11,FALSE)+VLOOKUP($L$10,データ!$B$4:$S$13,11,FALSE)+VLOOKUP($L$14,データ!$B$52:$S$54,11,FALSE))","v":0},null,{"$f":"IF(AQ$6=0,0,ROUNDDOWN(RAND()*(10-1)+1,0)-1+AP12+AR12*(AQ$6-1)+IF(AV$6=0,(VLOOKUP($L$10,データ!$B$4:$S$13,3,FALSE)+$U12)*10,ROUNDDOWN(AV12/2,0)*10))","v":0},null,{"$f":"+IF(VLOOKUP(AQ$7,データ!$B$17:$S$47,18,FALSE)+VLOOKUP($L$10,データ!$B$4:$S$13,18,FALSE)>0,ROUNDDOWN(AO12/10,0),MIN(ROUNDDOWN(AO12/10,0),18))","v":0},{"$f":"IF(AQ$6=0,0,VLOOKUP(AQ$7,データ!$B$17:$S$47,11,FALSE)+VLOOKUP($L$10,データ!$B$4:$S$13,11,FALSE)+VLOOKUP($L$14,データ!$B$52:$S$54,11,FALSE))","v":0},null,{"$f":"IF(AV$6=0,0,ROUNDDOWN(RAND()*(10-1)+1,0)-1+AU12+AW12*(AV$6-1)+IF(BA$6=0,(VLOOKUP($L$10,データ!$B$4:$S$13,3,FALSE)+$U12)*10,ROUNDDOWN(BA12/2,0)*10))","v":0},null,{"$f":"+IF(VLOOKUP(AV$7,データ!$B$17:$S$47,18,FALSE)+VLOOKUP($L$10,データ!$B$4:$S$13,18,FALSE)>0,ROUNDDOWN(AT12/10,0),MIN(ROUNDDOWN(AT12/10,0),18))","v":0},{"$f":"IF(AV$6=0,0,VLOOKUP(AV$7,データ!$B$17:$S$47,11,FALSE)+VLOOKUP($L$10,データ!$B$4:$S$13,11,FALSE)+VLOOKUP($L$14,データ!$B$52:$S$54,11,FALSE))","v":0},null,{"$f":"IF(BA$6=0,0,ROUNDDOWN(RAND()*(10-1)+1,0)-1+AZ12+BB12*(BA$6-1)+IF(BF$6=0,(VLOOKUP($L$10,データ!$B$4:$S$13,3,FALSE)+$U12)*10,ROUNDDOWN(BF12/2,0)*10))","v":0},null,{"$f":"+IF(VLOOKUP(BA$7,データ!$B$17:$S$47,18,FALSE)+VLOOKUP($L$10,データ!$B$4:$S$13,18,FALSE)>0,ROUNDDOWN(AY12/10,0),MIN(ROUNDDOWN(AY12/10,0),18))","v":0},{"$f":"IF(BA$6=0,0,VLOOKUP(BA$7,データ!$B$17:$S$47,11,FALSE)+VLOOKUP($L$10,データ!$B$4:$S$13,11,FALSE)+VLOOKUP($L$14,データ!$B$52:$S$54,11,FALSE))","v":0},null,{"$f":"IF(BF$6=0,0,ROUNDDOWN(RAND()*(10-1)+1,0)-1+BE12+BG12*(BF$6-1)+IF(BK$6=0,(VLOOKUP($L$10,データ!$B$4:$S$13,3,FALSE)+$U12)*10,ROUNDDOWN(BK12/2,0)*10))","v":0},null,{"$f":"+IF(VLOOKUP(BF$7,データ!$B$17:$S$47,18,FALSE)+VLOOKUP($L$10,データ!$B$4:$S$13,18,FALSE)>0,ROUNDDOWN(BD12/10,0),MIN(ROUNDDOWN(BD12/10,0),18))","v":0},{"$f":"IF(BF$6=0,0,VLOOKUP(BF$7,データ!$B$17:$S$47,11,FALSE)+VLOOKUP($L$10,データ!$B$4:$S$13,11,FALSE)+VLOOKUP($L$14,データ!$B$52:$S$54,11,FALSE))","v":0}]
[null,null,null,null,null,null,null,{"$f":"ROUNDDOWN(F12/5,0)","v":2059},null,"クラス",null,{"$f":"IF(W38<>\"\",W38,W31)","v":"なし"}]
[null,null,null,null,"信仰心",{"$f":"+AE14+COUNTA(W$38)*10*L$12+C14*L$12","v":10301},{"$f":"IF(W$38<>\"\",ROUNDDOWN(F14/10,0),AG14)","v":1030},"ディスペル",{"$f":"+AH14+COUNTA(W$38)*10+C14","v":101},"属性",null,"悪",null,null,null,null,null,null,null,null,0,null,null,null,null,null,null,null,null,null,{"$f":"IF(AG$6=0,0,ROUNDDOWN(RAND()*(10-1)+1,0)-1+AF14+AH14*(AG$6-1)+IF(AL$6=0,(VLOOKUP($L$10,データ!$B$4:$S$13,4,FALSE)+$U14)*10,ROUNDDOWN(AL14/2,0)*10))","v":10301},194,{"$f":"+IF(VLOOKUP(AG$7,データ!$B$17:$S$47,18,FALSE)+VLOOKUP($L$10,データ!$B$4:$S$13,18,FALSE)>0,ROUNDDOWN(AE14/10,0),MIN(ROUNDDOWN(AE14/10,0),18))","v":1030},{"$f":"IF(AG$6=0,0,VLOOKUP(AG$7,データ!$B$17:$S$47,12,FALSE)+VLOOKUP($L$10,データ!$B$4:$S$13,12,FALSE)+VLOOKUP($L$14,データ!$B$52:$S$54,12,FALSE))","v":101},null,{"$f":"IF(AL$6=0,0,ROUNDDOWN(RAND()*(10-1)+1,0)-1+AK14+AM14*(AL$6-1)+IF(AQ$6=0,(VLOOKUP($L$10,データ!$B$4:$S$13,4,FALSE)+$U14)*10,ROUNDDOWN(AQ14/2,0)*10))","v":0},null,{"$f":"+IF(VLOOKUP(AL$7,データ!$B$17:$S$47,18,FALSE)+VLOOKUP($L$10,データ!$B$4:$S$13,18,FALSE)>0,ROUNDDOWN(AJ14/10,0),MIN(ROUNDDOWN(AJ14/10,0),18))","v":0},{"$f":"IF(AL$6=0,0,VLOOKUP(AL$7,データ!$B$17:$S$47,12,FALSE)+VLOOKUP($L$10,データ!$B$4:$S$13,12,FALSE)+VLOOKUP($L$14,データ!$B$52:$S$54,12,FALSE))","v":0},null,{"$f":"IF(AQ$6=0,0,ROUNDDOWN(RAND()*(10-1)+1,0)-1+AP14+AR14*(AQ$6-1)+IF(AV$6=0,(VLOOKUP($L$10,データ!$B$4:$S$13,4,FALSE)+$U14)*10,ROUNDDOWN(AV14/2,0)*10))","v":0},null,{"$f":"+IF(VLOOKUP(AQ$7,データ!$B$17:$S$47,18,FALSE)+VLOOKUP($L$10,データ!$B$4:$S$13,18,FALSE)>0,ROUNDDOWN(AO14/10,0),MIN(ROUNDDOWN(AO14/10,0),18))","v":0},{"$f":"IF(AQ$6=0,0,VLOOKUP(AQ$7,データ!$B$17:$S$47,12,FALSE)+VLOOKUP($L$10,データ!$B$4:$S$13,12,FALSE)+VLOOKUP($L$14,データ!$B$52:$S$54,12,FALSE))","v":0},null,{"$f":"IF(AV$6=0,0,ROUNDDOWN(RAND()*(10-1)+1,0)-1+AU14+AW14*(AV$6-1)+IF(BA$6=0,(VLOOKUP($L$10,データ!$B$4:$S$13,4,FALSE)+$U14)*10,ROUNDDOWN(BA14/2,0)*10))","v":0},null,{"$f":"+IF(VLOOKUP(AV$7,データ!$B$17:$S$47,18,FALSE)+VLOOKUP($L$10,データ!$B$4:$S$13,18,FALSE)>0,ROUNDDOWN(AT14/10,0),MIN(ROUNDDOWN(AT14/10,0),18))","v":0},{"$f":"IF(AV$6=0,0,VLOOKUP(AV$7,データ!$B$17:$S$47,12,FALSE)+VLOOKUP($L$10,データ!$B$4:$S$13,12,FALSE)+VLOOKUP($L$14,データ!$B$52:$S$54,12,FALSE))","v":0},null,{"$f":"IF(BA$6=0,0,ROUNDDOWN(RAND()*(10-1)+1,0)-1+AZ14+BB14*(BA$6-1)+IF(BF$6=0,(VLOOKUP($L$10,データ!$B$4:$S$13,4,FALSE)+$U14)*10,ROUNDDOWN(BF14/2,0)*10))","v":0},null,{"$f":"+IF(VLOOKUP(BA$7,データ!$B$17:$S$47,18,FALSE)+VLOOKUP($L$10,データ!$B$4:$S$13,18,FALSE)>0,ROUNDDOWN(AY14/10,0),MIN(ROUNDDOWN(AY14/10,0),18))","v":0},{"$f":"IF(BA$6=0,0,VLOOKUP(BA$7,データ!$B$17:$S$47,12,FALSE)+VLOOKUP($L$10,データ!$B$4:$S$13,12,FALSE)+VLOOKUP($L$14,データ!$B$52:$S$54,12,FALSE))","v":0},null,{"$f":"IF(BF$6=0,0,ROUNDDOWN(RAND()*(10-1)+1,0)-1+BE14+BG14*(BF$6-1)+IF(BK$6=0,(VLOOKUP($L$10,データ!$B$4:$S$13,4,FALSE)+$U14)*10,ROUNDDOWN(BK14/2,0)*10))","v":0},null,{"$f":"+IF(VLOOKUP(BF$7,データ!$B$17:$S$47,18,FALSE)+VLOOKUP($L$10,データ!$B$4:$S$13,18,FALSE)>0,ROUNDDOWN(BD14/10,0),MIN(ROUNDDOWN(BD14/10,0),18))","v":0},{"$f":"IF(BF$6=0,0,VLOOKUP(BF$7,データ!$B$17:$S$47,12,FALSE)+VLOOKUP($L$10,データ!$B$4:$S$13,12,FALSE)+VLOOKUP($L$14,データ!$B$52:$S$54,12,FALSE))","v":0}]
[null,null,null,null,null,null,null,{"$f":"ROUNDDOWN(F14/5,0)","v":2060},null,"年齢",null,"不明"]
[null,null,null,null,"精神力",{"$f":"+AE16+COUNTA(W$38)*10*L$12+C16*L$12","v":10229},{"$f":"IF(W$38<>\"\",ROUNDDOWN(F16/10,0),AG16)","v":1022},"MP",{"$f":"+AH16+COUNTA(W$38)*10+C16","v":100},"居住地",null,"異世界",null,null,null,null,null,null,null,null,1,null,null,null,null,null,null,null,null,null,{"$f":"IF(AG$6=0,0,ROUNDDOWN(RAND()*(10-1)+1,0)-1+AF16+AH16*(AG$6-1)+IF(AL$6=0,(VLOOKUP($L$10,データ!$B$4:$S$13,5,FALSE)+$U16)*10,ROUNDDOWN(AL16/2,0)*10))","v":10229},216,{"$f":"+IF(VLOOKUP(AG$7,データ!$B$17:$S$47,18,FALSE)+VLOOKUP($L$10,データ!$B$4:$S$13,18,FALSE)>0,ROUNDDOWN(AE16/10,0),MIN(ROUNDDOWN(AE16/10,0),18))","v":1022},{"$f":"IF(AG$6=0,0,VLOOKUP(AG$7,データ!$B$17:$S$47,13,FALSE)+VLOOKUP($L$10,データ!$B$4:$S$13,13,FALSE)+VLOOKUP($L$14,データ!$B$52:$S$54,13,FALSE))","v":100},null,{"$f":"IF(AL$6=0,0,ROUNDDOWN(RAND()*(10-1)+1,0)-1+AK16+AM16*(AL$6-1)+IF(AQ$6=0,(VLOOKUP($L$10,データ!$B$4:$S$13,5,FALSE)+$U16)*10,ROUNDDOWN(AQ16/2,0)*10))","v":0},null,{"$f":"+IF(VLOOKUP(AL$7,データ!$B$17:$S$47,18,FALSE)+VLOOKUP($L$10,データ!$B$4:$S$13,18,FALSE)>0,ROUNDDOWN(AJ16/10,0),MIN(ROUNDDOWN(AJ16/10,0),18))","v":0},{"$f":"IF(AL$6=0,0,VLOOKUP(AL$7,データ!$B$17:$S$47,13,FALSE)+VLOOKUP($L$10,データ!$B$4:$S$13,13,FALSE)+VLOOKUP($L$14,データ!$B$52:$S$54,13,FALSE))","v":0},null,{"$f":"IF(AQ$6=0,0,ROUNDDOWN(RAND()*(10-1)+1,0)-1+AP16+AR16*(AQ$6-1)+IF(AV$6=0,(VLOOKUP($L$10,データ!$B$4:$S$13,5,FALSE)+$U16)*10,ROUNDDOWN(AV16/2,0)*10))","v":0},null,{"$f":"+IF(VLOOKUP(AQ$7,データ!$B$17:$S$47,18,FALSE)+VLOOKUP($L$10,データ!$B$4:$S$13,18,FALSE)>0,ROUNDDOWN(AO16/10,0),MIN(ROUNDDOWN(AO16/10,0),18))","v":0},{"$f":"IF(AQ$6=0,0,VLOOKUP(AQ$7,データ!$B$17:$S$47,13,FALSE)+VLOOKUP($L$10,データ!$B$4:$S$13,13,FALSE)+VLOOKUP($L$14,データ!$B$52:$S$54,13,FALSE))","v":0},null,{"$f":"IF(AV$6=0,0,ROUNDDOWN(RAND()*(10-1)+1,0)-1+AU16+AW16*(AV$6-1)+IF(BA$6=0,(VLOOKUP($L$10,データ!$B$4:$S$13,5,FALSE)+$U16)*10,ROUNDDOWN(BA16/2,0)*10))","v":0},null,{"$f":"+IF(VLOOKUP(AV$7,データ!$B$17:$S$47,18,FALSE)+VLOOKUP($L$10,データ!$B$4:$S$13,18,FALSE)>0,ROUNDDOWN(AT16/10,0),MIN(ROUNDDOWN(AT16/10,0),18))","v":0},{"$f":"IF(AV$6=0,0,VLOOKUP(AV$7,データ!$B$17:$S$47,13,FALSE)+VLOOKUP($L$10,データ!$B$4:$S$13,13,FALSE)+VLOOKUP($L$14,データ!$B$52:$S$54,13,FALSE))","v":0},null,{"$f":"IF(BA$6=0,0,ROUNDDOWN(RAND()*(10-1)+1,0)-1+AZ16+BB16*(BA$6-1)+IF(BF$6=0,(VLOOKUP($L$10,データ!$B$4:$S$13,5,FALSE)+$U16)*10,ROUNDDOWN(BF16/2,0)*10))","v":0},null,{"$f":"+IF(VLOOKUP(BA$7,データ!$B$17:$S$47,18,FALSE)+VLOOKUP($L$10,データ!$B$4:$S$13,18,FALSE)>0,ROUNDDOWN(AY16/10,0),MIN(ROUNDDOWN(AY16/10,0),18))","v":0},{"$f":"IF(BA$6=0,0,VLOOKUP(BA$7,データ!$B$17:$S$47,13,FALSE)+VLOOKUP($L$10,データ!$B$4:$S$13,13,FALSE)+VLOOKUP($L$14,データ!$B$52:$S$54,13,FALSE))","v":0},null,{"$f":"IF(BF$6=0,0,ROUNDDOWN(RAND()*(10-1)+1,0)-1+BE16+BG16*(BF$6-1)+IF(BK$6=0,(VLOOKUP($L$10,データ!$B$4:$S$13,5,FALSE)+$U16)*10,ROUNDDOWN(BK16/2,0)*10))","v":0},null,{"$f":"+IF(VLOOKUP(BF$7,データ!$B$17:$S$47,18,FALSE)+VLOOKUP($L$10,データ!$B$4:$S$13,18,FALSE)>0,ROUNDDOWN(BD16/10,0),MIN(ROUNDDOWN(BD16/10,0),18))","v":0},{"$f":"IF(BF$6=0,0,VLOOKUP(BF$7,データ!$B$17:$S$47,13,FALSE)+VLOOKUP($L$10,データ!$B$4:$S$13,13,FALSE)+VLOOKUP($L$14,データ!$B$52:$S$54,13,FALSE))","v":0}]
[null,null,null,null,null,null,null,{"$f":"ROUNDDOWN(F16/2,0)","v":5114},null,"精霊魔術",null,{"$f":"IF(AC54>36,\"全て(\"&AC54&\")\",IF(AC50<>0,AB50&\"(\"&AC50&\") \",\"\")&IF(AC51<>0,AB51&\"(\"&AC51&\") \",\"\")&IF(AC52<>0,AB52&\"(\"&AC52&\") \",\"\")&IF(AC53<>0,AB53&\"(\"&AC53&\")\",\"\"))","v":""}]
[null,null,null,null,"生命力",{"$f":"+AE18+COUNTA(W$38)*10*L$12+C18*L$12","v":10235},{"$f":"IF(W$38<>\"\",ROUNDDOWN(F18/10,0),AG18)","v":1023},"HP",{"$f":"+AH18+COUNTA(W$38)*10+C18","v":100},null,null,{"$f":"+ROUNDDOWN(F12/10,0)","v":1029},null,null,null,null,null,null,null,null,4,null,null,null,null,null,null,null,null,null,{"$f":"IF(AG$6=0,0,ROUNDDOWN(RAND()*(10-1)+1,0)-1+AF18+AH18*(AG$6-1)+IF(AL$6=0,(VLOOKUP($L$10,データ!$B$4:$S$13,6,FALSE)+$U18)*10,ROUNDDOWN(AL18/2,0)*10))","v":10235},195,{"$f":"+IF(VLOOKUP(AG$7,データ!$B$17:$S$47,18,FALSE)+VLOOKUP($L$10,データ!$B$4:$S$13,18,FALSE)>0,ROUNDDOWN(AE18/10,0),MIN(ROUNDDOWN(AE18/10,0),18))","v":1023},{"$f":"IF(AG$6=0,0,VLOOKUP(AG$7,データ!$B$17:$S$47,14,FALSE)+VLOOKUP($L$10,データ!$B$4:$S$13,14,FALSE)+VLOOKUP($L$14,データ!$B$52:$S$54,14,FALSE))","v":100},null,{"$f":"IF(AL$6=0,0,ROUNDDOWN(RAND()*(10-1)+1,0)-1+AK18+AM18*(AL$6-1)+IF(AQ$6=0,(VLOOKUP($L$10,データ!$B$4:$S$13,6,FALSE)+$U18)*10,ROUNDDOWN(AQ18/2,0)*10))","v":0},null,{"$f":"+IF(VLOOKUP(AL$7,データ!$B$17:$S$47,18,FALSE)+VLOOKUP($L$10,データ!$B$4:$S$13,18,FALSE)>0,ROUNDDOWN(AJ18/10,0),MIN(ROUNDDOWN(AJ18/10,0),18))","v":0},{"$f":"IF(AL$6=0,0,VLOOKUP(AL$7,データ!$B$17:$S$47,14,FALSE)+VLOOKUP($L$10,データ!$B$4:$S$13,14,FALSE)+VLOOKUP($L$14,データ!$B$52:$S$54,14,FALSE))","v":0},null,{"$f":"IF(AQ$6=0,0,ROUNDDOWN(RAND()*(10-1)+1,0)-1+AP18+AR18*(AQ$6-1)+IF(AV$6=0,(VLOOKUP($L$10,データ!$B$4:$S$13,6,FALSE)+$U18)*10,ROUNDDOWN(AV18/2,0)*10))","v":0},null,{"$f":"+IF(VLOOKUP(AQ$7,データ!$B$17:$S$47,18,FALSE)+VLOOKUP($L$10,データ!$B$4:$S$13,18,FALSE)>0,ROUNDDOWN(AO18/10,0),MIN(ROUNDDOWN(AO18/10,0),18))","v":0},{"$f":"IF(AQ$6=0,0,VLOOKUP(AQ$7,データ!$B$17:$S$47,14,FALSE)+VLOOKUP($L$10,データ!$B$4:$S$13,14,FALSE)+VLOOKUP($L$14,データ!$B$52:$S$54,14,FALSE))","v":0},null,{"$f":"IF(AV$6=0,0,ROUNDDOWN(RAND()*(10-1)+1,0)-1+AU18+AW18*(AV$6-1)+IF(BA$6=0,(VLOOKUP($L$10,データ!$B$4:$S$13,6,FALSE)+$U18)*10,ROUNDDOWN(BA18/2,0)*10))","v":0},null,{"$f":"+IF(VLOOKUP(AV$7,データ!$B$17:$S$47,18,FALSE)+VLOOKUP($L$10,データ!$B$4:$S$13,18,FALSE)>0,ROUNDDOWN(AT18/10,0),MIN(ROUNDDOWN(AT18/10,0),18))","v":0},{"$f":"IF(AV$6=0,0,VLOOKUP(AV$7,データ!$B$17:$S$47,14,FALSE)+VLOOKUP($L$10,データ!$B$4:$S$13,14,FALSE)+VLOOKUP($L$14,データ!$B$52:$S$54,14,FALSE))","v":0},null,{"$f":"IF(BA$6=0,0,ROUNDDOWN(RAND()*(10-1)+1,0)-1+AZ18+BB18*(BA$6-1)+IF(BF$6=0,(VLOOKUP($L$10,データ!$B$4:$S$13,6,FALSE)+$U18)*10,ROUNDDOWN(BF18/2,0)*10))","v":0},null,{"$f":"+IF(VLOOKUP(BA$7,データ!$B$17:$S$47,18,FALSE)+VLOOKUP($L$10,データ!$B$4:$S$13,18,FALSE)>0,ROUNDDOWN(AY18/10,0),MIN(ROUNDDOWN(AY18/10,0),18))","v":0},{"$f":"IF(BA$6=0,0,VLOOKUP(BA$7,データ!$B$17:$S$47,14,FALSE)+VLOOKUP($L$10,データ!$B$4:$S$13,14,FALSE)+VLOOKUP($L$14,データ!$B$52:$S$54,14,FALSE))","v":0},null,{"$f":"IF(BF$6=0,0,ROUNDDOWN(RAND()*(10-1)+1,0)-1+BE18+BG18*(BF$6-1)+IF(BK$6=0,(VLOOKUP($L$10,データ!$B$4:$S$13,6,FALSE)+$U18)*10,ROUNDDOWN(BK18/2,0)*10))","v":0},null,{"$f":"+IF(VLOOKUP(BF$7,データ!$B$17:$S$47,18,FALSE)+VLOOKUP($L$10,データ!$B$4:$S$13,18,FALSE)>0,ROUNDDOWN(BD18/10,0),MIN(ROUNDDOWN(BD18/10,0),18))","v":0},{"$f":"IF(BF$6=0,0,VLOOKUP(BF$7,データ!$B$17:$S$47,14,FALSE)+VLOOKUP($L$10,データ!$B$4:$S$13,14,FALSE)+VLOOKUP($L$14,データ!$B$52:$S$54,14,FALSE))","v":0}]
[null,null,null,null,null,null,null,{"$f":"ROUNDDOWN(F18/2,0)","v":5117},null,"神聖魔術",null,{"$f":"IF(AC55>36,\"全て(\"&AC55&\")\",IF(AC55<>0,AB55&\"(\"&AC55&\") \",\"\")&IF(AC56<>0,AB56&\"(\"&AC56&\") \",\"\")&IF(AC57<>0,AB57&\"(\"&AC57&\") \",\"\")&IF(AC58<>0,AB58&\"(\"&AC58&\")\",\"\"))","v":""}]
[null,null,null,null,"敏捷度",{"$f":"+AE20+COUNTA(W$38)*10*L$12+C20*L$12","v":10217},{"$f":"IF(W$38<>\"\",ROUNDDOWN(F20/10,0),AG20)","v":1021},"命中率",{"$f":"+AH20+COUNTA(W$38)*10+C20","v":100},null,null,{"$f":"+ROUNDDOWN(F14/10,0)","v":1030},null,null,null,null,null,null,null,null,2,null,null,null,null,null,null,null,null,null,{"$f":"IF(AG$6=0,0,ROUNDDOWN(RAND()*(10-1)+1,0)-1+AF20+AH20*(AG$6-1)+IF(AL$6=0,(VLOOKUP($L$10,データ!$B$4:$S$13,7,FALSE)+$U20)*10,ROUNDDOWN(AL20/2,0)*10))","v":10217},193,{"$f":"+IF(VLOOKUP(AG$7,データ!$B$17:$S$47,18,FALSE)+VLOOKUP($L$10,データ!$B$4:$S$13,18,FALSE)>0,ROUNDDOWN(AE20/10,0),MIN(ROUNDDOWN(AE20/10,0),18))","v":1021},{"$f":"IF(AG$6=0,0,VLOOKUP(AG$7,データ!$B$17:$S$47,15,FALSE)+VLOOKUP($L$10,データ!$B$4:$S$13,15,FALSE)+VLOOKUP($L$14,データ!$B$52:$S$54,15,FALSE))","v":100},null,{"$f":"IF(AL$6=0,0,ROUNDDOWN(RAND()*(10-1)+1,0)-1+AK20+AM20*(AL$6-1)+IF(AQ$6=0,(VLOOKUP($L$10,データ!$B$4:$S$13,7,FALSE)+$U20)*10,ROUNDDOWN(AQ20/2,0)*10))","v":0},null,{"$f":"+IF(VLOOKUP(AL$7,データ!$B$17:$S$47,18,FALSE)+VLOOKUP($L$10,データ!$B$4:$S$13,18,FALSE)>0,ROUNDDOWN(AJ20/10,0),MIN(ROUNDDOWN(AJ20/10,0),18))","v":0},{"$f":"IF(AL$6=0,0,VLOOKUP(AL$7,データ!$B$17:$S$47,15,FALSE)+VLOOKUP($L$10,データ!$B$4:$S$13,15,FALSE)+VLOOKUP($L$14,データ!$B$52:$S$54,15,FALSE))","v":0},null,{"$f":"IF(AQ$6=0,0,ROUNDDOWN(RAND()*(10-1)+1,0)-1+AP20+AR20*(AQ$6-1)+IF(AV$6=0,(VLOOKUP($L$10,データ!$B$4:$S$13,7,FALSE)+$U20)*10,ROUNDDOWN(AV20/2,0)*10))","v":0},null,{"$f":"+IF(VLOOKUP(AQ$7,データ!$B$17:$S$47,18,FALSE)+VLOOKUP($L$10,データ!$B$4:$S$13,18,FALSE)>0,ROUNDDOWN(AO20/10,0),MIN(ROUNDDOWN(AO20/10,0),18))","v":0},{"$f":"IF(AQ$6=0,0,VLOOKUP(AQ$7,データ!$B$17:$S$47,15,FALSE)+VLOOKUP($L$10,データ!$B$4:$S$13,15,FALSE)+VLOOKUP($L$14,データ!$B$52:$S$54,15,FALSE))","v":0},null,{"$f":"IF(AV$6=0,0,ROUNDDOWN(RAND()*(10-1)+1,0)-1+AU20+AW20*(AV$6-1)+IF(BA$6=0,(VLOOKUP($L$10,データ!$B$4:$S$13,7,FALSE)+$U20)*10,ROUNDDOWN(BA20/2,0)*10))","v":0},null,{"$f":"+IF(VLOOKUP(AV$7,データ!$B$17:$S$47,18,FALSE)+VLOOKUP($L$10,データ!$B$4:$S$13,18,FALSE)>0,ROUNDDOWN(AT20/10,0),MIN(ROUNDDOWN(AT20/10,0),18))","v":0},{"$f":"IF(AV$6=0,0,VLOOKUP(AV$7,データ!$B$17:$S$47,15,FALSE)+VLOOKUP($L$10,データ!$B$4:$S$13,15,FALSE)+VLOOKUP($L$14,データ!$B$52:$S$54,15,FALSE))","v":0},null,{"$f":"IF(BA$6=0,0,ROUNDDOWN(RAND()*(10-1)+1,0)-1+AZ20+BB20*(BA$6-1)+IF(BF$6=0,(VLOOKUP($L$10,データ!$B$4:$S$13,7,FALSE)+$U20)*10,ROUNDDOWN(BF20/2,0)*10))","v":0},null,{"$f":"+IF(VLOOKUP(BA$7,データ!$B$17:$S$47,18,FALSE)+VLOOKUP($L$10,データ!$B$4:$S$13,18,FALSE)>0,ROUNDDOWN(AY20/10,0),MIN(ROUNDDOWN(AY20/10,0),18))","v":0},{"$f":"IF(BA$6=0,0,VLOOKUP(BA$7,データ!$B$17:$S$47,15,FALSE)+VLOOKUP($L$10,データ!$B$4:$S$13,15,FALSE)+VLOOKUP($L$14,データ!$B$52:$S$54,15,FALSE))","v":0},null,{"$f":"IF(BF$6=0,0,ROUNDDOWN(RAND()*(10-1)+1,0)-1+BE20+BG20*(BF$6-1)+IF(BK$6=0,(VLOOKUP($L$10,データ!$B$4:$S$13,7,FALSE)+$U20)*10,ROUNDDOWN(BK20/2,0)*10))","v":0},null,{"$f":"+IF(VLOOKUP(BF$7,データ!$B$17:$S$47,18,FALSE)+VLOOKUP($L$10,データ!$B$4:$S$13,18,FALSE)>0,ROUNDDOWN(BD20/10,0),MIN(ROUNDDOWN(BD20/10,0),18))","v":0},{"$f":"IF(BF$6=0,0,VLOOKUP(BF$7,データ!$B$17:$S$47,15,FALSE)+VLOOKUP($L$10,データ!$B$4:$S$13,15,FALSE)+VLOOKUP($L$14,データ!$B$52:$S$54,15,FALSE))","v":0}]
[null,null,null,null,null,null,null,{"$f":"ROUNDDOWN(F20/5,0)","v":2043},null,"精神魔術",null,{"$f":"IF(AC59>36,\"全て(\"&AC59&\")\",IF(AC59<>0,AB59&\"(\"&AC59&\") \",\"\")&IF(AC60<>0,AB60&\"(\"&AC60&\") \",\"\")&IF(AC61<>0,AB61&\"(\"&AC61&\") \",\"\")&IF(AC62<>0,AB62&\"(\"&AC62&\")\",\"\"))","v":""}]
[null,null,null,null,"幸運度",{"$f":"+AE22+COUNTA(W$38)*10*L$12+C22*L$12","v":10308},{"$f":"IF(W$38<>\"\",ROUNDDOWN(F22/10,0),AG22)","v":1030},"交渉率",{"$f":"+AH22+COUNTA(W$38)*10+C22","v":101},null,null,{"$f":"+ROUNDDOWN(F16/10,0)","v":1022},null,null,null,null,null,null,null,null,0,null,null,null,null,null,null,null,null,null,{"$f":"IF(AG$6=0,0,ROUNDDOWN(RAND()*(10-1)+1,0)-1+AF22+AH22*(AG$6-1)+IF(AL$6=0,(VLOOKUP($L$10,データ!$B$4:$S$13,8,FALSE)+$U22)*10,ROUNDDOWN(AL22/2,0)*10))","v":10308},205,{"$f":"+IF(VLOOKUP(AG$7,データ!$B$17:$S$47,18,FALSE)+VLOOKUP($L$10,データ!$B$4:$S$13,18,FALSE)>0,ROUNDDOWN(AE22/10,0),MIN(ROUNDDOWN(AE22/10,0),18))","v":1030},{"$f":"IF(AG$6=0,0,VLOOKUP(AG$7,データ!$B$17:$S$47,16,FALSE)+VLOOKUP($L$10,データ!$B$4:$S$13,16,FALSE)+VLOOKUP($L$14,データ!$B$52:$S$54,16,FALSE))","v":101},null,{"$f":"IF(AL$6=0,0,ROUNDDOWN(RAND()*(10-1)+1,0)-1+AK22+AM22*(AL$6-1)+IF(AQ$6=0,(VLOOKUP($L$10,データ!$B$4:$S$13,8,FALSE)+$U22)*10,ROUNDDOWN(AQ22/2,0)*10))","v":0},null,{"$f":"+IF(VLOOKUP(AL$7,データ!$B$17:$S$47,18,FALSE)+VLOOKUP($L$10,データ!$B$4:$S$13,18,FALSE)>0,ROUNDDOWN(AJ22/10,0),MIN(ROUNDDOWN(AJ22/10,0),18))","v":0},{"$f":"IF(AL$6=0,0,VLOOKUP(AL$7,データ!$B$17:$S$47,16,FALSE)+VLOOKUP($L$10,データ!$B$4:$S$13,16,FALSE)+VLOOKUP($L$14,データ!$B$52:$S$54,16,FALSE))","v":0},null,{"$f":"IF(AQ$6=0,0,ROUNDDOWN(RAND()*(10-1)+1,0)-1+AP22+AR22*(AQ$6-1)+IF(AV$6=0,(VLOOKUP($L$10,データ!$B$4:$S$13,8,FALSE)+$U22)*10,ROUNDDOWN(AV22/2,0)*10))","v":0},null,{"$f":"+IF(VLOOKUP(AQ$7,データ!$B$17:$S$47,18,FALSE)+VLOOKUP($L$10,データ!$B$4:$S$13,18,FALSE)>0,ROUNDDOWN(AO22/10,0),MIN(ROUNDDOWN(AO22/10,0),18))","v":0},{"$f":"IF(AQ$6=0,0,VLOOKUP(AQ$7,データ!$B$17:$S$47,16,FALSE)+VLOOKUP($L$10,データ!$B$4:$S$13,16,FALSE)+VLOOKUP($L$14,データ!$B$52:$S$54,16,FALSE))","v":0},null,{"$f":"IF(AV$6=0,0,ROUNDDOWN(RAND()*(10-1)+1,0)-1+AU22+AW22*(AV$6-1)+IF(BA$6=0,(VLOOKUP($L$10,データ!$B$4:$S$13,8,FALSE)+$U22)*10,ROUNDDOWN(BA22/2,0)*10))","v":0},null,{"$f":"+IF(VLOOKUP(AV$7,データ!$B$17:$S$47,18,FALSE)+VLOOKUP($L$10,データ!$B$4:$S$13,18,FALSE)>0,ROUNDDOWN(AT22/10,0),MIN(ROUNDDOWN(AT22/10,0),18))","v":0},{"$f":"IF(AV$6=0,0,VLOOKUP(AV$7,データ!$B$17:$S$47,16,FALSE)+VLOOKUP($L$10,データ!$B$4:$S$13,16,FALSE)+VLOOKUP($L$14,データ!$B$52:$S$54,16,FALSE))","v":0},null,{"$f":"IF(BA$6=0,0,ROUNDDOWN(RAND()*(10-1)+1,0)-1+AZ22+BB22*(BA$6-1)+IF(BF$6=0,(VLOOKUP($L$10,データ!$B$4:$S$13,8,FALSE)+$U22)*10,ROUNDDOWN(BF22/2,0)*10))","v":0},null,{"$f":"+IF(VLOOKUP(BA$7,データ!$B$17:$S$47,18,FALSE)+VLOOKUP($L$10,データ!$B$4:$S$13,18,FALSE)>0,ROUNDDOWN(AY22/10,0),MIN(ROUNDDOWN(AY22/10,0),18))","v":0},{"$f":"IF(BA$6=0,0,VLOOKUP(BA$7,データ!$B$17:$S$47,16,FALSE)+VLOOKUP($L$10,データ!$B$4:$S$13,16,FALSE)+VLOOKUP($L$14,データ!$B$52:$S$54,16,FALSE))","v":0},null,{"$f":"IF(BF$6=0,0,ROUNDDOWN(RAND()*(10-1)+1,0)-1+BE22+BG22*(BF$6-1)+IF(BK$6=0,(VLOOKUP($L$10,データ!$B$4:$S$13,8,FALSE)+$U22)*10,ROUNDDOWN(BK22/2,0)*10))","v":0},null,{"$f":"+IF(VLOOKUP(BF$7,データ!$B$17:$S$47,18,FALSE)+VLOOKUP($L$10,データ!$B$4:$S$13,18,FALSE)>0,ROUNDDOWN(BD22/10,0),MIN(ROUNDDOWN(BD22/10,0),18))","v":0},{"$f":"IF(BF$6=0,0,VLOOKUP(BF$7,データ!$B$17:$S$47,16,FALSE)+VLOOKUP($L$10,データ!$B$4:$S$13,16,FALSE)+VLOOKUP($L$14,データ!$B$52:$S$54,16,FALSE))","v":0}]
[null,null,null,null,null,null,null,{"$f":"ROUNDDOWN(F22/5,0)","v":2061},null,"暗黒魔術",null,{"$f":"IF(AC63>36,\"全て(\"&AC63&\")\",IF(AC63<>0,AB63&\"(\"&AC63&\") \",\"\")&IF(AC64<>0,AB64&\"(\"&AC64&\") \",\"\")&IF(AC65<>0,AB65&\"(\"&AC65&\") \",\"\")&IF(AC66<>0,AB66&\"(\"&AC66&\")\",\"\"))","v":""}]
[null,null,null,null,"魅力",{"$f":"+AE24+COUNTA(W$38)*10*L$12+C24*L$12","v":10108},{"$f":"IF(W$38<>\"\",ROUNDDOWN(F24/10,0),AG24)","v":1010},"統率力",{"$f":"+AH24+COUNTA(W$38)*10+C24","v":99},null,null,{"$f":"+ROUNDDOWN(F14/10,0)","v":1030},null,null,null,null,null,null,null,null,0,null,null,null,null,null,null,null,null,null,{"$f":"IF(AG$6=0,0,ROUNDDOWN(RAND()*(10-1)+1,0)-1+AF24+AH24*(AG$6-1)+IF(AL$6=0,(VLOOKUP($L$10,データ!$B$4:$S$13,9,FALSE)+$U24)*10,ROUNDDOWN(AL24/2,0)*10))","v":10108},206,{"$f":"+IF(VLOOKUP(AG$7,データ!$B$17:$S$47,18,FALSE)+VLOOKUP($L$10,データ!$B$4:$S$13,18,FALSE)>0,ROUNDDOWN(AE24/10,0),MIN(ROUNDDOWN(AE24/10,0),18))","v":1010},{"$f":"IF(AG$6=0,0,VLOOKUP(AG$7,データ!$B$17:$S$47,17,FALSE)+VLOOKUP($L$10,データ!$B$4:$S$13,17,FALSE)+VLOOKUP($L$14,データ!$B$52:$S$54,17,FALSE))","v":99},null,{"$f":"IF(AL$6=0,0,ROUNDDOWN(RAND()*(10-1)+1,0)-1+AK24+AM24*(AL$6-1)+IF(AQ$6=0,(VLOOKUP($L$10,データ!$B$4:$S$13,9,FALSE)+$U24)*10,ROUNDDOWN(AQ24/2,0)*10))","v":0},null,{"$f":"+IF(VLOOKUP(AL$7,データ!$B$17:$S$47,18,FALSE)+VLOOKUP($L$10,データ!$B$4:$S$13,18,FALSE)>0,ROUNDDOWN(AJ24/10,0),MIN(ROUNDDOWN(AJ24/10,0),18))","v":0},{"$f":"IF(AL$6=0,0,VLOOKUP(AL$7,データ!$B$17:$S$47,17,FALSE)+VLOOKUP($L$10,データ!$B$4:$S$13,17,FALSE)+VLOOKUP($L$14,データ!$B$52:$S$54,17,FALSE))","v":0},null,{"$f":"IF(AQ$6=0,0,ROUNDDOWN(RAND()*(10-1)+1,0)-1+AP24+AR24*(AQ$6-1)+IF(AV$6=0,(VLOOKUP($L$10,データ!$B$4:$S$13,9,FALSE)+$U24)*10,ROUNDDOWN(AV24/2,0)*10))","v":0},null,{"$f":"+IF(VLOOKUP(AQ$7,データ!$B$17:$S$47,18,FALSE)+VLOOKUP($L$10,データ!$B$4:$S$13,18,FALSE)>0,ROUNDDOWN(AO24/10,0),MIN(ROUNDDOWN(AO24/10,0),18))","v":0},{"$f":"IF(AQ$6=0,0,VLOOKUP(AQ$7,データ!$B$17:$S$47,17,FALSE)+VLOOKUP($L$10,データ!$B$4:$S$13,17,FALSE)+VLOOKUP($L$14,データ!$B$52:$S$54,17,FALSE))","v":0},null,{"$f":"IF(AV$6=0,0,ROUNDDOWN(RAND()*(10-1)+1,0)-1+AU24+AW24*(AV$6-1)+IF(BA$6=0,(VLOOKUP($L$10,データ!$B$4:$S$13,9,FALSE)+$U24)*10,ROUNDDOWN(BA24/2,0)*10))","v":0},null,{"$f":"+IF(VLOOKUP(AV$7,データ!$B$17:$S$47,18,FALSE)+VLOOKUP($L$10,データ!$B$4:$S$13,18,FALSE)>0,ROUNDDOWN(AT24/10,0),MIN(ROUNDDOWN(AT24/10,0),18))","v":0},{"$f":"IF(AV$6=0,0,VLOOKUP(AV$7,データ!$B$17:$S$47,17,FALSE)+VLOOKUP($L$10,データ!$B$4:$S$13,17,FALSE)+VLOOKUP($L$14,データ!$B$52:$S$54,17,FALSE))","v":0},null,{"$f":"IF(BA$6=0,0,ROUNDDOWN(RAND()*(10-1)+1,0)-1+AZ24+BB24*(BA$6-1)+IF(BF$6=0,(VLOOKUP($L$10,データ!$B$4:$S$13,9,FALSE)+$U24)*10,ROUNDDOWN(BF24/2,0)*10))","v":0},null,{"$f":"+IF(VLOOKUP(BA$7,データ!$B$17:$S$47,18,FALSE)+VLOOKUP($L$10,データ!$B$4:$S$13,18,FALSE)>0,ROUNDDOWN(AY24/10,0),MIN(ROUNDDOWN(AY24/10,0),18))","v":0},{"$f":"IF(BA$6=0,0,VLOOKUP(BA$7,データ!$B$17:$S$47,17,FALSE)+VLOOKUP($L$10,データ!$B$4:$S$13,17,FALSE)+VLOOKUP($L$14,データ!$B$52:$S$54,17,FALSE))","v":0},null,{"$f":"IF(BF$6=0,0,ROUNDDOWN(RAND()*(10-1)+1,0)-1+BE24+BG24*(BF$6-1)+IF(BK$6=0,(VLOOKUP($L$10,データ!$B$4:$S$13,9,FALSE)+$U24)*10,ROUNDDOWN(BK24/2,0)*10))","v":0},null,{"$f":"+IF(VLOOKUP(BF$7,データ!$B$17:$S$47,18,FALSE)+VLOOKUP($L$10,データ!$B$4:$S$13,18,FALSE)>0,ROUNDDOWN(BD24/10,0),MIN(ROUNDDOWN(BD24/10,0),18))","v":0},{"$f":"IF(BF$6=0,0,VLOOKUP(BF$7,データ!$B$17:$S$47,17,FALSE)+VLOOKUP($L$10,データ!$B$4:$S$13,17,FALSE)+VLOOKUP($L$14,データ!$B$52:$S$54,17,FALSE))","v":0}]
[null,null,null,null,null,null,null,{"$f":"ROUNDDOWN(F24/20,0)","v":505},null,"言語",null,{"$f":"CONCATENATE(X49,X50,X51,X52,X53,X54,X55,X56,X57,X58,X59,X60,X61,X62,X63,X64,X65,X66,X67)","v":""}]
[null,null,"特殊な条件下で、上昇値に",null,null,"基本命中率",null,"回避率","攻撃力",null,null,"防御力","経験値",null,{"$f":"IF(V31=0,0,IF(L12<=50,VLOOKUP(L12,経験値!B4:F53,VLOOKUP(W31,データ!B17:AY47,50,FALSE)+1,FALSE),VLOOKUP(50,経験値!B4:F53,VLOOKUP(W31,データ!B17:AY47,50,FALSE)+1,FALSE)+200000*(L12-50)))*IF(OR(L10=\"神\",L10=\"異世界神\"),100,1)","v":1445000000},null,null,null,null,null,"合計",{"$f":"IF(U27<2,\"加算値合計は2～16\",IF(U27>16,\"加算値合計は2～16\",\"\"))","v":""}]
[null,null,"修正が入る場合に記入",null,"武器1",null,{"$f":"+$L$12*5+50+H$21+R$32+SUM(Q40:Q43)+$Q$29+VLOOKUP($L$10,データ!$B$4:$T$13,19,FALSE)","v":3198},{"$f":"+$L$12*5+H$21+R$34+R$35+R$37+R$38+R$39+SUM(R40:R43)+$Q$29+VLOOKUP($L$10,データ!$B$4:$T$13,19,FALSE)","v":3148},{"$f":"+P32","v":"D100"},{"$f":"+Q32+H11+Q29+SUM(O40:O43)","v":2855},null,{"$f":"+Q34+Q35+Q37+Q38+Q39+SUM(P40:P43)+H46+Q29","v":1605},"HP",null,{"$f":"+R27","v":5658},null,"／",{"$f":"+AH27+COUNTA(W$38)*3000","v":5658},null,null,{"$f":"+SUM(U10:U25)","v":11},null,null,null,null,null,null,null,null,null,"HP",541,{"$f":"AF27+ROUNDDOWN(AE18/2,0)","v":5658},{"$f":"+IF(AG27<AM27,AM27+AG6,AG27)","v":5658},null,"HP",null,{"$f":"AK27+ROUNDDOWN(AJ18/2,0)","v":0},{"$f":"+IF(AL27<AR27,AR27+AL6,AL27)","v":0},null,"HP",null,{"$f":"AP27+ROUNDDOWN(AO18/2,0)","v":0},{"$f":"+IF(AQ27<AW27,AW27+AQ6,AQ27)","v":0},null,"HP",null,{"$f":"AU27+ROUNDDOWN(AT18/2,0)","v":0},{"$f":"+IF(AV27<BB27,BB27+AV6,AV27)","v":0},null,"HP",null,{"$f":"AZ27+ROUNDDOWN(AY18/2,0)","v":0},{"$f":"+IF(BA27<BG27,BG27+BA6,BA27)","v":0},null,"HP",null,{"$f":"BE27+ROUNDDOWN(BD18/2,0)","v":0},{"$f":"+IF(BF27<BK27,BK27+BF6,BF27)","v":0}]
[null,null,"（「覚醒の石」使用時など）",null,"武器2",null,{"$f":"+$L$12*5+50+H$21+R$33+SUM(Q40:Q43)+$Q$29+VLOOKUP($L$10,データ!$B$4:$T$13,19,FALSE)","v":3098},{"$f":"+$L$12*5+H$21+R$34+R$36+R$37+R$38+R$39+SUM(R40:R43)+$Q$29+VLOOKUP($L$10,データ!$B$4:$T$13,19,FALSE)","v":3128},{"$f":"+P33","v":"D100"},{"$f":"+Q33+H11+Q29+SUM(O40:O43)","v":2755},null,{"$f":"+Q34+Q36+Q37+Q38+Q39+SUM(P40:P43)+H46+Q29","v":1585},"MP",null,{"$f":"+R28","v":5690},null,"／",{"$f":"+AH28+COUNTA(W$38)*3000","v":5690},null,null,null,null,null,null,null,null,null,null,null,null,"MP",576,{"$f":"AF28+ROUNDDOWN(AE16/2,0)","v":5690},{"$f":"+IF(AG28<AM28,AM28+AG6,AG28)","v":5690},null,"MP",null,{"$f":"AK28+ROUNDDOWN(AJ16/2,0)","v":0},{"$f":"+IF(AL28<AR28,AR28+AL6,AL28)","v":0},null,"MP",null,{"$f":"AP28+ROUNDDOWN(AO16/2,0)","v":0},{"$f":"+IF(AQ28<AW28,AW28+AQ6,AQ28)","v":0},null,"MP",null,{"$f":"AU28+ROUNDDOWN(AT16/2,0)","v":0},{"$f":"+IF(AV28<BB28,BB28+AV6,AV28)","v":0},null,"MP",null,{"$f":"AZ28+ROUNDDOWN(AY16/2,0)","v":0},{"$f":"+IF(BA28<BG28,BG28+BA6,BA28)","v":0},null,"MP",null,{"$f":"BE28+ROUNDDOWN(BD16/2,0)","v":0},{"$f":"+IF(BF28<BK28,BK28+BF6,BF28)","v":0}]
[null,null,null,null,"命中判定減算率\n（選択ルール）",null,null,"打撃判定減算率\n（選択ルール）",null,null,null,"リーダー","本人",null,null,null,{"$f":"+H25","v":505}]
[null,null,null,null,"ステータス","■正常\n□催眠　□恐怖　□魅了　□混乱　□麻痺　□毒　□石化　□呪詛　□昏睡　□死亡　□根絶",null,null,null,null,null,null,null,null,null,null,null,null,null,null,null,"レベル","クラス","呪文1","系統","№","呪文2","系統","№",null,"技能",null,"特殊能力",null,null,"技能",null,"特殊能力",null,null,"技能",null,"特殊能力",null,null,"技能",null,"特殊能力",null,null,"技能",null,"特殊能力",null,null,"技能",null,"特殊能力"]
[null,"技能加算",null,null,"技能",null,"特殊能力",null,"アイテム・効果",null,null,null,null,null,null,null,null,null,null,null,"今回",100,"なし",{"$f":"VLOOKUP(VLOOKUP($W31,データ!$B$17:$BB$47,51,FALSE),データ!$A$65:$B$70,2,FALSE)","v":"　"},null,{"$f":"IF(X31=\"　\",\"\",IF(VLOOKUP($W31,データ!$B$17:$BB$47,53,FALSE)=2,MIN(36,V31),MIN(36,VLOOKUP($V31,経験値!$B$4:$J$53,VLOOKUP($W31,データ!$B$17:$BB$47,51,FALSE)+5,FALSE))))","v":""},{"$f":"VLOOKUP(VLOOKUP($W31,データ!$B$17:$BB$47,52,FALSE),データ!$A$65:$B$70,2,FALSE)","v":"　"},null,{"$f":"IF(AA31=\"　\",\"\",IF(VLOOKUP($W31,データ!$B$17:$BB$47,53,FALSE)=2,MIN(36,V31),MIN(36,VLOOKUP($V31,経験値!$B$4:$J$53,VLOOKUP($W31,データ!$B$17:$BB$47,52,FALSE)+5,FALSE))))","v":""},null,"獲得","乱数分","継承","獲得",null,"獲得","乱数分","継承","獲得",null,"獲得","乱数分","継承","獲得",null,"獲得","乱数分","継承","獲得",null,"獲得","乱数分","継承","獲得",null,"獲得","乱数分","継承","獲得"]
[null,"剣",null,null,"剣",{"$f":"+AE32+AJ32+AO32+AT32+AY32+BD32+C32","v":90},"快打",{"$f":"MAX(AG32,IF(W$38<>\"\",MIN(30,L$12*3),0))","v":10},"武器1","　","紅闇の剣",null,null,"　","攻撃力",{"$f":"+VLOOKUP(K32,武器!$B$16:$P$200,2,FALSE)","v":"D100"},{"$f":"+VLOOKUP(K32,武器!$B$16:$P$200,3,FALSE)+VLOOKUP(J32,武器!$B$4:$J$9,3,FALSE)","v":300},{"$f":"+VLOOKUP(K32,武器!$B$20:$J$200,5,FALSE)+VLOOKUP(N32,武器!$B$12:$J$17,5,FALSE)","v":100},{"$f":"IF(VLOOKUP(K32,武器!$B$20:$J$200,8,FALSE)=0,0,IF(VLOOKUP(K32,武器!$B$20:$J$200,8,FALSE)+VLOOKUP(J32,武器!$B$4:$J$9,8,FALSE)<1,1,VLOOKUP(K32,武器!$B$20:$J$200,8,FALSE)+VLOOKUP(J32,武器!$B$4:$J$9,8,FALSE)))","v":10},null,"1回前",0,"なし",{"$f":"VLOOKUP(VLOOKUP($W32,データ!$B$17:$BB$47,51,FALSE),データ!$A$65:$B$70,2,FALSE)","v":"　"},null,{"$f":"IF(X32=\"　\",\"\",IF(VLOOKUP($W32,データ!$B$17:$BB$47,53,FALSE)=2,MIN(36,V32),MIN(36,VLOOKUP($V32,経験値!$B$4:$J$53,VLOOKUP($W32,データ!$B$17:$BB$47,51,FALSE)+5,FALSE))))","v":""},{"$f":"VLOOKUP(VLOOKUP($W32,データ!$B$17:$BB$47,52,FALSE),データ!$A$65:$B$70,2,FALSE)","v":"　"},null,{"$f":"IF(AA32=\"　\",\"\",IF(VLOOKUP($W32,データ!$B$17:$BB$47,53,FALSE)=2,MIN(36,V32),MIN(36,VLOOKUP($V32,経験値!$B$4:$J$53,VLOOKUP($W32,データ!$B$17:$BB$47,52,FALSE)+5,FALSE))))","v":""},null,{"$f":"IF(AG$6=0,0,IF(AL$6=0,VLOOKUP($L$10,データ!$B$4:$AF$13,21,FALSE)+VLOOKUP(AG$7,データ!$B$17:$AF$46,21,FALSE),0))","v":90},null,{"$f":"+MAX(AH32,AL32)","v":10},{"$f":"IF(AG$7=\"ハイ・ウォーリアー\",MIN(30,AG$6*3),IF(AG$7=\"フェンサー\",MIN(30,AG$6*3),MIN(10,AG$6)))","v":10},null,{"$f":"IF(AL$6=0,0,IF(AQ$6=0,VLOOKUP($L$10,データ!$B$4:$AF$13,21,FALSE)+VLOOKUP(AL$7,データ!$B$17:$AF$46,21,FALSE),0))","v":0},null,{"$f":"+MAX(AM32,AQ32)","v":0},{"$f":"IF(AL$7=\"ハイ・ウォーリアー\",MIN(30,AL$6*3),IF(AL$7=\"フェンサー\",MIN(30,AL$6*3),MIN(10,AL$6)))","v":0},null,{"$f":"IF(AQ$6=0,0,IF(AV$6=0,VLOOKUP($L$10,データ!$B$4:$AF$13,21,FALSE)+VLOOKUP(AQ$7,データ!$B$17:$AF$46,21,FALSE),0))","v":0},null,{"$f":"+MAX(AR32,AV32)","v":0},{"$f":"IF(AQ$7=\"ハイ・ウォーリアー\",MIN(30,AQ$6*3),IF(AQ$7=\"フェンサー\",MIN(30,AQ$6*3),MIN(10,AQ$6)))","v":0},null,{"$f":"IF(AV$6=0,0,IF(BA$6=0,VLOOKUP($L$10,データ!$B$4:$AF$13,21,FALSE)+VLOOKUP(AV$7,データ!$B$17:$AF$46,21,FALSE),0))","v":0},null,{"$f":"+MAX(AW32,BA32)","v":0},{"$f":"IF(AV$7=\"ハイ・ウォーリアー\",MIN(30,AV$6*3),IF(AV$7=\"フェンサー\",MIN(30,AV$6*3),MIN(10,AV$6)))","v":0},null,{"$f":"IF(BA$6=0,0,IF(BF$6=0,VLOOKUP($L$10,データ!$B$4:$AF$13,21,FALSE)+VLOOKUP(BA$7,データ!$B$17:$AF$46,21,FALSE),0))","v":0},null,{"$f":"+MAX(BB32,BF32)","v":0},{"$f":"IF(BA$7=\"ハイ・ウォーリアー\",MIN(30,BA$6*3),IF(BA$7=\"フェンサー\",MIN(30,BA$6*3),MIN(10,BA$6)))","v":0},null,{"$f":"IF(BF$6=0,0,IF(BJ$6=0,VLOOKUP($L$10,データ!$B$4:$AF$13,21,FALSE)+VLOOKUP(BF$7,データ!$B$17:$AF$46,21,FALSE),0))","v":0},null,{"$f":"+MAX(BG32,BJ32)","v":0},{"$f":"IF(BF$7=\"ハイ・ウォーリアー\",MIN(30,BF$6*3),IF(BF$7=\"フェンサー\",MIN(30,BF$6*3),MIN(10,BF$6)))","v":0}]
[null,null,null,null,null,null,null,null,"武器2","　","素手（神）",null,null,"　","攻撃力",{"$f":"+VLOOKUP(K33,武器!$B$16:$P$200,2,FALSE)","v":"D100"},{"$f":"+VLOOKUP(K33,武器!$B$16:$P$200,3,FALSE)+VLOOKUP(J33,武器!$B$4:$J$9,3,FALSE)","v":200},{"$f":"+VLOOKUP(K33,武器!$B$20:$J$200,5,FALSE)+VLOOKUP(N33,武器!$B$12:$J$17,5,FALSE)","v":0},{"$f":"IF(VLOOKUP(K33,武器!$B$20:$J$200,8,FALSE)=0,0,IF(VLOOKUP(K33,武器!$B$20:$J$200,8,FALSE)+VLOOKUP(J33,武器!$B$4:$J$9,8,FALSE)<1,1,VLOOKUP(K33,武器!$B$20:$J$200,8,FALSE)+VLOOKUP(J33,武器!$B$4:$J$9,8,FALSE)))","v":0},null,"2回前",0,"なし",{"$f":"VLOOKUP(VLOOKUP($W33,データ!$B$17:$BB$47,51,FALSE),データ!$A$65:$B$70,2,FALSE)","v":"　"},null,{"$f":"IF(X33=\"　\",\"\",IF(VLOOKUP($W33,データ!$B$17:$BB$47,53,FALSE)=2,MIN(36,V33),MIN(36,VLOOKUP($V33,経験値!$B$4:$J$53,VLOOKUP($W33,データ!$B$17:$BB$47,51,FALSE)+5,FALSE))))","v":""},{"$f":"VLOOKUP(VLOOKUP($W33,データ!$B$17:$BB$47,52,FALSE),データ!$A$65:$B$70,2,FALSE)","v":"　"},null,{"$f":"IF(AA33=\"　\",\"\",IF(VLOOKUP($W33,データ!$B$17:$BB$47,53,FALSE)=2,MIN(36,V33),MIN(36,VLOOKUP($V33,経験値!$B$4:$J$53,VLOOKUP($W33,データ!$B$17:$BB$47,52,FALSE)+5,FALSE))))","v":""}]
[null,"斧",null,null,"斧",{"$f":"+AE34+AJ34+AO34+AT34+AY34+BD34+C34","v":90},"昏倒打",{"$f":"MAX(AG34,IF(W$38<>\"\",MIN(20,L$12*2),0))","v":0},"鎧","　","紅闇の鎧",null,null,"　","防御力",null,{"$f":"VLOOKUP(K34,防具!$B$20:$J$80,4,FALSE)+VLOOKUP(J34,防具!$B$4:$J$9,4,FALSE)","v":20},{"$f":"VLOOKUP(K34,防具!$B$20:$J$80,6,FALSE)+VLOOKUP(N34,防具!$B$12:$J$17,6,FALSE)","v":20},{"$f":"IF(VLOOKUP(K34,防具!$B$20:$J$80,8,FALSE)=0,0,IF(VLOOKUP(K34,防具!$B$20:$J$80,8,FALSE)+VLOOKUP(J34,武器!$B$4:$J$9,8,FALSE)<1,1,VLOOKUP(K34,防具!$B$20:$J$80,8,FALSE)+VLOOKUP(J34,武器!$B$4:$J$9,8,FALSE)))","v":10},null,"3回前",0,"なし",{"$f":"VLOOKUP(VLOOKUP($W34,データ!$B$17:$BB$47,51,FALSE),データ!$A$65:$B$70,2,FALSE)","v":"　"},null,{"$f":"IF(X34=\"　\",\"\",IF(VLOOKUP($W34,データ!$B$17:$BB$47,53,FALSE)=2,MIN(36,V34),MIN(36,VLOOKUP($V34,経験値!$B$4:$J$53,VLOOKUP($W34,データ!$B$17:$BB$47,51,FALSE)+5,FALSE))))","v":""},{"$f":"VLOOKUP(VLOOKUP($W34,データ!$B$17:$BB$47,52,FALSE),データ!$A$65:$B$70,2,FALSE)","v":"　"},null,{"$f":"IF(AA34=\"　\",\"\",IF(VLOOKUP($W34,データ!$B$17:$BB$47,53,FALSE)=2,MIN(36,V34),MIN(36,VLOOKUP($V34,経験値!$B$4:$J$53,VLOOKUP($W34,データ!$B$17:$BB$47,52,FALSE)+5,FALSE))))","v":""},null,{"$f":"IF(AG$6=0,0,IF(AL$6=0,VLOOKUP($L$10,データ!$B$4:$AF$13,22,FALSE)+VLOOKUP(AG$7,データ!$B$17:$AF$46,22,FALSE),0))","v":90},null,{"$f":"+MAX(AH34,AL34)","v":0},{"$f":"IF(AG$7=\"ハイ・ウォーリアー\",MIN(20,AG$6*2),IF(AG$7=\"ファイター\",MIN(20,AG$6*2),0))","v":0},null,{"$f":"IF(AL$6=0,0,IF(AQ$6=0,VLOOKUP($L$10,データ!$B$4:$AF$13,22,FALSE)+VLOOKUP(AL$7,データ!$B$17:$AF$46,22,FALSE),0))","v":0},null,{"$f":"+MAX(AM34,AQ34)","v":0},{"$f":"IF(AL$7=\"ハイ・ウォーリアー\",MIN(20,AL$6*2),IF(AL$7=\"ファイター\",MIN(20,AL$6*2),0))","v":0},null,{"$f":"IF(AQ$6=0,0,IF(AV$6=0,VLOOKUP($L$10,データ!$B$4:$AF$13,22,FALSE)+VLOOKUP(AQ$7,データ!$B$17:$AF$46,22,FALSE),0))","v":0},null,{"$f":"+MAX(AR34,AV34)","v":0},{"$f":"IF(AQ$7=\"ハイ・ウォーリアー\",MIN(20,AQ$6*2),IF(AQ$7=\"ファイター\",MIN(20,AQ$6*2),0))","v":0},null,{"$f":"IF(AV$6=0,0,IF(BA$6=0,VLOOKUP($L$10,データ!$B$4:$AF$13,22,FALSE)+VLOOKUP(AV$7,データ!$B$17:$AF$46,22,FALSE),0))","v":0},null,{"$f":"+MAX(AW34,BA34)","v":0},{"$f":"IF(AV$7=\"ハイ・ウォーリアー\",MIN(20,AV$6*2),IF(AV$7=\"ファイター\",MIN(20,AV$6*2),0))","v":0},null,{"$f":"IF(BA$6=0,0,IF(BF$6=0,VLOOKUP($L$10,データ!$B$4:$AF$13,22,FALSE)+VLOOKUP(BA$7,データ!$B$17:$AF$46,22,FALSE),0))","v":0},null,{"$f":"+MAX(BB34,BF34)","v":0},{"$f":"IF(BA$7=\"ハイ・ウォーリアー\",MIN(20,BA$6*2),IF(BA$7=\"ファイター\",MIN(20,BA$6*2),0))","v":0},null,{"$f":"IF(BF$6=0,0,IF(BJ$6=0,VLOOKUP($L$10,データ!$B$4:$AF$13,22,FALSE)+VLOOKUP(BF$7,データ!$B$17:$AF$46,22,FALSE),0))","v":0},null,{"$f":"+MAX(BG34,BJ34)","v":0},{"$f":"IF(BF$7=\"ハイ・ウォーリアー\",MIN(20,BF$6*2),IF(BF$7=\"ファイター\",MIN(20,BF$6*2),0))","v":0}]
[null,null,null,null,null,null,null,null,"盾1","　","紅闇の盾",null,null,"　","防御力",null,{"$f":"VLOOKUP(K35,防具!$B$81:$J$138,4,FALSE)+VLOOKUP(J35,防具!$B$4:$J$9,4,FALSE)","v":20},{"$f":"VLOOKUP(K35,防具!$B$81:$J$138,6,FALSE)+VLOOKUP(N35,防具!$B$12:$J$17,6,FALSE)","v":20},{"$f":"IF(VLOOKUP(K35,防具!$B$81:$J$138,8,FALSE)=0,0,IF(VLOOKUP(K35,防具!$B$81:$J$138,8,FALSE)+VLOOKUP(J35,武器!$B$4:$J$9,8,FALSE)<1,1,VLOOKUP(K35,防具!$B$81:$J$138,8,FALSE)+VLOOKUP(J35,武器!$B$4:$J$9,8,FALSE)))","v":3},null,"4回前",0,"なし",{"$f":"VLOOKUP(VLOOKUP($W35,データ!$B$17:$BB$47,51,FALSE),データ!$A$65:$B$70,2,FALSE)","v":"　"},null,{"$f":"IF(X35=\"　\",\"\",IF(VLOOKUP($W35,データ!$B$17:$BB$47,53,FALSE)=2,MIN(36,V35),MIN(36,VLOOKUP($V35,経験値!$B$4:$J$53,VLOOKUP($W35,データ!$B$17:$BB$47,51,FALSE)+5,FALSE))))","v":""},{"$f":"VLOOKUP(VLOOKUP($W35,データ!$B$17:$BB$47,52,FALSE),データ!$A$65:$B$70,2,FALSE)","v":"　"},null,{"$f":"IF(AA35=\"　\",\"\",IF(VLOOKUP($W35,データ!$B$17:$BB$47,53,FALSE)=2,MIN(36,V35),MIN(36,VLOOKUP($V35,経験値!$B$4:$J$53,VLOOKUP($W35,データ!$B$17:$BB$47,52,FALSE)+5,FALSE))))","v":""}]
[null,"棒",null,null,"棒",{"$f":"+AE36+AJ36+AO36+AT36+AY36+BD36+C36","v":90},"致命打",{"$f":"MAX(AG36,IF(W$38<>\"\",MIN(10,L$12),0))","v":0},"盾2","　","なし",null,null,"　","防御力",null,{"$f":"VLOOKUP(K36,防具!$B$81:$J$138,4,FALSE)+VLOOKUP(J36,防具!$B$4:$J$9,4,FALSE)","v":0},{"$f":"VLOOKUP(K36,防具!$B$81:$J$138,6,FALSE)+VLOOKUP(N36,防具!$B$12:$J$17,6,FALSE)","v":0},{"$f":"IF(VLOOKUP(K36,防具!$B$81:$J$138,8,FALSE)=0,0,IF(VLOOKUP(K36,防具!$B$81:$J$138,8,FALSE)+VLOOKUP(J36,武器!$B$4:$J$9,8,FALSE)<1,1,VLOOKUP(K36,防具!$B$81:$J$138,8,FALSE)+VLOOKUP(J36,武器!$B$4:$J$9,8,FALSE)))","v":0},null,"5回前",0,"なし",{"$f":"VLOOKUP(VLOOKUP($W36,データ!$B$17:$BB$47,51,FALSE),データ!$A$65:$B$70,2,FALSE)","v":"　"},null,{"$f":"IF(X36=\"　\",\"\",IF(VLOOKUP($W36,データ!$B$17:$BB$47,53,FALSE)=2,MIN(36,V36),MIN(36,VLOOKUP($V36,経験値!$B$4:$J$53,VLOOKUP($W36,データ!$B$17:$BB$47,51,FALSE)+5,FALSE))))","v":""},{"$f":"VLOOKUP(VLOOKUP($W36,データ!$B$17:$BB$47,52,FALSE),データ!$A$65:$B$70,2,FALSE)","v":"　"},null,{"$f":"IF(AA36=\"　\",\"\",IF(VLOOKUP($W36,データ!$B$17:$BB$47,53,FALSE)=2,MIN(36,V36),MIN(36,VLOOKUP($V36,経験値!$B$4:$J$53,VLOOKUP($W36,データ!$B$17:$BB$47,52,FALSE)+5,FALSE))))","v":""},null,{"$f":"IF(AG$6=0,0,IF(AL$6=0,VLOOKUP($L$10,データ!$B$4:$AF$13,23,FALSE)+VLOOKUP(AG$7,データ!$B$17:$AF$46,23,FALSE),0))","v":90},null,{"$f":"+MAX(AH36,AL36)","v":0},{"$f":"IF(AG$7=\"ハイ・ウォーリアー\",MIN(10,AG$6),IF(AG$7=\"エクスパート\",MIN(10,AG$6),0))","v":0},null,{"$f":"IF(AL$6=0,0,IF(AQ$6=0,VLOOKUP($L$10,データ!$B$4:$AF$13,23,FALSE)+VLOOKUP(AL$7,データ!$B$17:$AF$46,23,FALSE),0))","v":0},null,{"$f":"+MAX(AM36,AQ36)","v":0},{"$f":"IF(AL$7=\"ハイ・ウォーリアー\",MIN(10,AL$6),IF(AL$7=\"エクスパート\",MIN(10,AL$6),0))","v":0},null,{"$f":"IF(AQ$6=0,0,IF(AV$6=0,VLOOKUP($L$10,データ!$B$4:$AF$13,23,FALSE)+VLOOKUP(AQ$7,データ!$B$17:$AF$46,23,FALSE),0))","v":0},null,{"$f":"+MAX(AR36,AV36)","v":0},{"$f":"IF(AQ$7=\"ハイ・ウォーリアー\",MIN(10,AQ$6),IF(AQ$7=\"エクスパート\",MIN(10,AQ$6),0))","v":0},null,{"$f":"IF(AV$6=0,0,IF(BA$6=0,VLOOKUP($L$10,データ!$B$4:$AF$13,23,FALSE)+VLOOKUP(AV$7,データ!$B$17:$AF$46,23,FALSE),0))","v":0},null,{"$f":"+MAX(AW36,BA36)","v":0},{"$f":"IF(AV$7=\"ハイ・ウォーリアー\",MIN(10,AV$6),IF(AV$7=\"エクスパート\",MIN(10,AV$6),0))","v":0},null,{"$f":"IF(BA$6=0,0,IF(BF$6=0,VLOOKUP($L$10,データ!$B$4:$AF$13,23,FALSE)+VLOOKUP(BA$7,データ!$B$17:$AF$46,23,FALSE),0))","v":0},null,{"$f":"+MAX(BB36,BF36)","v":0},{"$f":"IF(BA$7=\"ハイ・ウォーリアー\",MIN(10,BA$6),IF(BA$7=\"エクスパート\",MIN(10,BA$6),0))","v":0},null,{"$f":"IF(BF$6=0,0,IF(BJ$6=0,VLOOKUP($L$10,データ!$B$4:$AF$13,23,FALSE)+VLOOKUP(BF$7,データ!$B$17:$AF$46,23,FALSE),0))","v":0},null,{"$f":"+MAX(BG36,BJ36)","v":0},{"$f":"IF(BF$7=\"ハイ・ウォーリアー\",MIN(10,BF$6),IF(BF$7=\"エクスパート\",MIN(10,BF$6),0))","v":0}]
[null,null,null,null,null,null,null,null,"兜","　","紅闇の兜",null,null,"　","防御力",null,{"$f":"VLOOKUP(K37,防具!$B$139:$J$194,4,FALSE)+VLOOKUP(J37,防具!$B$4:$J$9,4,FALSE)","v":20},{"$f":"VLOOKUP(K37,防具!$B$139:$J$194,6,FALSE)+VLOOKUP(N37,防具!$B$12:$J$17,6,FALSE)","v":20},{"$f":"IF(VLOOKUP(K37,防具!$B$139:$J$194,8,FALSE)=0,0,IF(VLOOKUP(K37,防具!$B$139:$J$194,8,FALSE)+VLOOKUP(J37,武器!$B$4:$J$9,8,FALSE)<1,1,VLOOKUP(K37,防具!$B$139:$J$194,8,FALSE)+VLOOKUP(J37,武器!$B$4:$J$9,8,FALSE)))","v":3}]
[null,"鞭",null,null,"鞭",{"$f":"+AE38+AJ38+AO38+AT38+AY38+BD38+C38","v":90},"攻撃回数",{"$f":"MIN(4,ROUNDDOWN(F$20/50,0)+1)+MAX(AG38,IF(W$38<>\"\",1,0))","v":4},"籠手","　","紅闇の籠手",null,null,"　","防御力",null,{"$f":"VLOOKUP(K38,防具!$B$195:$J$250,4,FALSE)+VLOOKUP(J38,防具!$B$4:$J$9,4,FALSE)","v":20},{"$f":"VLOOKUP(K38,防具!$B$195:$J$250,6,FALSE)+VLOOKUP(N38,防具!$B$12:$J$17,6,FALSE)","v":20},{"$f":"IF(VLOOKUP(K38,防具!$B$195:$J$250,8,FALSE)=0,0,IF(VLOOKUP(K38,防具!$B$195:$J$250,8,FALSE)+VLOOKUP(J38,武器!$B$4:$J$9,8,FALSE)<1,1,VLOOKUP(K38,防具!$B$195:$J$250,8,FALSE)+VLOOKUP(J38,武器!$B$4:$J$9,8,FALSE)))","v":3},null,"今回：覚醒モード",null,null,null,null,null,null,null,null,null,{"$f":"IF(AG$6=0,0,IF(AL$6=0,VLOOKUP($L$10,データ!$B$4:$AF$13,24,FALSE)+VLOOKUP(AG$7,データ!$B$17:$AF$46,24,FALSE),0))","v":90},null,{"$f":"+MAX(AH38,AL38)","v":0},{"$f":"IF(AG$7=\"ハイ・ウォーリアー\",1,IF(AG$7=\"パラディン\",1,0))","v":0},null,{"$f":"IF(AL$6=0,0,IF(AQ$6=0,VLOOKUP($L$10,データ!$B$4:$AF$13,24,FALSE)+VLOOKUP(AL$7,データ!$B$17:$AF$46,24,FALSE),0))","v":0},null,{"$f":"+MAX(AM38,AQ38)","v":0},{"$f":"IF(AL$7=\"ハイ・ウォーリアー\",1,IF(AL$7=\"パラディン\",1,0))","v":0},null,{"$f":"IF(AQ$6=0,0,IF(AV$6=0,VLOOKUP($L$10,データ!$B$4:$AF$13,24,FALSE)+VLOOKUP(AQ$7,データ!$B$17:$AF$46,24,FALSE),0))","v":0},null,{"$f":"+MAX(AR38,AV38)","v":0},{"$f":"IF(AQ$7=\"ハイ・ウォーリアー\",1,IF(AQ$7=\"パラディン\",1,0))","v":0},null,{"$f":"IF(AV$6=0,0,IF(BA$6=0,VLOOKUP($L$10,データ!$B$4:$AF$13,24,FALSE)+VLOOKUP(AV$7,データ!$B$17:$AF$46,24,FALSE),0))","v":0},null,{"$f":"+MAX(AW38,BA38)","v":0},{"$f":"IF(AV$7=\"ハイ・ウォーリアー\",1,IF(AV$7=\"パラディン\",1,0))","v":0},null,{"$f":"IF(BA$6=0,0,IF(BF$6=0,VLOOKUP($L$10,データ!$B$4:$AF$13,24,FALSE)+VLOOKUP(BA$7,データ!$B$17:$AF$46,24,FALSE),0))","v":0},null,{"$f":"+MAX(BB38,BF38)","v":0},{"$f":"IF(BA$7=\"ハイ・ウォーリアー\",1,IF(BA$7=\"パラディン\",1,0))","v":0},null,{"$f":"IF(BF$6=0,0,IF(BJ$6=0,VLOOKUP($L$10,データ!$B$4:$AF$13,24,FALSE)+VLOOKUP(BF$7,データ!$B$17:$AF$46,24,FALSE),0))","v":0},null,{"$f":"+MAX(BG38,BJ38)","v":0},{"$f":"IF(BF$7=\"ハイ・ウォーリアー\",1,IF(BF$7=\"パラディン\",1,0))","v":0}]
[null,null,null,null,null,null,null,null,"靴","　","紅闇の靴",null,null,"　","防御力",null,{"$f":"VLOOKUP(K39,防具!$B$251:$J$306,4,FALSE)+VLOOKUP(J39,防具!$B$4:$J$9,4,FALSE)","v":20},{"$f":"VLOOKUP(K39,防具!$B$251:$J$306,6,FALSE)+VLOOKUP(N39,防具!$B$12:$J$17,6,FALSE)","v":20},{"$f":"IF(VLOOKUP(K39,防具!$B$251:$J$306,8,FALSE)=0,0,IF(VLOOKUP(K39,防具!$B$251:$J$306,8,FALSE)+VLOOKUP(J39,武器!$B$4:$J$9,8,FALSE)<1,1,VLOOKUP(K39,防具!$B$251:$J$306,8,FALSE)+VLOOKUP(J39,武器!$B$4:$J$9,8,FALSE)))","v":3},null,"「光の戦士」に覚醒した際の"]
[null,"槌",null,null,"槌",{"$f":"+AE40+AJ40+AO40+AT40+AY40+BD40+C40","v":90},"不意討ち",{"$f":"MIN(90,MAX(AG40,IF(W38<>\"\",ROUNDDOWN(F22/10,0)+ROUNDDOWN(F24/20,0),0)))","v":0},"その他","なし",null,null,null,null,{"$f":"+VLOOKUP($J40,防具!$B$308:$J$358,3,FALSE)","v":0},{"$f":"+VLOOKUP($J40,防具!$B$308:$J$358,4,FALSE)","v":0},{"$f":"+VLOOKUP($J40,防具!$B$308:$J$358,5,FALSE)","v":0},{"$f":"+VLOOKUP($J40,防具!$B$308:$J$358,6,FALSE)","v":0},{"$f":"+VLOOKUP($J40,防具!$B$308:$J$358,8,FALSE)","v":0},null,"能力を見る場合、",null,null,"呪文","系統","№","呪文","系統","№",null,{"$f":"IF(AG$6=0,0,IF(AL$6=0,VLOOKUP($L$10,データ!$B$4:$AF$13,25,FALSE)+VLOOKUP(AG$7,データ!$B$17:$AF$46,25,FALSE),0))","v":90},null,{"$f":"+MAX(AH40,AL40)","v":0},{"$f":"MIN(90,IF(AG$7=\"ハイ・ウォーリアー\",ROUNDDOWN(AE22/10,0)+ROUNDDOWN(AE24/20,0),IF(AG$7=\"アーチャー\",ROUNDDOWN(AE22/10,0)+ROUNDDOWN(AE24/20,0),0)))","v":0},null,{"$f":"IF(AL$6=0,0,IF(AQ$6=0,VLOOKUP($L$10,データ!$B$4:$AF$13,25,FALSE)+VLOOKUP(AL$7,データ!$B$17:$AF$46,25,FALSE),0))","v":0},null,{"$f":"+MAX(AM40,AQ40)","v":0},{"$f":"MIN(90,IF(AL$7=\"ハイ・ウォーリアー\",ROUNDDOWN(AJ22/10,0)+ROUNDDOWN(AJ24/20,0),IF(AL$7=\"アーチャー\",ROUNDDOWN(AJ22/10,0)+ROUNDDOWN(AJ24/20,0),0)))","v":0},null,{"$f":"IF(AQ$6=0,0,IF(AV$6=0,VLOOKUP($L$10,データ!$B$4:$AF$13,25,FALSE)+VLOOKUP(AQ$7,データ!$B$17:$AF$46,25,FALSE),0))","v":0},null,{"$f":"+MAX(AR40,AV40)","v":0},{"$f":"MIN(90,IF(AQ$7=\"ハイ・ウォーリアー\",ROUNDDOWN(AO22/10,0)+ROUNDDOWN(AO24/20,0),IF(AQ$7=\"アーチャー\",ROUNDDOWN(AO22/10,0)+ROUNDDOWN(AO24/20,0),0)))","v":0},null,{"$f":"IF(AV$6=0,0,IF(BA$6=0,VLOOKUP($L$10,データ!$B$4:$AF$13,25,FALSE)+VLOOKUP(AV$7,データ!$B$17:$AF$46,25,FALSE),0))","v":0},null,{"$f":"+MAX(AW40,BA40)","v":0},{"$f":"MIN(90,IF(AV$7=\"ハイ・ウォーリアー\",ROUNDDOWN(AT22/10,0)+ROUNDDOWN(AT24/20,0),IF(AV$7=\"アーチャー\",ROUNDDOWN(AT22/10,0)+ROUNDDOWN(AT24/20,0),0)))","v":0},null,{"$f":"IF(BA$6=0,0,IF(BF$6=0,VLOOKUP($L$10,データ!$B$4:$AF$13,25,FALSE)+VLOOKUP(BA$7,データ!$B$17:$AF$46,25,FALSE),0))","v":0},null,{"$f":"+MAX(BB40,BF40)","v":0},{"$f":"MIN(90,IF(BA$7=\"ハイ・ウォーリアー\",ROUNDDOWN(AY22/10,0)+ROUNDDOWN(AY24/20,0),IF(BA$7=\"アーチャー\",ROUNDDOWN(AY22/10,0)+ROUNDDOWN(AY24/20,0),0)))","v":0},null,{"$f":"IF(BF$6=0,0,IF(BJ$6=0,VLOOKUP($L$10,データ!$B$4:$AF$13,25,FALSE)+VLOOKUP(BF$7,データ!$B$17:$AF$46,25,FALSE),0))","v":0},null,{"$f":"+MAX(BG40,BJ40)","v":0},{"$f":"MIN(90,IF(BF$7=\"ハイ・ウォーリアー\",ROUNDDOWN(BD22/10,0)+ROUNDDOWN(BD24/20,0),IF(BF$7=\"アーチャー\",ROUNDDOWN(BD22/10,0)+ROUNDDOWN(BD24/20,0),0)))","v":0}]
[null,null,null,null,null,null,null,null,"その他","なし",null,null,null,null,{"$f":"+VLOOKUP($J41,防具!$B$308:$J$358,3,FALSE)","v":0},{"$f":"+VLOOKUP($J41,防具!$B$308:$J$358,4,FALSE)","v":0},{"$f":"+VLOOKUP($J41,防具!$B$308:$J$358,5,FALSE)","v":0},{"$f":"+VLOOKUP($J41,防具!$B$308:$J$358,6,FALSE)","v":0},{"$f":"+VLOOKUP($J41,防具!$B$308:$J$358,8,FALSE)","v":0},null,"「ハイ・ウォーリアー」を選択",null,null,"真正"]
[null,"槍",null,null,"槍",{"$f":"+AE42+AJ42+AO42+AT42+AY42+BD42+C42","v":90},"渾身の一撃",{"$f":"IF(W$38<>\"\",\"あり\",AG42)","v":"なし"},"その他","なし",null,null,null,null,{"$f":"+VLOOKUP($J42,防具!$B$308:$J$358,3,FALSE)","v":0},{"$f":"+VLOOKUP($J42,防具!$B$308:$J$358,4,FALSE)","v":0},{"$f":"+VLOOKUP($J42,防具!$B$308:$J$358,5,FALSE)","v":0},{"$f":"+VLOOKUP($J42,防具!$B$308:$J$358,6,FALSE)","v":0},{"$f":"+VLOOKUP($J42,防具!$B$308:$J$358,8,FALSE)","v":0},null,null,null,null,null,null,null,null,null,null,null,{"$f":"IF(AG$6=0,0,IF(AL$6=0,VLOOKUP($L$10,データ!$B$4:$AF$13,26,FALSE)+VLOOKUP(AG$7,データ!$B$17:$AF$46,26,FALSE),0))","v":90},null,{"$f":"+IF(AH42=\"あり\",\"あり\",IF(AL42=\"あり\",\"あり\",\"なし\"))","v":"なし"},{"$f":"IF(AG$7=\"ハイ・ウォーリアー\",\"あり\",IF(AG$7=\"ウォーリアー\",\"あり\",\"なし\"))","v":"なし"},null,{"$f":"IF(AL$6=0,0,IF(AQ$6=0,VLOOKUP($L$10,データ!$B$4:$AF$13,26,FALSE)+VLOOKUP(AL$7,データ!$B$17:$AF$46,26,FALSE),0))","v":0},null,{"$f":"+IF(AM42=\"あり\",\"あり\",IF(AQ42=\"あり\",\"あり\",\"なし\"))","v":"なし"},{"$f":"IF(AL$7=\"ハイ・ウォーリアー\",\"あり\",IF(AL$7=\"ウォーリアー\",\"あり\",\"なし\"))","v":"なし"},null,{"$f":"IF(AQ$6=0,0,IF(AV$6=0,VLOOKUP($L$10,データ!$B$4:$AF$13,26,FALSE)+VLOOKUP(AQ$7,データ!$B$17:$AF$46,26,FALSE),0))","v":0},null,{"$f":"+IF(AR42=\"あり\",\"あり\",IF(AV42=\"あり\",\"あり\",\"なし\"))","v":"なし"},{"$f":"IF(AQ$7=\"ハイ・ウォーリアー\",\"あり\",IF(AQ$7=\"ウォーリアー\",\"あり\",\"なし\"))","v":"なし"},null,{"$f":"IF(AV$6=0,0,IF(BA$6=0,VLOOKUP($L$10,データ!$B$4:$AF$13,26,FALSE)+VLOOKUP(AV$7,データ!$B$17:$AF$46,26,FALSE),0))","v":0},null,{"$f":"+IF(AW42=\"あり\",\"あり\",IF(BA42=\"あり\",\"あり\",\"なし\"))","v":"なし"},{"$f":"IF(AV$7=\"ハイ・ウォーリアー\",\"あり\",IF(AV$7=\"ウォーリアー\",\"あり\",\"なし\"))","v":"なし"},null,{"$f":"IF(BA$6=0,0,IF(BF$6=0,VLOOKUP($L$10,データ!$B$4:$AF$13,26,FALSE)+VLOOKUP(BA$7,データ!$B$17:$AF$46,26,FALSE),0))","v":0},null,{"$f":"+IF(BB42=\"あり\",\"あり\",IF(BF42=\"あり\",\"あり\",\"なし\"))","v":"なし"},{"$f":"IF(BA$7=\"ハイ・ウォーリアー\",\"あり\",IF(BA$7=\"ウォーリアー\",\"あり\",\"なし\"))","v":"なし"},null,{"$f":"IF(BF$6=0,0,IF(BJ$6=0,VLOOKUP($L$10,データ!$B$4:$AF$13,26,FALSE)+VLOOKUP(BF$7,データ!$B$17:$AF$46,26,FALSE),0))","v":0},null,{"$f":"+IF(BG42=\"あり\",\"あり\",IF(BJ42=\"あり\",\"あり\",\"なし\"))","v":"なし"},{"$f":"IF(BF$7=\"ハイ・ウォーリアー\",\"あり\",IF(BF$7=\"ウォーリアー\",\"あり\",\"なし\"))","v":"なし"}]
[null,null,null,null,null,null,null,null,"その他","なし",null,null,null,null,{"$f":"+VLOOKUP($J43,防具!$B$308:$J$358,3,FALSE)","v":0},{"$f":"+VLOOKUP($J43,防具!$B$308:$J$358,4,FALSE)","v":0},{"$f":"+VLOOKUP($J43,防具!$B$308:$J$358,5,FALSE)","v":0},{"$f":"+VLOOKUP($J43,防具!$B$308:$J$358,6,FALSE)","v":0},{"$f":"+VLOOKUP($J43,防具!$B$308:$J$358,8,FALSE)","v":0}]
[null,"弓矢",null,null,"弓矢",{"$f":"+AE44+AJ44+AO44+AT44+AY44+BD44+C44","v":90},"流儀",{"$f":"IF(W$38<>\"\",\"あり\",AG44)","v":"なし"},"服（普段着）",null,null,null,null,null,null,"個数：",1,null,{"$f":"+VLOOKUP(I44,アイテム!$B$4:$D$100,2,FALSE)*Q44","v":2},null,null,null,null,null,null,null,null,null,null,null,{"$f":"IF(AG$6=0,0,IF(AL$6=0,VLOOKUP($L$10,データ!$B$4:$AF$13,27,FALSE)+VLOOKUP(AG$7,データ!$B$17:$AF$46,27,FALSE),0))","v":90},null,{"$f":"+IF(AH44=\"あり\",\"あり\",IF(AL44=\"あり\",\"あり\",\"なし\"))","v":"なし"},{"$f":"IF(AG$7=\"ハイ・ウォーリアー\",\"あり\",IF(AG$7=\"ナイト\",\"あり\",\"なし\"))","v":"なし"},null,{"$f":"IF(AL$6=0,0,IF(AQ$6=0,VLOOKUP($L$10,データ!$B$4:$AF$13,27,FALSE)+VLOOKUP(AL$7,データ!$B$17:$AF$46,27,FALSE),0))","v":0},null,{"$f":"+IF(AM44=\"あり\",\"あり\",IF(AQ44=\"あり\",\"あり\",\"なし\"))","v":"なし"},{"$f":"IF(AL$7=\"ハイ・ウォーリアー\",\"あり\",IF(AL$7=\"ナイト\",\"あり\",\"なし\"))","v":"なし"},null,{"$f":"IF(AQ$6=0,0,IF(AV$6=0,VLOOKUP($L$10,データ!$B$4:$AF$13,27,FALSE)+VLOOKUP(AQ$7,データ!$B$17:$AF$46,27,FALSE),0))","v":0},null,{"$f":"+IF(AR44=\"あり\",\"あり\",IF(AV44=\"あり\",\"あり\",\"なし\"))","v":"なし"},{"$f":"IF(AQ$7=\"ハイ・ウォーリアー\",\"あり\",IF(AQ$7=\"ナイト\",\"あり\",\"なし\"))","v":"なし"},null,{"$f":"IF(AV$6=0,0,IF(BA$6=0,VLOOKUP($L$10,データ!$B$4:$AF$13,27,FALSE)+VLOOKUP(AV$7,データ!$B$17:$AF$46,27,FALSE),0))","v":0},null,{"$f":"+IF(AW44=\"あり\",\"あり\",IF(BA44=\"あり\",\"あり\",\"なし\"))","v":"なし"},{"$f":"IF(AV$7=\"ハイ・ウォーリアー\",\"あり\",IF(AV$7=\"ナイト\",\"あり\",\"なし\"))","v":"なし"},null,{"$f":"IF(BA$6=0,0,IF(BF$6=0,VLOOKUP($L$10,データ!$B$4:$AF$13,27,FALSE)+VLOOKUP(BA$7,データ!$B$17:$AF$46,27,FALSE),0))","v":0},null,{"$f":"+IF(BB44=\"あり\",\"あり\",IF(BF44=\"あり\",\"あり\",\"なし\"))","v":"なし"},{"$f":"IF(BA$7=\"ハイ・ウォーリアー\",\"あり\",IF(BA$7=\"ナイト\",\"あり\",\"なし\"))","v":"なし"},null,{"$f":"IF(BF$6=0,0,IF(BJ$6=0,VLOOKUP($L$10,データ!$B$4:$AF$13,27,FALSE)+VLOOKUP(BF$7,データ!$B$17:$AF$46,27,FALSE),0))","v":0},null,{"$f":"+IF(BG44=\"あり\",\"あり\",IF(BJ44=\"あり\",\"あり\",\"なし\"))","v":"なし"},{"$f":"IF(BF$7=\"ハイ・ウォーリアー\",\"あり\",IF(BF$7=\"ナイト\",\"あり\",\"なし\"))","v":"なし"}]
[null,null,null,null,null,null,null,null,"マント",null,null,null,null,null,null,"個数：",1,null,{"$f":"+VLOOKUP(I45,アイテム!$B$4:$D$100,2,FALSE)*Q45","v":1}]
[null,"投擲",null,null,"投擲",{"$f":"+AE46+AJ46+AO46+AT46+AY46+BD46+C46","v":90},"防御力",{"$f":"MAX(AG46,IF(W38<>\"\",L12+1000,0))","v":1000},"　",null,null,null,null,null,null,"個数：",null,null,{"$f":"+VLOOKUP(I46,アイテム!$B$4:$D$100,2,FALSE)*Q46","v":0},null,null,null,null,null,null,null,null,null,null,null,{"$f":"IF(AG$6=0,0,IF(AL$6=0,VLOOKUP($L$10,データ!$B$4:$AF$13,28,FALSE)+VLOOKUP(AG$7,データ!$B$17:$AF$46,28,FALSE),0))","v":90},null,{"$f":"+MAX(AH46,AL46)","v":1000},{"$f":"IF(AG$7=\"ハイ・ウォーリアー\",AG6,IF(AG$7=\"バトラー\",AG6,0))+IF(OR(L10=\"神\",L10=\"異世界神\"),AG6*10,0)","v":1000},null,{"$f":"IF(AL$6=0,0,IF(AQ$6=0,VLOOKUP($L$10,データ!$B$4:$AF$13,28,FALSE)+VLOOKUP(AL$7,データ!$B$17:$AF$46,28,FALSE),0))","v":0},null,{"$f":"+MAX(AM46,AQ46)","v":0},{"$f":"IF(AL$7=\"ハイ・ウォーリアー\",AL6,IF(AL$7=\"バトラー\",AL6,0))","v":0},null,{"$f":"IF(AQ$6=0,0,IF(AV$6=0,VLOOKUP($L$10,データ!$B$4:$AF$13,28,FALSE)+VLOOKUP(AQ$7,データ!$B$17:$AF$46,28,FALSE),0))","v":0},null,{"$f":"+MAX(AR46,AV46)","v":0},{"$f":"IF(AQ$7=\"ハイ・ウォーリアー\",AQ6,IF(AQ$7=\"バトラー\",AQ6,0))","v":0},null,{"$f":"IF(AV$6=0,0,IF(BA$6=0,VLOOKUP($L$10,データ!$B$4:$AF$13,28,FALSE)+VLOOKUP(AV$7,データ!$B$17:$AF$46,28,FALSE),0))","v":0},null,{"$f":"+MAX(AW46,BA46)","v":0},{"$f":"IF(AV$7=\"ハイ・ウォーリアー\",AV6,IF(AV$7=\"バトラー\",AV6,0))","v":0},null,{"$f":"IF(BA$6=0,0,IF(BF$6=0,VLOOKUP($L$10,データ!$B$4:$AF$13,28,FALSE)+VLOOKUP(BA$7,データ!$B$17:$AF$46,28,FALSE),0))","v":0},null,{"$f":"+MAX(BB46,BF46)","v":0},{"$f":"IF(BA$7=\"ハイ・ウォーリアー\",BA6,IF(BA$7=\"バトラー\",BA6,0))","v":0},null,{"$f":"IF(BF$6=0,0,IF(BJ$6=0,VLOOKUP($L$10,データ!$B$4:$AF$13,28,FALSE)+VLOOKUP(BF$7,データ!$B$17:$AF$46,28,FALSE),0))","v":0},null,{"$f":"+MAX(BG46,BJ46)","v":0},{"$f":"IF(BF$7=\"ハイ・ウォーリアー\",BF6,IF(BF$7=\"バトラー\",BF6,0))","v":0}]
[null,null,null,null,null,null,null,null,"　",null,null,null,null,null,null,"個数：",null,null,{"$f":"+VLOOKUP(I47,アイテム!$B$4:$D$100,2,FALSE)*Q47","v":0},null,null,null,null,{"$f":"IF(AC54<>0,IF(AC54<37,\"空系精霊魔術は37～72\",\"\"),\"\")","v":""}]
[null,"格闘",null,null,"格闘",{"$f":"+AE48+AJ48+AO48+AT48+AY48+BD48+C48","v":90},"移動力",{"$f":"ROUNDDOWN(F$20/50,0)+2+MAX(AG48,IF(W38<>\"\",1,0))","v":206},"　",null,null,null,null,null,null,"個数：",null,null,{"$f":"+VLOOKUP(I48,アイテム!$B$4:$D$100,2,FALSE)*Q48","v":0},null,null,null,null,null,null,null,null,null,null,null,{"$f":"IF(AG$6=0,0,IF(AL$6=0,VLOOKUP($L$10,データ!$B$4:$AF$13,29,FALSE)+VLOOKUP(AG$7,データ!$B$17:$AF$46,29,FALSE),0))","v":90},null,{"$f":"+MAX(AH48,AL48)","v":0},{"$f":"IF(AG$7=\"ハイ・ウォーリアー\",1,IF(AG$7=\"ランサー\",1,0))","v":0},null,{"$f":"IF(AL$6=0,0,IF(AQ$6=0,VLOOKUP($L$10,データ!$B$4:$AF$13,29,FALSE)+VLOOKUP(AL$7,データ!$B$17:$AF$46,29,FALSE),0))","v":0},null,{"$f":"+MAX(AM48,AQ48)","v":0},{"$f":"IF(AL$7=\"ハイ・ウォーリアー\",1,IF(AL$7=\"ランサー\",1,0))","v":0},null,{"$f":"IF(AQ$6=0,0,IF(AV$6=0,VLOOKUP($L$10,データ!$B$4:$AF$13,29,FALSE)+VLOOKUP(AQ$7,データ!$B$17:$AF$46,29,FALSE),0))","v":0},null,{"$f":"+MAX(AR48,AV48)","v":0},{"$f":"IF(AQ$7=\"ハイ・ウォーリアー\",1,IF(AQ$7=\"ランサー\",1,0))","v":0},null,{"$f":"IF(AV$6=0,0,IF(BA$6=0,VLOOKUP($L$10,データ!$B$4:$AF$13,29,FALSE)+VLOOKUP(AV$7,データ!$B$17:$AF$46,29,FALSE),0))","v":0},null,{"$f":"+MAX(AW48,BA48)","v":0},{"$f":"IF(AV$7=\"ハイ・ウォーリアー\",1,IF(AV$7=\"ランサー\",1,0))","v":0},null,{"$f":"IF(BA$6=0,0,IF(BF$6=0,VLOOKUP($L$10,データ!$B$4:$AF$13,29,FALSE)+VLOOKUP(BA$7,データ!$B$17:$AF$46,29,FALSE),0))","v":0},null,{"$f":"+MAX(BB48,BF48)","v":0},{"$f":"IF(BA$7=\"ハイ・ウォーリアー\",1,IF(BA$7=\"ランサー\",1,0))","v":0},null,{"$f":"IF(BF$6=0,0,IF(BJ$6=0,VLOOKUP($L$10,データ!$B$4:$AF$13,29,FALSE)+VLOOKUP(BF$7,データ!$B$17:$AF$46,29,FALSE),0))","v":0},null,{"$f":"+MAX(BG48,BJ48)","v":0},{"$f":"IF(BF$7=\"ハイ・ウォーリアー\",1,IF(BF$7=\"ランサー\",1,0))","v":0}]
[null,null,null,null,null,null,null,null,"　",null,null,null,null,null,null,"個数：",null,null,{"$f":"+VLOOKUP(I49,アイテム!$B$4:$D$100,2,FALSE)*Q49","v":0},null,"アルデリア共通語",null,null,{"$f":"IF(W49=\"習得\",U49&\" \",\"\")","v":""},null,null,"習得呪文一覧"]
[null,"盾",null,null,"盾",{"$f":"+AE50+AJ50+AO50+AT50+AY50+BD50+C50","v":90},"敵判別",{"$f":"MAX(AG50,IF(W38<>\"\",MIN(90,H13+50),MIN(90,H13)))","v":90},"　",null,null,null,null,null,null,"個数：",null,null,{"$f":"+VLOOKUP(I50,アイテム!$B$4:$D$100,2,FALSE)*Q50","v":0},null,"フィノス語",null,null,{"$f":"IF(W50=\"習得\",U50&\" \",\"\")","v":""},null,null,"精霊","地",{"$f":"IF(AC$54>36,36,データ!C75)","v":0},null,{"$f":"IF(AG$6=0,0,IF(AL$6=0,VLOOKUP($L$10,データ!$B$4:$AF$13,30,FALSE)+VLOOKUP(AG$7,データ!$B$17:$AF$46,30,FALSE),0))","v":90},null,{"$f":"+MAX(AH50,AL50)","v":90},{"$f":"IF(AG$7=\"ハイ・ウォーリアー\",MIN(90,ROUNDDOWN(AE12/5,0)+50),IF(AG$7=\"ウォーロック\",MIN(90,ROUNDDOWN(AE12/5,0)+50),MIN(90,ROUNDDOWN(AE12/5,0))))","v":90},null,{"$f":"IF(AL$6=0,0,IF(AQ$6=0,VLOOKUP($L$10,データ!$B$4:$AF$13,30,FALSE)+VLOOKUP(AL$7,データ!$B$17:$AF$46,30,FALSE),0))","v":0},null,{"$f":"+MAX(AM50,AQ50)","v":0},{"$f":"IF(AL$7=\"ハイ・ウォーリアー\",MIN(90,ROUNDDOWN(AJ12/5,0)+50),IF(AL$7=\"ウォーロック\",MIN(90,ROUNDDOWN(AJ12/5,0)+50),MIN(90,ROUNDDOWN(AJ12/5,0))))","v":0},null,{"$f":"IF(AQ$6=0,0,IF(AV$6=0,VLOOKUP($L$10,データ!$B$4:$AF$13,30,FALSE)+VLOOKUP(AQ$7,データ!$B$17:$AF$46,30,FALSE),0))","v":0},null,{"$f":"+MAX(AR50,AV50)","v":0},{"$f":"IF(AQ$7=\"ハイ・ウォーリアー\",MIN(90,ROUNDDOWN(AO12/5,0)+50),IF(AQ$7=\"ウォーロック\",MIN(90,ROUNDDOWN(AO12/5,0)+50),MIN(90,ROUNDDOWN(AO12/5,0))))","v":0},null,{"$f":"IF(AV$6=0,0,IF(BA$6=0,VLOOKUP($L$10,データ!$B$4:$AF$13,30,FALSE)+VLOOKUP(AV$7,データ!$B$17:$AF$46,30,FALSE),0))","v":0},null,{"$f":"+MAX(AW50,BA50)","v":0},{"$f":"IF(AV$7=\"ハイ・ウォーリアー\",MIN(90,ROUNDDOWN(AT12/5,0)+50),IF(AV$7=\"ウォーロック\",MIN(90,ROUNDDOWN(AT12/5,0)+50),MIN(90,ROUNDDOWN(AT12/5,0))))","v":0},null,{"$f":"IF(BA$6=0,0,IF(BF$6=0,VLOOKUP($L$10,データ!$B$4:$AF$13,30,FALSE)+VLOOKUP(BA$7,データ!$B$17:$AF$46,30,FALSE),0))","v":0},null,{"$f":"+MAX(BB50,BF50)","v":0},{"$f":"IF(BA$7=\"ハイ・ウォーリアー\",MIN(90,ROUNDDOWN(AY12/5,0)+50),IF(BA$7=\"ウォーロック\",MIN(90,ROUNDDOWN(AY12/5,0)+50),MIN(90,ROUNDDOWN(AY12/5,0))))","v":0},null,{"$f":"IF(BF$6=0,0,IF(BJ$6=0,VLOOKUP($L$10,データ!$B$4:$AF$13,30,FALSE)+VLOOKUP(BF$7,データ!$B$17:$AF$46,30,FALSE),0))","v":0},null,{"$f":"+MAX(BG50,BJ50)","v":0},{"$f":"IF(BF$7=\"ハイ・ウォーリアー\",MIN(90,ROUNDDOWN(BD12/5,0)+50),IF(BF$7=\"ウォーロック\",MIN(90,ROUNDDOWN(BD12/5,0)+50),MIN(90,ROUNDDOWN(BD12/5,0))))","v":0}]
[null,null,null,null,null,null,null,null,"　",null,null,null,null,null,null,"個数：",null,null,{"$f":"+VLOOKUP(I51,アイテム!$B$4:$D$100,2,FALSE)*Q51","v":0},null,"エンティシア語",null,null,"",null,null,null,"水",{"$f":"IF(AC$54>36,36,データ!C76)","v":0}]
[null,null,null,null,{"$f":"B52","v":0},{"$f":"+AE52+AJ52+AO52+AT52+AY52+BD52+C52","v":90},"抵抗力\n（毒等）",{"$f":"MAX(AG52,IF(W38<>\"\",20,0))","v":0},"　",null,null,null,null,null,null,"個数：",null,null,{"$f":"+VLOOKUP(I52,アイテム!$B$4:$D$100,2,FALSE)*Q52","v":0},null,"アリミア語",null,null,"",null,null,null,"火",{"$f":"IF(AC$54>36,36,データ!C77)","v":0},null,{"$f":"IF(AG$6=0,0,IF(AL$6=0,VLOOKUP($L$10,データ!$B$4:$AF$13,31,FALSE)+VLOOKUP(AG$7,データ!$B$17:$AF$46,31,FALSE),0))","v":90},null,{"$f":"+MAX(AH52,AL52)","v":0},{"$f":"IF(AG$7=\"ハイ・ウォーリアー\",20,IF(AG$7=\"ソーサラー\",20,0))","v":0},null,{"$f":"IF(AL$6=0,0,IF(AQ$6=0,VLOOKUP($L$10,データ!$B$4:$AF$13,31,FALSE)+VLOOKUP(AL$7,データ!$B$17:$AF$46,31,FALSE),0))","v":0},null,{"$f":"+MAX(AM52,AQ52)","v":0},{"$f":"IF(AL$7=\"ハイ・ウォーリアー\",20,IF(AL$7=\"ソーサラー\",20,0))","v":0},null,{"$f":"IF(AQ$6=0,0,IF(AV$6=0,VLOOKUP($L$10,データ!$B$4:$AF$13,31,FALSE)+VLOOKUP(AQ$7,データ!$B$17:$AF$46,31,FALSE),0))","v":0},null,{"$f":"+MAX(AR52,AV52)","v":0},{"$f":"IF(AQ$7=\"ハイ・ウォーリアー\",20,IF(AQ$7=\"ソーサラー\",20,0))","v":0},null,{"$f":"IF(AV$6=0,0,IF(BA$6=0,VLOOKUP($L$10,データ!$B$4:$AF$13,31,FALSE)+VLOOKUP(AV$7,データ!$B$17:$AF$46,31,FALSE),0))","v":0},null,{"$f":"+MAX(AW52,BA52)","v":0},{"$f":"IF(AV$7=\"ハイ・ウォーリアー\",20,IF(AV$7=\"ソーサラー\",20,0))","v":0},null,{"$f":"IF(BA$6=0,0,IF(BF$6=0,VLOOKUP($L$10,データ!$B$4:$AF$13,31,FALSE)+VLOOKUP(BA$7,データ!$B$17:$AF$46,31,FALSE),0))","v":0},null,{"$f":"+MAX(BB52,BF52)","v":0},{"$f":"IF(BA$7=\"ハイ・ウォーリアー\",20,IF(BA$7=\"ソーサラー\",20,0))","v":0},null,{"$f":"IF(BF$6=0,0,IF(BJ$6=0,VLOOKUP($L$10,データ!$B$4:$AF$13,31,FALSE)+VLOOKUP(BF$7,データ!$B$17:$AF$46,31,FALSE),0))","v":0},null,{"$f":"+MAX(BG52,BJ52)","v":0},{"$f":"IF(BF$7=\"ハイ・ウォーリアー\",20,IF(BF$7=\"ソーサラー\",20,0))","v":0}]
[null,null,null,null,null,null,null,null,"　",null,null,null,null,null,null,"個数：",null,null,{"$f":"+VLOOKUP(I53,アイテム!$B$4:$D$100,2,FALSE)*Q53","v":0},null,"ワーデンハルト語",null,null,"",null,null,null,"風",{"$f":"IF(AC$54>36,36,データ!C78)","v":0}]
[null,null,null,null,{"$f":"B54","v":0},{"$f":"+AE54+AJ54+AO54+AT54+AY54+BD54+C54","v":0},"抵抗力\n（魔法）",{"$f":"MAX(AG54,IF(W38<>\"\",20,0))","v":0},"所持金",60529,null,null,"GP",null,null,null,null,null,{"$f":"+ROUNDDOWN(J54/100,1)","v":605.20000000000005},null,"サウザシア語",null,null,"",null,null,null,"空",{"$f":"+データ!C79","v":0},null,null,null,{"$f":"+MAX(AH54,AL54)","v":0},{"$f":"IF(AG$7=\"ハイ・ウォーリアー\",20,IF(AG$7=\"クレリック\",20,0))","v":0},null,null,null,{"$f":"+MAX(AM54,AQ54)","v":0},{"$f":"IF(AL$7=\"ハイ・ウォーリアー\",20,IF(AL$7=\"クレリック\",20,0))","v":0},null,null,null,{"$f":"+MAX(AR54,AV54)","v":0},{"$f":"IF(AQ$7=\"ハイ・ウォーリアー\",20,IF(AQ$7=\"クレリック\",20,0))","v":0},null,null,null,{"$f":"+MAX(AW54,BA54)","v":0},{"$f":"IF(AV$7=\"ハイ・ウォーリアー\",20,IF(AV$7=\"クレリック\",20,0))","v":0},null,null,null,{"$f":"+MAX(BB54,BF54)","v":0},{"$f":"IF(BA$7=\"ハイ・ウォーリアー\",20,IF(BA$7=\"クレリック\",20,0))","v":0},null,null,null,{"$f":"+MAX(BG54,BJ54)","v":0},{"$f":"IF(BF$7=\"ハイ・ウォーリアー\",20,IF(BF$7=\"クレリック\",20,0))","v":0}]
[null,null,null,null,null,null,null,null,"総重量",null,null,null,null,null,null,null,null,null,{"$f":"+SUM(S32:S54)","v":640.20000000000005},null,"ファイデルシア語",null,null,"",null,null,"神聖","オーゼス",{"$f":"+データ!C81","v":0}]
[null,null,null,null,{"$f":"B56","v":0},{"$f":"+AE56+AJ56+AO56+AT56+AY56+BD56+C56","v":0},"解呪",{"$f":"MIN(90,MAX(AG56,IF(W$38<>\"\",ROUNDDOWN(F$14/5,0),0)))","v":0},"独自の技・術",null,null,null,null,null,null,null,null,null,null,null,"ヴァリアンティア共通語",null,null,"",null,null,null,"キャロライン",{"$f":"IF(AC$55>36,36,データ!C82)","v":0},null,null,null,{"$f":"+MAX(AH56,AL56)","v":0},{"$f":"MIN(90,IF(AG$7=\"ハイ・ウォーリアー\",ROUNDDOWN(AE14/5,0),IF(AG$7=\"セイント\",ROUNDDOWN(AE14/5,0),0)))","v":0},null,null,null,{"$f":"+MAX(AM56,AQ56)","v":0},{"$f":"MIN(90,IF(AL$7=\"ハイ・ウォーリアー\",ROUNDDOWN(AJ14/5,0),IF(AL$7=\"セイント\",ROUNDDOWN(AJ14/5,0),0)))","v":0},null,null,null,{"$f":"+MAX(AR56,AV56)","v":0},{"$f":"MIN(90,IF(AQ$7=\"ハイ・ウォーリアー\",ROUNDDOWN(AO14/5,0),IF(AQ$7=\"セイント\",ROUNDDOWN(AO14/5,0),0)))","v":0},null,null,null,{"$f":"+MAX(AW56,BA56)","v":0},{"$f":"MIN(90,IF(AV$7=\"ハイ・ウォーリアー\",ROUNDDOWN(AT14/5,0),IF(AV$7=\"セイント\",ROUNDDOWN(AT14/5,0),0)))","v":0},null,null,null,{"$f":"+MAX(BB56,BF56)","v":0},{"$f":"MIN(90,IF(BA$7=\"ハイ・ウォーリアー\",ROUNDDOWN(AY14/5,0),IF(BA$7=\"セイント\",ROUNDDOWN(AY14/5,0),0)))","v":0},null,null,null,{"$f":"+MAX(BG56,BJ56)","v":0},{"$f":"MIN(90,IF(BF$7=\"ハイ・ウォーリアー\",ROUNDDOWN(BD14/5,0),IF(BF$7=\"セイント\",ROUNDDOWN(BD14/5,0),0)))","v":0}]
[null,null,null,null,null,null,null,null,null,null,null,null,null,null,null,null,null,null,null,null,"エルフ語",null,null,"",null,null,null,"ゼイバラル",{"$f":"IF(AC$55>36,36,データ!C83)","v":0}]
[null,null,null,null,{"$f":"B58","v":0},{"$f":"+AE58+AJ58+AO58+AT58+AY58+BD58+C58","v":0},"ディスペル",{"$f":"MIN(90,MAX(AG58,IF(W$38<>\"\",ROUNDDOWN(F$14/5,0),0)))","v":0},null,null,null,null,null,null,null,null,null,null,null,null,"ドワーフ語",null,null,"",null,null,null,"セフィーア",{"$f":"IF(AC$55>36,36,データ!C84)","v":0},null,null,null,{"$f":"+MAX(AH58,AL58)","v":0},{"$f":"MIN(90,IF(AG$7=\"ハイ・ウォーリアー\",ROUNDDOWN(AE14/5,0),IF(AG$7=\"ビショップ\",ROUNDDOWN(AE14/5,0),0)))","v":0},null,null,null,{"$f":"+MAX(AM58,AQ58)","v":0},{"$f":"MIN(90,IF(AL$7=\"ハイ・ウォーリアー\",ROUNDDOWN(AJ14/5,0),IF(AL$7=\"ビショップ\",ROUNDDOWN(AJ14/5,0),0)))","v":0},null,null,null,{"$f":"+MAX(AR58,AV58)","v":0},{"$f":"MIN(90,IF(AQ$7=\"ハイ・ウォーリアー\",ROUNDDOWN(AO14/5,0),IF(AQ$7=\"ビショップ\",ROUNDDOWN(AO14/5,0),0)))","v":0},null,null,null,{"$f":"+MAX(AW58,BA58)","v":0},{"$f":"MIN(90,IF(AV$7=\"ハイ・ウォーリアー\",ROUNDDOWN(AT14/5,0),IF(AV$7=\"ビショップ\",ROUNDDOWN(AT14/5,0),0)))","v":0},null,null,null,{"$f":"+MAX(BB58,BF58)","v":0},{"$f":"MIN(90,IF(BA$7=\"ハイ・ウォーリアー\",ROUNDDOWN(AY14/5,0),IF(BA$7=\"ビショップ\",ROUNDDOWN(AY14/5,0),0)))","v":0},null,null,null,{"$f":"+MAX(BG58,BJ58)","v":0},{"$f":"MIN(90,IF(BF$7=\"ハイ・ウォーリアー\",ROUNDDOWN(BD14/5,0),IF(BF$7=\"ビショップ\",ROUNDDOWN(BD14/5,0),0)))","v":0}]
[null,null,null,null,null,null,null,null,null,null,null,null,null,null,null,null,null,null,null,null,"ミナンスロープ語",null,null,"",null,null,"精神","デュランド",{"$f":"+データ!C86","v":0}]
[null,null,null,null,{"$f":"B60","v":0},{"$f":"+AE60+AJ60+AO60+AT60+AY60+BD60+C60","v":0},"鑑定",{"$f":"MAX(AG60,MIN(90,IF(W38<>\"\",G12*3,0)))","v":0},null,null,null,null,null,null,null,null,null,null,null,null,"竜語",null,null,"",null,null,null,"ヴィラスケイズ",{"$f":"IF(AC$59>36,36,データ!C87)","v":0},null,null,null,{"$f":"+MAX(AH60,AL60)","v":0},{"$f":"IF(AG$7=\"ハイ・ウォーリアー\",AG12*3,IF(AG$7=\"セイジ\",AG12*3,0))","v":0},null,null,null,{"$f":"+MAX(AM60,AQ60)","v":0},{"$f":"IF(AL$7=\"ハイ・ウォーリアー\",AL12*3,IF(AL$7=\"セイジ\",AL12*3,0))","v":0},null,null,null,{"$f":"+MAX(AR60,AV60)","v":0},{"$f":"IF(AQ$7=\"ハイ・ウォーリアー\",AQ12*3,IF(AQ$7=\"セイジ\",AQ12*3,0))","v":0},null,null,null,{"$f":"+MAX(AW60,BA60)","v":0},{"$f":"IF(AV$7=\"ハイ・ウォーリアー\",AV12*3,IF(AV$7=\"セイジ\",AV12*3,0))","v":0},null,null,null,{"$f":"+MAX(BB60,BF60)","v":0},{"$f":"IF(BA$7=\"ハイ・ウォーリアー\",BA12*3,IF(BA$7=\"セイジ\",BA12*3,0))","v":0},null,null,null,{"$f":"+MAX(BG60,BJ60)","v":0},{"$f":"IF(BF$7=\"ハイ・ウォーリアー\",BF12*3,IF(BF$7=\"セイジ\",BF12*3,0))","v":0}]
[null,null,null,null,null,null,null,null,null,null,null,null,null,null,null,null,null,null,null,null,"妖精語",null,null,"",null,null,null,"フォルカーク",{"$f":"IF(AC$59>36,36,データ!C88)","v":0}]
[null,null,null,null,{"$f":"B62","v":0},{"$f":"+AE62+AJ62+AO62+AT62+AY62+BD62+C62","v":0},"罠判別",{"$f":"MAX(AG62,IF(W$38<>\"\",MIN(90,G$12*5),0))","v":3087},"プロフィール",null,null,null,null,null,null,null,null,null,null,null,"鬼族語",null,null,"",null,null,null,"マトロック",{"$f":"IF(AC$59>36,36,データ!C89)","v":0},null,null,null,{"$f":"+MAX(AH62,AL62)","v":3087},{"$f":"IF(AG$7=\"ハイ・ウォーリアー\",AG$12*5,IF(AG$7=\"ハーミット\",AG$12*5,AG$12*3))","v":3087},null,null,null,{"$f":"+MAX(AM62,AQ62)","v":0},{"$f":"IF(AL$7=\"ハイ・ウォーリアー\",AL$12*5,IF(AL$7=\"ハーミット\",AL$12*5,AL$12*3))","v":0},null,null,null,{"$f":"+MAX(AR62,AV62)","v":0},{"$f":"IF(AQ$7=\"ハイ・ウォーリアー\",AQ$12*5,IF(AQ$7=\"ハーミット\",AQ$12*5,AQ$12*3))","v":0},null,null,null,{"$f":"+MAX(AW62,BA62)","v":0},{"$f":"IF(AV$7=\"ハイ・ウォーリアー\",AV$12*5,IF(AV$7=\"ハーミット\",AV$12*5,AV$12*3))","v":0},null,null,null,{"$f":"+MAX(BB62,BF62)","v":0},{"$f":"IF(BA$7=\"ハイ・ウォーリアー\",BA$12*5,IF(BA$7=\"ハーミット\",BA$12*5,BA$12*3))","v":0},null,null,null,{"$f":"+MAX(BG62,BJ62)","v":0},{"$f":"IF(BF$7=\"ハイ・ウォーリアー\",BF$12*5,IF(BF$7=\"ハーミット\",BF$12*5,BF$12*3))","v":0}]
[null,null,null,null,null,null,null,null,"「世界」を司る「リベの六大神」のうちで、最強の身体能力を持つと言われる存在。激しい闘志を秘めているが、その言動は理性的。普段は「魔眼」と呼ばれる左目を閉じており、この状態時には全能力値が本シートの半分になっている。かつて、全能力を解放した状態で「運命の戦士」バートラムに敗れており、強い戦士を多く擁するこの世界に興味を持っている。",null,null,null,null,null,null,null,null,null,null,null,"魔族語",null,null,"",null,null,"暗黒","ダルシンド",{"$f":"+データ!C91","v":0}]
[null,null,null,null,{"$f":"B64","v":0},{"$f":"+AE64+AJ64+AO64+AT64+AY64+BD64+C64","v":0},"罠解除",{"$f":"MAX(AG64,IF(W$38<>\"\",MIN(90,G$12*5),0))","v":1029},null,null,null,null,null,null,null,null,null,null,null,null,"巨人語",null,null,"",null,null,null,"ガルグ",{"$f":"IF(AC$63>36,36,データ!C92)","v":0},null,null,null,{"$f":"+MAX(AH64,AL64)","v":1029},{"$f":"IF(AG$7=\"ハイ・ウォーリアー\",AG$12*5,IF(AG$7=\"モンク\",AG$12*5,AG$12))","v":1029},null,null,null,{"$f":"+MAX(AM64,AQ64)","v":0},{"$f":"IF(AL$7=\"ハイ・ウォーリアー\",AL$12*5,IF(AL$7=\"モンク\",AL$12*5,AL$12))","v":0},null,null,null,{"$f":"+MAX(AR64,AV64)","v":0},{"$f":"IF(AQ$7=\"ハイ・ウォーリアー\",AQ$12*5,IF(AQ$7=\"モンク\",AQ$12*5,AQ$12))","v":0},null,null,null,{"$f":"+MAX(AW64,BA64)","v":0},{"$f":"IF(AV$7=\"ハイ・ウォーリアー\",AV$12*5,IF(AV$7=\"モンク\",AV$12*5,AV$12))","v":0},null,null,null,{"$f":"+MAX(BB64,BF64)","v":0},{"$f":"IF(BA$7=\"ハイ・ウォーリアー\",BA$12*5,IF(BA$7=\"モンク\",BA$12*5,BA$12))","v":0},null,null,null,{"$f":"+MAX(BG64,BJ64)","v":0},{"$f":"IF(BF$7=\"ハイ・ウォーリアー\",BF$12*5,IF(BF$7=\"モンク\",BF$12*5,BF$12))","v":0}]
[null,null,null,null,null,null,null,null,null,null,null,null,null,null,null,null,null,null,null,null,"リザードマン語",null,null,"",null,null,null,"エル＝ディノルド",{"$f":"IF(AC$63>36,36,データ!C93)","v":0}]
[null,"使用\nポイント",{"$f":"+COUNTA(B53:B65)*90+SUM(C32:C65)","v":0},null,"技能\nポイント",{"$f":"+AE66+AJ66+AO66+AT66+AY66+BD66-C66","v":4988},"偵察",{"$f":"MAX(AG66,IF(W$38<>\"\",MIN(90,G$12*4),0))","v":1029},null,null,null,null,null,null,null,null,null,null,null,null,"精霊語",null,null,"",null,null,null,"ティルミリア",{"$f":"IF(AC$63>36,36,データ!C94)","v":0},null,{"$f":"+AF66","v":4988},4988,{"$f":"+MAX(AH66,AL66)","v":1029},{"$f":"IF(AG$7=\"ハイ・ウォーリアー\",AG$12*4,IF(AG$7=\"ドルイド\",AG$12*4,AG$12))","v":1029},null,{"$f":"+AK66","v":0},null,{"$f":"+MAX(AM66,AQ66)","v":0},{"$f":"IF(AL$7=\"ハイ・ウォーリアー\",AL$12*4,IF(AL$7=\"ドルイド\",AL$12*4,AL$12))","v":0},null,{"$f":"+AP66","v":0},null,{"$f":"+MAX(AR66,AV66)","v":0},{"$f":"IF(AQ$7=\"ハイ・ウォーリアー\",AQ$12*4,IF(AQ$7=\"ドルイド\",AQ$12*4,AQ$12))","v":0},null,{"$f":"+AU66","v":0},null,{"$f":"+MAX(AW66,BA66)","v":0},{"$f":"IF(AV$7=\"ハイ・ウォーリアー\",AV$12*4,IF(AV$7=\"ドルイド\",AV$12*4,AV$12))","v":0},null,{"$f":"+AZ66","v":0},null,{"$f":"+MAX(BB66,BF66)","v":0},{"$f":"IF(BA$7=\"ハイ・ウォーリアー\",BA$12*4,IF(BA$7=\"ドルイド\",BA$12*4,BA$12))","v":0},null,{"$f":"+BE66","v":0},null,{"$f":"+MAX(BG66,BJ66)","v":0},{"$f":"IF(BF$7=\"ハイ・ウォーリアー\",BF$12*4,IF(BF$7=\"ドルイド\",BF$12*4,BF$12))","v":0}]
[null,null,null,null,null,null,null,null,null,null,null,null,null,null,null,null,null,null,null,null,"神聖語",null,null,"",null,null,"真正","－",{"$f":"+データ!C96","v":0}]

{"sheet":"データ","index":1,"n_rows":101,"n_cols":54,"rows_kept":101,"cut":false,"hidden":false,"merged":[]}
[]
[null,null,"回避値",null,null,null,null,null,null,null,"上昇値",null,null,null,null,null,null,null,"回避値","命中率","防御力","技能"]
[null,"種族一覧","S","I","P","M","V","A","L","F","筋力","知恵","信仰心","精神力","生命力","敏捷度","幸運度","魅力","無制限","修正","修正","剣","斧","棒","鞭","槌","槍","弓矢","投擲","格闘","盾","一般"]
[null,"人間",4,5,1,3,5,3,1,3,2,3,0,1,3,0,0,1,0,null,null,40,10,20,20,10,10,10,20,20,20,10]
[null,"エルフ",2,3,3,5,1,3,3,5,0,1,1,3,0,1,1,3,0,null,null,10,10,20,20,10,10,40,20,20,20,10]
[null,"ドワーフ",5,1,5,2,4,1,4,1,3,0,3,0,2,0,2,0,0,5,null,10,40,20,20,10,10,10,20,20,20,10]
[null,"ミナンスロープ",1,2,4,1,2,5,5,2,0,1,1,1,0,3,3,1,0,10,null,10,10,20,20,10,40,10,20,20,20,10]
[null,"ハーフエルフ",3,4,2,4,3,3,2,4,1,2,0,2,2,1,0,2,0,null,null,10,10,20,20,40,10,10,20,20,20,10]
[null,"神",10,10,10,10,10,10,10,10,100,100,100,100,100,100,100,100,1,null,200,90,90,90,90,90,90,90,90,90,90,90]
[null,"異世界神",10,10,10,10,10,10,10,10,100,100,100,100,100,100,100,100,1,null,200,90,90,90,90,90,90,90,90,90,90,90]
[null,"天使",3,3,4,3,3,3,3,3,2,1,2,1,2,1,1,1,1,null,null,50,50,50,50,50,50,50,50,50,50,10]
[null,"デーモン",3,3,4,3,3,3,3,3,2,1,2,1,2,1,1,1,1,null,null,50,50,50,50,50,50,50,50,50,50,10]
[null,"デビル",3,3,4,3,3,3,3,3,2,1,2,1,2,1,1,1,1,null,null,50,50,50,50,50,50,50,50,50,50,10]
[]
[null,null,"回避値",null,null,null,null,null,null,null,"上昇値",null,null,null,null,null,null,null,"回避値","命中率","防御力","技能",null,null,null,null,null,null,null,null,null,null,"特殊能力",null,null,null,null,null,null,null,null,null,null,null,null,null,null,null,null,null,"クラス","呪文系統",null,"呪文"]
[null,"クラス一覧","S","I","P","M","V","A","L","F","筋力","知恵","信仰心","精神力","生命力","敏捷度","幸運度","魅力","無制限","修正","修正","剣","斧","棒","鞭","槌","槍","弓矢","投擲","格闘","盾","一般","快打","昏倒打","致命打","攻撃回数","不意討ち","渾身の一撃","流儀","防御力","移動力","敵判別","毒抵抗","魔法抵抗","解呪","ディスペル","鑑定","罠判別","罠解除","偵察","分類","その1","その2","速度"]
[null,"なし",null,null,null,null,null,null,null,null,null,null,null,null,null,null,null,null,0,null,null,null,null,null,null,null,null,null,null,null,null,null,null,null,null,null,null,null,null,null,null,null,null,null,null,null,null,null,null,null,1,null,null,1]
[null,"ファイター",null,null,null,null,null,null,null,null,3,null,null,null,4,null,1,null,0,null,null,10,50,10,10,10,10,10,10,30,30,null,null,1,null,null,null,null,null,null,null,null,null,null,null,null,null,null,null,null,1,null,null,1]
[null,"バトラー",null,null,null,null,null,null,null,null,4,null,null,null,3,null,1,null,0,null,null,null,null,10,10,50,null,null,10,30,10,null,null,null,null,null,null,null,null,1,null,null,null,null,null,null,null,null,null,null,1,null,null,1]
[null,"フェンサー",null,null,null,null,null,null,null,null,3,null,null,null,3,1,1,null,0,null,null,50,null,10,10,null,null,null,10,30,10,null,1,null,null,null,null,null,null,null,null,null,null,null,null,null,null,null,null,null,1,null,null,1]
[null,"ランサー",null,null,null,null,null,null,null,null,3,null,null,null,3,1,1,null,0,null,null,null,null,10,10,null,50,null,10,30,10,null,null,null,null,null,null,null,null,null,1,null,null,null,null,null,null,null,null,null,1,null,null,1]
[null,"アーチャー",null,null,null,null,null,null,null,null,3,null,null,null,3,1,1,null,0,null,null,null,null,10,10,null,null,50,10,30,10,null,null,null,null,null,1,null,null,null,null,null,null,null,null,null,null,null,null,null,1,null,null,1]
[null,"ウォーロック",null,null,null,null,null,null,null,null,0,3,null,1,null,3,1,null,0,null,null,null,null,10,10,null,null,null,10,10,10,null,null,null,null,null,null,null,null,null,null,1,null,null,null,null,null,null,null,null,2,1,null,2]
[null,"クレリック",null,null,null,null,null,null,null,null,null,null,3,1,null,3,1,null,0,null,null,null,null,10,10,null,null,null,10,10,10,null,null,null,null,null,null,null,null,null,null,null,null,1,null,null,null,null,null,null,2,2,null,2]
[null,"ソーサラー",null,null,null,null,null,null,null,null,null,null,null,4,null,3,1,null,0,null,null,null,null,10,10,null,null,null,10,10,10,null,null,null,null,null,null,null,null,null,null,null,1,null,null,null,null,null,null,null,2,3,null,2]
[null,"エクスパート",null,null,null,null,null,null,null,null,4,null,null,null,1,2,null,1,0,null,null,10,50,10,10,null,null,null,10,30,30,null,null,null,1,null,null,null,null,null,null,null,null,null,null,null,null,null,null,null,3,null,null,1]
[null,"ウォーリアー",null,null,null,null,null,null,null,null,3,1,null,1,2,null,null,1,0,null,null,30,30,30,30,30,30,30,30,30,30,null,null,null,null,null,null,1,null,null,null,null,null,null,null,null,null,null,null,null,3,1,null,1]
[null,"バラディン",null,null,null,null,null,null,null,null,3,null,1,1,2,null,null,1,0,null,null,30,30,30,30,30,30,30,30,30,30,null,null,null,null,1,null,null,null,null,null,null,null,null,null,null,null,null,null,null,3,2,null,1]
[null,"ナイト",null,null,null,null,null,null,null,null,3,null,null,2,2,null,null,1,0,null,null,30,30,30,30,30,30,30,30,30,30,null,null,null,null,null,null,null,1,null,null,null,null,null,null,null,null,null,null,null,3,3,null,1]
[null,"セイント",null,null,null,null,null,null,null,null,null,2,2,1,null,2,null,1,0,null,null,null,null,10,10,null,null,null,10,10,10,null,null,null,null,null,null,null,null,null,null,null,null,null,1,null,null,null,null,null,4,1,2,1]
[null,"セイジ",null,null,null,null,null,null,null,null,null,2,null,3,null,2,null,1,0,null,null,null,null,10,10,null,null,null,10,10,10,null,null,null,null,null,null,null,null,null,null,null,null,null,null,null,1,null,null,null,4,1,3,1]
[null,"ビショップ",null,null,null,null,null,null,null,null,null,null,2,3,null,2,null,1,0,null,null,null,null,10,10,null,null,null,10,10,10,null,null,null,null,null,null,null,null,null,null,null,null,null,null,1,null,null,null,null,4,2,3,1]
[null,"ドルイド",null,null,null,null,null,null,null,null,1,2,null,1,1,2,null,1,0,null,null,null,null,10,10,50,10,10,10,30,10,null,null,null,null,null,null,null,null,null,null,null,null,null,null,null,null,null,null,1,4,1,null,2]
[null,"モンク",null,null,null,null,null,null,null,null,1,null,2,1,1,2,null,1,0,null,null,null,null,10,10,50,10,10,10,30,10,null,null,null,null,null,null,null,null,null,null,null,null,null,null,null,null,null,1,null,4,2,null,2]
[null,"ハーミット",null,null,null,null,null,null,null,null,1,null,null,3,1,2,null,1,0,null,null,null,null,10,10,50,10,10,10,30,10,null,null,null,null,null,null,null,null,null,null,null,null,null,null,null,null,1,null,null,4,3,null,2]
[null,"ダイアボリスト",null,null,null,null,null,null,null,null,null,null,3,1,null,3,1,null,0,null,null,null,null,10,10,null,null,null,10,10,10,null,null,null,null,null,null,null,null,null,null,null,null,1,null,null,null,null,null,null,2,4,null,2]
[null,"アサシン",null,null,null,null,null,null,null,null,4,null,null,null,1,2,null,1,0,null,null,10,50,10,10,null,null,null,10,30,30,null,null,null,1,null,null,null,null,null,null,null,null,null,null,null,null,null,null,null,3,null,null,1]
[null,"ダーク・ソルジャー",null,null,null,null,null,null,null,null,3,1,null,1,2,null,null,1,0,null,null,30,30,30,30,30,30,30,30,30,30,null,null,null,null,null,null,1,null,null,null,null,null,null,null,null,null,null,null,null,3,1,null,1]
[null,"ダーク・ロード",null,null,null,null,null,null,null,null,3,null,1,1,2,null,null,1,0,null,null,30,30,30,30,30,30,30,30,30,30,null,null,null,null,1,null,null,null,null,null,null,null,null,null,null,null,null,null,null,3,4,null,1]
[null,"ダーク・ナイト",null,null,null,null,null,null,null,null,3,null,null,2,2,null,null,1,0,null,null,30,30,30,30,30,30,30,30,30,30,null,null,null,null,null,null,null,1,null,null,null,null,null,null,null,null,null,null,null,3,3,null,1]
[null,"ダーク・ウィザード",null,null,null,null,null,null,null,null,null,2,2,1,null,2,null,1,0,null,null,null,null,10,10,null,null,null,10,10,10,null,null,null,null,null,null,null,null,null,null,null,null,null,1,null,null,null,null,null,4,1,4,1]
[null,"ダーク・メイジ",null,null,null,null,null,null,null,null,null,2,null,3,null,2,null,1,0,null,null,null,null,10,10,null,null,null,10,10,10,null,null,null,null,null,null,null,null,null,null,null,null,null,null,null,1,null,null,null,4,1,3,1]
[null,"イリュージョニスト",null,null,null,null,null,null,null,null,null,null,2,3,null,2,null,1,0,null,null,null,null,10,10,null,null,null,10,10,10,null,null,null,null,null,null,null,null,null,null,null,null,null,null,1,null,null,null,null,4,3,4,1]
[null,"ダーク・シャーマン",null,null,null,null,null,null,null,null,1,2,null,1,1,2,null,1,0,null,null,null,null,10,10,50,10,10,10,30,10,null,null,null,null,null,null,null,null,null,null,null,null,null,null,null,null,null,null,1,4,1,null,2]
[null,"ネクロマンサー",null,null,null,null,null,null,null,null,1,null,2,1,1,2,null,1,0,null,null,null,null,10,10,50,10,10,10,30,10,null,null,null,null,null,null,null,null,null,null,null,null,null,null,null,null,null,1,null,4,4,null,2]
[null,"コンジャラー",null,null,null,null,null,null,null,null,1,null,null,3,1,2,null,1,0,null,null,null,null,10,10,50,10,10,10,30,10,null,null,null,null,null,null,null,null,null,null,null,null,null,null,null,null,1,null,null,4,3,null,2]
[null,"ハイ・ウォーリアー",null,null,null,null,null,null,null,null,10,10,10,10,10,10,10,10,1,null,200,null,null,null,null,null,null,null,null,null,null,null,1,1,1,1,1,1,1,1,1,1,1,1,1,1,1,1,1,1,null,"全て",null,2]
[null,null,"※ハイ・ウォーリアーはHP・MP各+3,000"]
[]
[null,null,"回避値",null,null,null,null,null,null,null,"上昇値"]
[null,"属性一覧","S","I","P","M","V","A","L","F","筋力","知恵","信仰心","精神力","生命力","敏捷度","幸運度","魅力"]
[null,"善",null,null,null,null,null,null,null,null,null,1,1,null,null,null,1,1]
[null,"悪",null,null,null,null,null,null,null,null,null,1,1,null,null,null,1,-1]
[null,"中立",null,null,null,null,null,null,null,null,null,1,1,null,null,null,1,-3]
[]
[]
[null,"性別一覧"]
[null,"男"]
[null,"女"]
[null,"なし"]
[null,"不明"]
[]
[]
[null,"魔術一覧"]
[0,"　"]
[1,"精霊"]
[2,"神聖"]
[3,"精神"]
[4,"暗黒"]
[5,"真正"]
[]
[]
[null,"魔術系統一覧","最大値",null,"計算用フラグ"]
["精霊"]
["精霊","地",{"$f":"MAX(E75:AB75)","v":0},null,{"$f":"+IF(シート!$Y$31=$B75,シート!$Z$31,0)","v":0},{"$f":"+IF(シート!$Y$32=$B75,シート!$Z$32,0)","v":0},{"$f":"+IF(シート!$Y$33=$B75,シート!$Z$33,0)","v":0},{"$f":"+IF(シート!$Y$34=$B75,シート!$Z$34,0)","v":0},{"$f":"+IF(シート!$Y$35=$B75,シート!$Z$35,0)","v":0},{"$f":"+IF(シート!$Y$36=$B75,シート!$Z$36,0)","v":0},{"$f":"+IF(シート!$AB$31=$B75,シート!$AC$31,0)","v":0},{"$f":"+IF(シート!$AB$32=$B75,シート!$AC$32,0)","v":0},{"$f":"+IF(シート!$AB$33=$B75,シート!$AC$33,0)","v":0},{"$f":"+IF(シート!$AB$34=$B75,シート!$AC$34,0)","v":0},{"$f":"+IF(シート!$AB$35=$B75,シート!$AC$35,0)","v":0},{"$f":"+IF(シート!$AB$36=$B75,シート!$AC$36,0)","v":0},{"$f":"+IF(シート!$Y$41=$B75,シート!$Z$41,0)","v":0},{"$f":"+IF(シート!$Y$42=$B75,シート!$Z$42,0)","v":0},{"$f":"+IF(シート!$Y$43=$B75,シート!$Z$43,0)","v":0},{"$f":"+IF(シート!$Y$44=$B75,シート!$Z$44,0)","v":0},{"$f":"+IF(シート!$Y$45=$B75,シート!$Z$45,0)","v":0},{"$f":"+IF(シート!$Y$46=$B75,シート!$Z$46,0)","v":0},{"$f":"+IF(シート!$AB$41=$B75,シート!$AC$41,0)","v":0},{"$f":"+IF(シート!$AB$42=$B75,シート!$AC$42,0)","v":0},{"$f":"+IF(シート!$AB$43=$B75,シート!$AC$43,0)","v":0},{"$f":"+IF(シート!$AB$44=$B75,シート!$AC$44,0)","v":0},{"$f":"+IF(シート!$AB$45=$B75,シート!$AC$45,0)","v":0},{"$f":"+IF(シート!$AB$46=$B75,シート!$AC$46,0)","v":0}]
["精霊","水",{"$f":"MAX(E76:AB76)","v":0},null,{"$f":"+IF(シート!$Y$31=$B76,シート!$Z$31,0)","v":0},{"$f":"+IF(シート!$Y$32=$B76,シート!$Z$32,0)","v":0},{"$f":"+IF(シート!$Y$33=$B76,シート!$Z$33,0)","v":0},{"$f":"+IF(シート!$Y$34=$B76,シート!$Z$34,0)","v":0},{"$f":"+IF(シート!$Y$35=$B76,シート!$Z$35,0)","v":0},{"$f":"+IF(シート!$Y$36=$B76,シート!$Z$36,0)","v":0},{"$f":"+IF(シート!$AB$31=$B76,シート!$AC$31,0)","v":0},{"$f":"+IF(シート!$AB$32=$B76,シート!$AC$32,0)","v":0},{"$f":"+IF(シート!$AB$33=$B76,シート!$AC$33,0)","v":0},{"$f":"+IF(シート!$AB$34=$B76,シート!$AC$34,0)","v":0},{"$f":"+IF(シート!$AB$35=$B76,シート!$AC$35,0)","v":0},{"$f":"+IF(シート!$AB$36=$B76,シート!$AC$36,0)","v":0},{"$f":"+IF(シート!$Y$41=$B76,シート!$Z$41,0)","v":0},{"$f":"+IF(シート!$Y$42=$B76,シート!$Z$42,0)","v":0},{"$f":"+IF(シート!$Y$43=$B76,シート!$Z$43,0)","v":0},{"$f":"+IF(シート!$Y$44=$B76,シート!$Z$44,0)","v":0},{"$f":"+IF(シート!$Y$45=$B76,シート!$Z$45,0)","v":0},{"$f":"+IF(シート!$Y$46=$B76,シート!$Z$46,0)","v":0},{"$f":"+IF(シート!$AB$41=$B76,シート!$AC$41,0)","v":0},{"$f":"+IF(シート!$AB$42=$B76,シート!$AC$42,0)","v":0},{"$f":"+IF(シート!$AB$43=$B76,シート!$AC$43,0)","v":0},{"$f":"+IF(シート!$AB$44=$B76,シート!$AC$44,0)","v":0},{"$f":"+IF(シート!$AB$45=$B76,シート!$AC$45,0)","v":0},{"$f":"+IF(シート!$AB$46=$B76,シート!$AC$46,0)","v":0}]
["精霊","火",{"$f":"MAX(E77:AB77)","v":0},null,{"$f":"+IF(シート!$Y$31=$B77,シート!$Z$31,0)","v":0},{"$f":"+IF(シート!$Y$32=$B77,シート!$Z$32,0)","v":0},{"$f":"+IF(シート!$Y$33=$B77,シート!$Z$33,0)","v":0},{"$f":"+IF(シート!$Y$34=$B77,シート!$Z$34,0)","v":0},{"$f":"+IF(シート!$Y$35=$B77,シート!$Z$35,0)","v":0},{"$f":"+IF(シート!$Y$36=$B77,シート!$Z$36,0)","v":0},{"$f":"+IF(シート!$AB$31=$B77,シート!$AC$31,0)","v":0},{"$f":"+IF(シート!$AB$32=$B77,シート!$AC$32,0)","v":0},{"$f":"+IF(シート!$AB$33=$B77,シート!$AC$33,0)","v":0},{"$f":"+IF(シート!$AB$34=$B77,シート!$AC$34,0)","v":0},{"$f":"+IF(シート!$AB$35=$B77,シート!$AC$35,0)","v":0},{"$f":"+IF(シート!$AB$36=$B77,シート!$AC$36,0)","v":0},{"$f":"+IF(シート!$Y$41=$B77,シート!$Z$41,0)","v":0},{"$f":"+IF(シート!$Y$42=$B77,シート!$Z$42,0)","v":0},{"$f":"+IF(シート!$Y$43=$B77,シート!$Z$43,0)","v":0},{"$f":"+IF(シート!$Y$44=$B77,シート!$Z$44,0)","v":0},{"$f":"+IF(シート!$Y$45=$B77,シート!$Z$45,0)","v":0},{"$f":"+IF(シート!$Y$46=$B77,シート!$Z$46,0)","v":0},{"$f":"+IF(シート!$AB$41=$B77,シート!$AC$41,0)","v":0},{"$f":"+IF(シート!$AB$42=$B77,シート!$AC$42,0)","v":0},{"$f":"+IF(シート!$AB$43=$B77,シート!$AC$43,0)","v":0},{"$f":"+IF(シート!$AB$44=$B77,シート!$AC$44,0)","v":0},{"$f":"+IF(シート!$AB$45=$B77,シート!$AC$45,0)","v":0},{"$f":"+IF(シート!$AB$46=$B77,シート!$AC$46,0)","v":0}]
["精霊","風",{"$f":"MAX(E78:AB78)","v":0},null,{"$f":"+IF(シート!$Y$31=$B78,シート!$Z$31,0)","v":0},{"$f":"+IF(シート!$Y$32=$B78,シート!$Z$32,0)","v":0},{"$f":"+IF(シート!$Y$33=$B78,シート!$Z$33,0)","v":0},{"$f":"+IF(シート!$Y$34=$B78,シート!$Z$34,0)","v":0},{"$f":"+IF(シート!$Y$35=$B78,シート!$Z$35,0)","v":0},{"$f":"+IF(シート!$Y$36=$B78,シート!$Z$36,0)","v":0},{"$f":"+IF(シート!$AB$31=$B78,シート!$AC$31,0)","v":0},{"$f":"+IF(シート!$AB$32=$B78,シート!$AC$32,0)","v":0},{"$f":"+IF(シート!$AB$33=$B78,シート!$AC$33,0)","v":0},{"$f":"+IF(シート!$AB$34=$B78,シート!$AC$34,0)","v":0},{"$f":"+IF(シート!$AB$35=$B78,シート!$AC$35,0)","v":0},{"$f":"+IF(シート!$AB$36=$B78,シート!$AC$36,0)","v":0},{"$f":"+IF(シート!$Y$41=$B78,シート!$Z$41,0)","v":0},{"$f":"+IF(シート!$Y$42=$B78,シート!$Z$42,0)","v":0},{"$f":"+IF(シート!$Y$43=$B78,シート!$Z$43,0)","v":0},{"$f":"+IF(シート!$Y$44=$B78,シート!$Z$44,0)","v":0},{"$f":"+IF(シート!$Y$45=$B78,シート!$Z$45,0)","v":0},{"$f":"+IF(シート!$Y$46=$B78,シート!$Z$46,0)","v":0},{"$f":"+IF(シート!$AB$41=$B78,シート!$AC$41,0)","v":0},{"$f":"+IF(シート!$AB$42=$B78,シート!$AC$42,0)","v":0},{"$f":"+IF(シート!$AB$43=$B78,シート!$AC$43,0)","v":0},{"$f":"+IF(シート!$AB$44=$B78,シート!$AC$44,0)","v":0},{"$f":"+IF(シート!$AB$45=$B78,シート!$AC$45,0)","v":0},{"$f":"+IF(シート!$AB$46=$B78,シート!$AC$46,0)","v":0}]
["精霊","空",{"$f":"MAX(E79:AB79)","v":0},null,{"$f":"+IF(シート!$Y$31=$B79,シート!$Z$31,0)","v":0},{"$f":"+IF(シート!$Y$32=$B79,シート!$Z$32,0)","v":0},{"$f":"+IF(シート!$Y$33=$B79,シート!$Z$33,0)","v":0},{"$f":"+IF(シート!$Y$34=$B79,シート!$Z$34,0)","v":0},{"$f":"+IF(シート!$Y$35=$B79,シート!$Z$35,0)","v":0},{"$f":"+IF(シート!$Y$36=$B79,シート!$Z$36,0)","v":0},{"$f":"+IF(シート!$AB$31=$B79,シート!$AC$31,0)","v":0},{"$f":"+IF(シート!$AB$32=$B79,シート!$AC$32,0)","v":0},{"$f":"+IF(シート!$AB$33=$B79,シート!$AC$33,0)","v":0},{"$f":"+IF(シート!$AB$34=$B79,シート!$AC$34,0)","v":0},{"$f":"+IF(シート!$AB$35=$B79,シート!$AC$35,0)","v":0},{"$f":"+IF(シート!$AB$36=$B79,シート!$AC$36,0)","v":0},{"$f":"+IF(シート!$Y$41=$B79,シート!$Z$41,0)","v":0},{"$f":"+IF(シート!$Y$42=$B79,シート!$Z$42,0)","v":0},{"$f":"+IF(シート!$Y$43=$B79,シート!$Z$43,0)","v":0},{"$f":"+IF(シート!$Y$44=$B79,シート!$Z$44,0)","v":0},{"$f":"+IF(シート!$Y$45=$B79,シート!$Z$45,0)","v":0},{"$f":"+IF(シート!$Y$46=$B79,シート!$Z$46,0)","v":0},{"$f":"+IF(シート!$AB$41=$B79,シート!$AC$41,0)","v":0},{"$f":"+IF(シート!$AB$42=$B79,シート!$AC$42,0)","v":0},{"$f":"+IF(シート!$AB$43=$B79,シート!$AC$43,0)","v":0},{"$f":"+IF(シート!$AB$44=$B79,シート!$AC$44,0)","v":0},{"$f":"+IF(シート!$AB$45=$B79,シート!$AC$45,0)","v":0},{"$f":"+IF(シート!$AB$46=$B79,シート!$AC$46,0)","v":0}]
["神聖"]
["神聖","オーゼス",{"$f":"MAX(E81:AB81)","v":0},null,{"$f":"+IF(シート!$Y$31=$B81,シート!$Z$31,0)","v":0},{"$f":"+IF(シート!$Y$32=$B81,シート!$Z$32,0)","v":0},{"$f":"+IF(シート!$Y$33=$B81,シート!$Z$33,0)","v":0},{"$f":"+IF(シート!$Y$34=$B81,シート!$Z$34,0)","v":0},{"$f":"+IF(シート!$Y$35=$B81,シート!$Z$35,0)","v":0},{"$f":"+IF(シート!$Y$36=$B81,シート!$Z$36,0)","v":0},{"$f":"+IF(シート!$AB$31=$B81,シート!$AC$31,0)","v":0},{"$f":"+IF(シート!$AB$32=$B81,シート!$AC$32,0)","v":0},{"$f":"+IF(シート!$AB$33=$B81,シート!$AC$33,0)","v":0},{"$f":"+IF(シート!$AB$34=$B81,シート!$AC$34,0)","v":0},{"$f":"+IF(シート!$AB$35=$B81,シート!$AC$35,0)","v":0},{"$f":"+IF(シート!$AB$36=$B81,シート!$AC$36,0)","v":0},{"$f":"+IF(シート!$Y$41=$B81,シート!$Z$41,0)","v":0},{"$f":"+IF(シート!$Y$42=$B81,シート!$Z$42,0)","v":0},{"$f":"+IF(シート!$Y$43=$B81,シート!$Z$43,0)","v":0},{"$f":"+IF(シート!$Y$44=$B81,シート!$Z$44,0)","v":0},{"$f":"+IF(シート!$Y$45=$B81,シート!$Z$45,0)","v":0},{"$f":"+IF(シート!$Y$46=$B81,シート!$Z$46,0)","v":0},{"$f":"+IF(シート!$AB$41=$B81,シート!$AC$41,0)","v":0},{"$f":"+IF(シート!$AB$42=$B81,シート!$AC$42,0)","v":0},{"$f":"+IF(シート!$AB$43=$B81,シート!$AC$43,0)","v":0},{"$f":"+IF(シート!$AB$44=$B81,シート!$AC$44,0)","v":0},{"$f":"+IF(シート!$AB$45=$B81,シート!$AC$45,0)","v":0},{"$f":"+IF(シート!$AB$46=$B81,シート!$AC$46,0)","v":0}]
["神聖","キャロライン",{"$f":"MAX(E82:AB82)","v":0},null,{"$f":"+IF(シート!$Y$31=$B82,シート!$Z$31,0)","v":0},{"$f":"+IF(シート!$Y$32=$B82,シート!$Z$32,0)","v":0},{"$f":"+IF(シート!$Y$33=$B82,シート!$Z$33,0)","v":0},{"$f":"+IF(シート!$Y$34=$B82,シート!$Z$34,0)","v":0},{"$f":"+IF(シート!$Y$35=$B82,シート!$Z$35,0)","v":0},{"$f":"+IF(シート!$Y$36=$B82,シート!$Z$36,0)","v":0},{"$f":"+IF(シート!$AB$31=$B82,シート!$AC$31,0)","v":0},{"$f":"+IF(シート!$AB$32=$B82,シート!$AC$32,0)","v":0},{"$f":"+IF(シート!$AB$33=$B82,シート!$AC$33,0)","v":0},{"$f":"+IF(シート!$AB$34=$B82,シート!$AC$34,0)","v":0},{"$f":"+IF(シート!$AB$35=$B82,シート!$AC$35,0)","v":0},{"$f":"+IF(シート!$AB$36=$B82,シート!$AC$36,0)","v":0},{"$f":"+IF(シート!$Y$41=$B82,シート!$Z$41,0)","v":0},{"$f":"+IF(シート!$Y$42=$B82,シート!$Z$42,0)","v":0},{"$f":"+IF(シート!$Y$43=$B82,シート!$Z$43,0)","v":0},{"$f":"+IF(シート!$Y$44=$B82,シート!$Z$44,0)","v":0},{"$f":"+IF(シート!$Y$45=$B82,シート!$Z$45,0)","v":0},{"$f":"+IF(シート!$Y$46=$B82,シート!$Z$46,0)","v":0},{"$f":"+IF(シート!$AB$41=$B82,シート!$AC$41,0)","v":0},{"$f":"+IF(シート!$AB$42=$B82,シート!$AC$42,0)","v":0},{"$f":"+IF(シート!$AB$43=$B82,シート!$AC$43,0)","v":0},{"$f":"+IF(シート!$AB$44=$B82,シート!$AC$44,0)","v":0},{"$f":"+IF(シート!$AB$45=$B82,シート!$AC$45,0)","v":0},{"$f":"+IF(シート!$AB$46=$B82,シート!$AC$46,0)","v":0}]
["神聖","ゼイバラル",{"$f":"MAX(E83:AB83)","v":0},null,{"$f":"+IF(シート!$Y$31=$B83,シート!$Z$31,0)","v":0},{"$f":"+IF(シート!$Y$32=$B83,シート!$Z$32,0)","v":0},{"$f":"+IF(シート!$Y$33=$B83,シート!$Z$33,0)","v":0},{"$f":"+IF(シート!$Y$34=$B83,シート!$Z$34,0)","v":0},{"$f":"+IF(シート!$Y$35=$B83,シート!$Z$35,0)","v":0},{"$f":"+IF(シート!$Y$36=$B83,シート!$Z$36,0)","v":0},{"$f":"+IF(シート!$AB$31=$B83,シート!$AC$31,0)","v":0},{"$f":"+IF(シート!$AB$32=$B83,シート!$AC$32,0)","v":0},{"$f":"+IF(シート!$AB$33=$B83,シート!$AC$33,0)","v":0},{"$f":"+IF(シート!$AB$34=$B83,シート!$AC$34,0)","v":0},{"$f":"+IF(シート!$AB$35=$B83,シート!$AC$35,0)","v":0},{"$f":"+IF(シート!$AB$36=$B83,シート!$AC$36,0)","v":0},{"$f":"+IF(シート!$Y$41=$B83,シート!$Z$41,0)","v":0},{"$f":"+IF(シート!$Y$42=$B83,シート!$Z$42,0)","v":0},{"$f":"+IF(シート!$Y$43=$B83,シート!$Z$43,0)","v":0},{"$f":"+IF(シート!$Y$44=$B83,シート!$Z$44,0)","v":0},{"$f":"+IF(シート!$Y$45=$B83,シート!$Z$45,0)","v":0},{"$f":"+IF(シート!$Y$46=$B83,シート!$Z$46,0)","v":0},{"$f":"+IF(シート!$AB$41=$B83,シート!$AC$41,0)","v":0},{"$f":"+IF(シート!$AB$42=$B83,シート!$AC$42,0)","v":0},{"$f":"+IF(シート!$AB$43=$B83,シート!$AC$43,0)","v":0},{"$f":"+IF(シート!$AB$44=$B83,シート!$AC$44,0)","v":0},{"$f":"+IF(シート!$AB$45=$B83,シート!$AC$45,0)","v":0},{"$f":"+IF(シート!$AB$46=$B83,シート!$AC$46,0)","v":0}]
["神聖","セフィーア",{"$f":"MAX(E84:AB84)","v":0},null,{"$f":"+IF(シート!$Y$31=$B84,シート!$Z$31,0)","v":0},{"$f":"+IF(シート!$Y$32=$B84,シート!$Z$32,0)","v":0},{"$f":"+IF(シート!$Y$33=$B84,シート!$Z$33,0)","v":0},{"$f":"+IF(シート!$Y$34=$B84,シート!$Z$34,0)","v":0},{"$f":"+IF(シート!$Y$35=$B84,シート!$Z$35,0)","v":0},{"$f":"+IF(シート!$Y$36=$B84,シート!$Z$36,0)","v":0},{"$f":"+IF(シート!$AB$31=$B84,シート!$AC$31,0)","v":0},{"$f":"+IF(シート!$AB$32=$B84,シート!$AC$32,0)","v":0},{"$f":"+IF(シート!$AB$33=$B84,シート!$AC$33,0)","v":0},{"$f":"+IF(シート!$AB$34=$B84,シート!$AC$34,0)","v":0},{"$f":"+IF(シート!$AB$35=$B84,シート!$AC$35,0)","v":0},{"$f":"+IF(シート!$AB$36=$B84,シート!$AC$36,0)","v":0},{"$f":"+IF(シート!$Y$41=$B84,シート!$Z$41,0)","v":0},{"$f":"+IF(シート!$Y$42=$B84,シート!$Z$42,0)","v":0},{"$f":"+IF(シート!$Y$43=$B84,シート!$Z$43,0)","v":0},{"$f":"+IF(シート!$Y$44=$B84,シート!$Z$44,0)","v":0},{"$f":"+IF(シート!$Y$45=$B84,シート!$Z$45,0)","v":0},{"$f":"+IF(シート!$Y$46=$B84,シート!$Z$46,0)","v":0},{"$f":"+IF(シート!$AB$41=$B84,シート!$AC$41,0)","v":0},{"$f":"+IF(シート!$AB$42=$B84,シート!$AC$42,0)","v":0},{"$f":"+IF(シート!$AB$43=$B84,シート!$AC$43,0)","v":0},{"$f":"+IF(シート!$AB$44=$B84,シート!$AC$44,0)","v":0},{"$f":"+IF(シート!$AB$45=$B84,シート!$AC$45,0)","v":0},{"$f":"+IF(シート!$AB$46=$B84,シート!$AC$46,0)","v":0}]
["精神"]
["精神","デュランド",{"$f":"MAX(E86:AB86)","v":0},null,{"$f":"+IF(シート!$Y$31=$B86,シート!$Z$31,0)","v":0},{"$f":"+IF(シート!$Y$32=$B86,シート!$Z$32,0)","v":0},{"$f":"+IF(シート!$Y$33=$B86,シート!$Z$33,0)","v":0},{"$f":"+IF(シート!$Y$34=$B86,シート!$Z$34,0)","v":0},{"$f":"+IF(シート!$Y$35=$B86,シート!$Z$35,0)","v":0},{"$f":"+IF(シート!$Y$36=$B86,シート!$Z$36,0)","v":0},{"$f":"+IF(シート!$AB$31=$B86,シート!$AC$31,0)","v":0},{"$f":"+IF(シート!$AB$32=$B86,シート!$AC$32,0)","v":0},{"$f":"+IF(シート!$AB$33=$B86,シート!$AC$33,0)","v":0},{"$f":"+IF(シート!$AB$34=$B86,シート!$AC$34,0)","v":0},{"$f":"+IF(シート!$AB$35=$B86,シート!$AC$35,0)","v":0},{"$f":"+IF(シート!$AB$36=$B86,シート!$AC$36,0)","v":0},{"$f":"+IF(シート!$Y$41=$B86,シート!$Z$41,0)","v":0},{"$f":"+IF(シート!$Y$42=$B86,シート!$Z$42,0)","v":0},{"$f":"+IF(シート!$Y$43=$B86,シート!$Z$43,0)","v":0},{"$f":"+IF(シート!$Y$44=$B86,シート!$Z$44,0)","v":0},{"$f":"+IF(シート!$Y$45=$B86,シート!$Z$45,0)","v":0},{"$f":"+IF(シート!$Y$46=$B86,シート!$Z$46,0)","v":0},{"$f":"+IF(シート!$AB$41=$B86,シート!$AC$41,0)","v":0},{"$f":"+IF(シート!$AB$42=$B86,シート!$AC$42,0)","v":0},{"$f":"+IF(シート!$AB$43=$B86,シート!$AC$43,0)","v":0},{"$f":"+IF(シート!$AB$44=$B86,シート!$AC$44,0)","v":0},{"$f":"+IF(シート!$AB$45=$B86,シート!$AC$45,0)","v":0},{"$f":"+IF(シート!$AB$46=$B86,シート!$AC$46,0)","v":0}]
["精神","ヴィラスケイズ",{"$f":"MAX(E87:AB87)","v":0},null,{"$f":"+IF(シート!$Y$31=$B87,シート!$Z$31,0)","v":0},{"$f":"+IF(シート!$Y$32=$B87,シート!$Z$32,0)","v":0},{"$f":"+IF(シート!$Y$33=$B87,シート!$Z$33,0)","v":0},{"$f":"+IF(シート!$Y$34=$B87,シート!$Z$34,0)","v":0},{"$f":"+IF(シート!$Y$35=$B87,シート!$Z$35,0)","v":0},{"$f":"+IF(シート!$Y$36=$B87,シート!$Z$36,0)","v":0},{"$f":"+IF(シート!$AB$31=$B87,シート!$AC$31,0)","v":0},{"$f":"+IF(シート!$AB$32=$B87,シート!$AC$32,0)","v":0},{"$f":"+IF(シート!$AB$33=$B87,シート!$AC$33,0)","v":0},{"$f":"+IF(シート!$AB$34=$B87,シート!$AC$34,0)","v":0},{"$f":"+IF(シート!$AB$35=$B87,シート!$AC$35,0)","v":0},{"$f":"+IF(シート!$AB$36=$B87,シート!$AC$36,0)","v":0},{"$f":"+IF(シート!$Y$41=$B87,シート!$Z$41,0)","v":0},{"$f":"+IF(シート!$Y$42=$B87,シート!$Z$42,0)","v":0},{"$f":"+IF(シート!$Y$43=$B87,シート!$Z$43,0)","v":0},{"$f":"+IF(シート!$Y$44=$B87,シート!$Z$44,0)","v":0},{"$f":"+IF(シート!$Y$45=$B87,シート!$Z$45,0)","v":0},{"$f":"+IF(シート!$Y$46=$B87,シート!$Z$46,0)","v":0},{"$f":"+IF(シート!$AB$41=$B87,シート!$AC$41,0)","v":0},{"$f":"+IF(シート!$AB$42=$B87,シート!$AC$42,0)","v":0},{"$f":"+IF(シート!$AB$43=$B87,シート!$AC$43,0)","v":0},{"$f":"+IF(シート!$AB$44=$B87,シート!$AC$44,0)","v":0},{"$f":"+IF(シート!$AB$45=$B87,シート!$AC$45,0)","v":0},{"$f":"+IF(シート!$AB$46=$B87,シート!$AC$46,0)","v":0}]
["精神","フォルカーク",{"$f":"MAX(E88:AB88)","v":0},null,{"$f":"+IF(シート!$Y$31=$B88,シート!$Z$31,0)","v":0},{"$f":"+IF(シート!$Y$32=$B88,シート!$Z$32,0)","v":0},{"$f":"+IF(シート!$Y$33=$B88,シート!$Z$33,0)","v":0},{"$f":"+IF(シート!$Y$34=$B88,シート!$Z$34,0)","v":0},{"$f":"+IF(シート!$Y$35=$B88,シート!$Z$35,0)","v":0},{"$f":"+IF(シート!$Y$36=$B88,シート!$Z$36,0)","v":0},{"$f":"+IF(シート!$AB$31=$B88,シート!$AC$31,0)","v":0},{"$f":"+IF(シート!$AB$32=$B88,シート!$AC$32,0)","v":0},{"$f":"+IF(シート!$AB$33=$B88,シート!$AC$33,0)","v":0},{"$f":"+IF(シート!$AB$34=$B88,シート!$AC$34,0)","v":0},{"$f":"+IF(シート!$AB$35=$B88,シート!$AC$35,0)","v":0},{"$f":"+IF(シート!$AB$36=$B88,シート!$AC$36,0)","v":0},{"$f":"+IF(シート!$Y$41=$B88,シート!$Z$41,0)","v":0},{"$f":"+IF(シート!$Y$42=$B88,シート!$Z$42,0)","v":0},{"$f":"+IF(シート!$Y$43=$B88,シート!$Z$43,0)","v":0},{"$f":"+IF(シート!$Y$44=$B88,シート!$Z$44,0)","v":0},{"$f":"+IF(シート!$Y$45=$B88,シート!$Z$45,0)","v":0},{"$f":"+IF(シート!$Y$46=$B88,シート!$Z$46,0)","v":0},{"$f":"+IF(シート!$AB$41=$B88,シート!$AC$41,0)","v":0},{"$f":"+IF(シート!$AB$42=$B88,シート!$AC$42,0)","v":0},{"$f":"+IF(シート!$AB$43=$B88,シート!$AC$43,0)","v":0},{"$f":"+IF(シート!$AB$44=$B88,シート!$AC$44,0)","v":0},{"$f":"+IF(シート!$AB$45=$B88,シート!$AC$45,0)","v":0},{"$f":"+IF(シート!$AB$46=$B88,シート!$AC$46,0)","v":0}]
["精神","マトロック",{"$f":"MAX(E89:AB89)","v":0},null,{"$f":"+IF(シート!$Y$31=$B89,シート!$Z$31,0)","v":0},{"$f":"+IF(シート!$Y$32=$B89,シート!$Z$32,0)","v":0},{"$f":"+IF(シート!$Y$33=$B89,シート!$Z$33,0)","v":0},{"$f":"+IF(シート!$Y$34=$B89,シート!$Z$34,0)","v":0},{"$f":"+IF(シート!$Y$35=$B89,シート!$Z$35,0)","v":0},{"$f":"+IF(シート!$Y$36=$B89,シート!$Z$36,0)","v":0},{"$f":"+IF(シート!$AB$31=$B89,シート!$AC$31,0)","v":0},{"$f":"+IF(シート!$AB$32=$B89,シート!$AC$32,0)","v":0},{"$f":"+IF(シート!$AB$33=$B89,シート!$AC$33,0)","v":0},{"$f":"+IF(シート!$AB$34=$B89,シート!$AC$34,0)","v":0},{"$f":"+IF(シート!$AB$35=$B89,シート!$AC$35,0)","v":0},{"$f":"+IF(シート!$AB$36=$B89,シート!$AC$36,0)","v":0},{"$f":"+IF(シート!$Y$41=$B89,シート!$Z$41,0)","v":0},{"$f":"+IF(シート!$Y$42=$B89,シート!$Z$42,0)","v":0},{"$f":"+IF(シート!$Y$43=$B89,シート!$Z$43,0)","v":0},{"$f":"+IF(シート!$Y$44=$B89,シート!$Z$44,0)","v":0},{"$f":"+IF(シート!$Y$45=$B89,シート!$Z$45,0)","v":0},{"$f":"+IF(シート!$Y$46=$B89,シート!$Z$46,0)","v":0},{"$f":"+IF(シート!$AB$41=$B89,シート!$AC$41,0)","v":0},{"$f":"+IF(シート!$AB$42=$B89,シート!$AC$42,0)","v":0},{"$f":"+IF(シート!$AB$43=$B89,シート!$AC$43,0)","v":0},{"$f":"+IF(シート!$AB$44=$B89,シート!$AC$44,0)","v":0},{"$f":"+IF(シート!$AB$45=$B89,シート!$AC$45,0)","v":0},{"$f":"+IF(シート!$AB$46=$B89,シート!$AC$46,0)","v":0}]
["暗黒"]
["暗黒","ダルシンド",{"$f":"MAX(E91:AB91)","v":0},null,{"$f":"+IF(シート!$Y$31=$B91,シート!$Z$31,0)","v":0},{"$f":"+IF(シート!$Y$32=$B91,シート!$Z$32,0)","v":0},{"$f":"+IF(シート!$Y$33=$B91,シート!$Z$33,0)","v":0},{"$f":"+IF(シート!$Y$34=$B91,シート!$Z$34,0)","v":0},{"$f":"+IF(シート!$Y$35=$B91,シート!$Z$35,0)","v":0},{"$f":"+IF(シート!$Y$36=$B91,シート!$Z$36,0)","v":0},{"$f":"+IF(シート!$AB$31=$B91,シート!$AC$31,0)","v":0},{"$f":"+IF(シート!$AB$32=$B91,シート!$AC$32,0)","v":0},{"$f":"+IF(シート!$AB$33=$B91,シート!$AC$33,0)","v":0},{"$f":"+IF(シート!$AB$34=$B91,シート!$AC$34,0)","v":0},{"$f":"+IF(シート!$AB$35=$B91,シート!$AC$35,0)","v":0},{"$f":"+IF(シート!$AB$36=$B91,シート!$AC$36,0)","v":0},{"$f":"+IF(シート!$Y$41=$B91,シート!$Z$41,0)","v":0},{"$f":"+IF(シート!$Y$42=$B91,シート!$Z$42,0)","v":0},{"$f":"+IF(シート!$Y$43=$B91,シート!$Z$43,0)","v":0},{"$f":"+IF(シート!$Y$44=$B91,シート!$Z$44,0)","v":0},{"$f":"+IF(シート!$Y$45=$B91,シート!$Z$45,0)","v":0},{"$f":"+IF(シート!$Y$46=$B91,シート!$Z$46,0)","v":0},{"$f":"+IF(シート!$AB$41=$B91,シート!$AC$41,0)","v":0},{"$f":"+IF(シート!$AB$42=$B91,シート!$AC$42,0)","v":0},{"$f":"+IF(シート!$AB$43=$B91,シート!$AC$43,0)","v":0},{"$f":"+IF(シート!$AB$44=$B91,シート!$AC$44,0)","v":0},{"$f":"+IF(シート!$AB$45=$B91,シート!$AC$45,0)","v":0},{"$f":"+IF(シート!$AB$46=$B91,シート!$AC$46,0)","v":0}]
["暗黒","ガルグ",{"$f":"MAX(E92:AB92)","v":0},null,{"$f":"+IF(シート!$Y$31=$B92,シート!$Z$31,0)","v":0},{"$f":"+IF(シート!$Y$32=$B92,シート!$Z$32,0)","v":0},{"$f":"+IF(シート!$Y$33=$B92,シート!$Z$33,0)","v":0},{"$f":"+IF(シート!$Y$34=$B92,シート!$Z$34,0)","v":0},{"$f":"+IF(シート!$Y$35=$B92,シート!$Z$35,0)","v":0},{"$f":"+IF(シート!$Y$36=$B92,シート!$Z$36,0)","v":0},{"$f":"+IF(シート!$AB$31=$B92,シート!$AC$31,0)","v":0},{"$f":"+IF(シート!$AB$32=$B92,シート!$AC$32,0)","v":0},{"$f":"+IF(シート!$AB$33=$B92,シート!$AC$33,0)","v":0},{"$f":"+IF(シート!$AB$34=$B92,シート!$AC$34,0)","v":0},{"$f":"+IF(シート!$AB$35=$B92,シート!$AC$35,0)","v":0},{"$f":"+IF(シート!$AB$36=$B92,シート!$AC$36,0)","v":0},{"$f":"+IF(シート!$Y$41=$B92,シート!$Z$41,0)","v":0},{"$f":"+IF(シート!$Y$42=$B92,シート!$Z$42,0)","v":0},{"$f":"+IF(シート!$Y$43=$B92,シート!$Z$43,0)","v":0},{"$f":"+IF(シート!$Y$44=$B92,シート!$Z$44,0)","v":0},{"$f":"+IF(シート!$Y$45=$B92,シート!$Z$45,0)","v":0},{"$f":"+IF(シート!$Y$46=$B92,シート!$Z$46,0)","v":0},{"$f":"+IF(シート!$AB$41=$B92,シート!$AC$41,0)","v":0},{"$f":"+IF(シート!$AB$42=$B92,シート!$AC$42,0)","v":0},{"$f":"+IF(シート!$AB$43=$B92,シート!$AC$43,0)","v":0},{"$f":"+IF(シート!$AB$44=$B92,シート!$AC$44,0)","v":0},{"$f":"+IF(シート!$AB$45=$B92,シート!$AC$45,0)","v":0},{"$f":"+IF(シート!$AB$46=$B92,シート!$AC$46,0)","v":0}]
["暗黒","エル＝ディノルド",{"$f":"MAX(E93:AB93)","v":0},null,{"$f":"+IF(シート!$Y$31=$B93,シート!$Z$31,0)","v":0},{"$f":"+IF(シート!$Y$32=$B93,シート!$Z$32,0)","v":0},{"$f":"+IF(シート!$Y$33=$B93,シート!$Z$33,0)","v":0},{"$f":"+IF(シート!$Y$34=$B93,シート!$Z$34,0)","v":0},{"$f":"+IF(シート!$Y$35=$B93,シート!$Z$35,0)","v":0},{"$f":"+IF(シート!$Y$36=$B93,シート!$Z$36,0)","v":0},{"$f":"+IF(シート!$AB$31=$B93,シート!$AC$31,0)","v":0},{"$f":"+IF(シート!$AB$32=$B93,シート!$AC$32,0)","v":0},{"$f":"+IF(シート!$AB$33=$B93,シート!$AC$33,0)","v":0},{"$f":"+IF(シート!$AB$34=$B93,シート!$AC$34,0)","v":0},{"$f":"+IF(シート!$AB$35=$B93,シート!$AC$35,0)","v":0},{"$f":"+IF(シート!$AB$36=$B93,シート!$AC$36,0)","v":0},{"$f":"+IF(シート!$Y$41=$B93,シート!$Z$41,0)","v":0},{"$f":"+IF(シート!$Y$42=$B93,シート!$Z$42,0)","v":0},{"$f":"+IF(シート!$Y$43=$B93,シート!$Z$43,0)","v":0},{"$f":"+IF(シート!$Y$44=$B93,シート!$Z$44,0)","v":0},{"$f":"+IF(シート!$Y$45=$B93,シート!$Z$45,0)","v":0},{"$f":"+IF(シート!$Y$46=$B93,シート!$Z$46,0)","v":0},{"$f":"+IF(シート!$AB$41=$B93,シート!$AC$41,0)","v":0},{"$f":"+IF(シート!$AB$42=$B93,シート!$AC$42,0)","v":0},{"$f":"+IF(シート!$AB$43=$B93,シート!$AC$43,0)","v":0},{"$f":"+IF(シート!$AB$44=$B93,シート!$AC$44,0)","v":0},{"$f":"+IF(シート!$AB$45=$B93,シート!$AC$45,0)","v":0},{"$f":"+IF(シート!$AB$46=$B93,シート!$AC$46,0)","v":0}]
["暗黒","ティルミリア",{"$f":"MAX(E94:AB94)","v":0},null,{"$f":"+IF(シート!$Y$31=$B94,シート!$Z$31,0)","v":0},{"$f":"+IF(シート!$Y$32=$B94,シート!$Z$32,0)","v":0},{"$f":"+IF(シート!$Y$33=$B94,シート!$Z$33,0)","v":0},{"$f":"+IF(シート!$Y$34=$B94,シート!$Z$34,0)","v":0},{"$f":"+IF(シート!$Y$35=$B94,シート!$Z$35,0)","v":0},{"$f":"+IF(シート!$Y$36=$B94,シート!$Z$36,0)","v":0},{"$f":"+IF(シート!$AB$31=$B94,シート!$AC$31,0)","v":0},{"$f":"+IF(シート!$AB$32=$B94,シート!$AC$32,0)","v":0},{"$f":"+IF(シート!$AB$33=$B94,シート!$AC$33,0)","v":0},{"$f":"+IF(シート!$AB$34=$B94,シート!$AC$34,0)","v":0},{"$f":"+IF(シート!$AB$35=$B94,シート!$AC$35,0)","v":0},{"$f":"+IF(シート!$AB$36=$B94,シート!$AC$36,0)","v":0},{"$f":"+IF(シート!$Y$41=$B94,シート!$Z$41,0)","v":0},{"$f":"+IF(シート!$Y$42=$B94,シート!$Z$42,0)","v":0},{"$f":"+IF(シート!$Y$43=$B94,シート!$Z$43,0)","v":0},{"$f":"+IF(シート!$Y$44=$B94,シート!$Z$44,0)","v":0},{"$f":"+IF(シート!$Y$45=$B94,シート!$Z$45,0)","v":0},{"$f":"+IF(シート!$Y$46=$B94,シート!$Z$46,0)","v":0},{"$f":"+IF(シート!$AB$41=$B94,シート!$AC$41,0)","v":0},{"$f":"+IF(シート!$AB$42=$B94,シート!$AC$42,0)","v":0},{"$f":"+IF(シート!$AB$43=$B94,シート!$AC$43,0)","v":0},{"$f":"+IF(シート!$AB$44=$B94,シート!$AC$44,0)","v":0},{"$f":"+IF(シート!$AB$45=$B94,シート!$AC$45,0)","v":0},{"$f":"+IF(シート!$AB$46=$B94,シート!$AC$46,0)","v":0}]
["真正"]
["真正","－",{"$f":"MAX(E96:AB96)","v":0},null,{"$f":"+IF(シート!$Y$31=$B96,シート!$Z$31,0)","v":0},{"$f":"+IF(シート!$Y$32=$B96,シート!$Z$32,0)","v":0},{"$f":"+IF(シート!$Y$33=$B96,シート!$Z$33,0)","v":0},{"$f":"+IF(シート!$Y$34=$B96,シート!$Z$34,0)","v":0},{"$f":"+IF(シート!$Y$35=$B96,シート!$Z$35,0)","v":0},{"$f":"+IF(シート!$Y$36=$B96,シート!$Z$36,0)","v":0},{"$f":"+IF(シート!$AB$31=$B96,シート!$AC$31,0)","v":0},{"$f":"+IF(シート!$AB$32=$B96,シート!$AC$32,0)","v":0},{"$f":"+IF(シート!$AB$33=$B96,シート!$AC$33,0)","v":0},{"$f":"+IF(シート!$AB$34=$B96,シート!$AC$34,0)","v":0},{"$f":"+IF(シート!$AB$35=$B96,シート!$AC$35,0)","v":0},{"$f":"+IF(シート!$AB$36=$B96,シート!$AC$36,0)","v":0},{"$f":"+IF(シート!$Y$41=$B96,シート!$Z$41,0)","v":0},{"$f":"+IF(シート!$Y$42=$B96,シート!$Z$42,0)","v":0},{"$f":"+IF(シート!$Y$43=$B96,シート!$Z$43,0)","v":0},{"$f":"+IF(シート!$Y$44=$B96,シート!$Z$44,0)","v":0},{"$f":"+IF(シート!$Y$45=$B96,シート!$Z$45,0)","v":0},{"$f":"+IF(シート!$Y$46=$B96,シート!$Z$46,0)","v":0},{"$f":"+IF(シート!$AB$41=$B96,シート!$AC$41,0)","v":0},{"$f":"+IF(シート!$AB$42=$B96,シート!$AC$42,0)","v":0},{"$f":"+IF(シート!$AB$43=$B96,シート!$AC$43,0)","v":0},{"$f":"+IF(シート!$AB$44=$B96,シート!$AC$44,0)","v":0},{"$f":"+IF(シート!$AB$45=$B96,シート!$AC$45,0)","v":0},{"$f":"+IF(シート!$AB$46=$B96,シート!$AC$46,0)","v":0}]
[]
[]
[null,"言語オプション"]
[]
[null,"習得"]

{"sheet":"武器","index":2,"n_rows":200,"n_cols":19,"rows_kept":200,"cut":false,"hidden":false,"merged":[]}
[]
[]
[null,"材質",null,"攻撃力","防御力","命中率","回避率","重量（鎧）","重量","価格"]
[null,"　",null,0,0,null,null,0,0,1]
[null,"ブラス",null,5,1,null,null,-5,-1,10]
[null,"アイアン",null,10,2,null,null,-10,-2,20]
[null,"スチール",null,15,3,null,null,-15,-3,30]
[null,"シルバー",null,20,4,null,null,-20,-4,40]
[null,"ハイパー",null,25,5,null,null,-25,-5,50]
[]
[null,"プラス・アイテム",null,"攻撃力","防御力","命中率","回避率","重量（鎧）","重量","価格"]
[null,"　",null,null,null,0,0,null,null,1]
[null,1,null,null,null,5,1,null,null,10]
[null,2,null,null,null,10,2,null,null,20]
[null,3,null,null,null,15,3,null,null,30]
[null,4,null,null,null,20,4,null,null,40]
[null,5,null,null,null,25,5,null,null,50]
[]
[null,"武器","攻撃力",null,"防御力","命中率","回避率","種別","重量","価格","戦1","戦2","戦3","戦4","術1","術2","術3","術4"]
[null,"素手","D2",0,null,null,null,"素手",0,0,"○","○","○","○","○","○","○","○"]
[null,"クラブ","D6",3,null,null,null,"片手棒",1,60,"○","○","○","○","○","○","○","○"]
[null,"スタッフ","D6",10,null,null,null,"片手棒",1,130,"○","○","○","○","○","○","○","○"]
[null,"メイス","D6",20,null,null,null,"片手棒",2,230,"○","○","○","○",null,"○","○","○"]
[null,"フレイル","D6",24,null,null,null,"片手棒",3,270,"○","○","○","○",null,"○",null,"○"]
[null,"プラメット","D20",20,null,null,null,"片手棒",3,300,"○","○",null,"○",null,"○",null,"○"]
[null,"ウィップ","D8",12,null,null,null,"片手鞭",1,160,"○","○","○","○","○","○","○","○"]
[null,"ハンマー","D8",25,null,null,null,"両手槌",5,290,"○","○",null,"○",null,"○",null,"○"]
[null,"グレートハンマー","D8",32,null,null,null,"両手槌",10,360,null,"○",null,"○",null,null,null,"○"]
[null,"ピックアックス（マトック）","2D10",12,null,null,null,"両手槌",5,220,"○","○","○","○",null,null,null,"○"]
[null,"ダガー","D20",5,null,null,null,"片手剣",1,150,"○","○","○","○","○",null,null,"○"]
[null,"ダゲット","D8",10,null,null,null,"片手剣",1,140,"○","○","○","○","○",null,"○","○"]
[null,"ショートソード","D10",14,null,null,null,"片手剣",1,190,"○","○","○","○","○",null,null,"○"]
[null,"グラディウス","D4",16,null,null,null,"片手剣",1,180,"○","○","○","○","○",null,"○","○"]
[null,"スクラマサックス","D20",10,null,null,null,"片手剣",1,200,"○","○","○","○",null,null,null,"○"]
[null,"カトラス","2D10",12,null,null,null,"片手剣",1,220,"○",null,"△","○",null,null,null,"○"]
[null,"ブリケット","2D8",16,null,null,null,"片手剣",1,240,null,null,"△","○",null,null,null,"○"]
[null,"ロングソード","D10",20,null,null,null,"片手剣",3,250,"○","○","○","○"]
[null,"レイピア","D8",17,null,null,null,"片手剣",2,210,"○",null,"○","○",null,null,null,"○"]
[null,"エストック","D4",21,null,null,null,"片手剣",2,230,"○",null,"△","○"]
[null,"ブロードソード","D20",15,null,null,null,"片手剣",4,250,"○",null,"△","○"]
[null,"シミター","2D10",16,null,null,null,"片手剣",3,260,"○",null,"△","○"]
[null,"セイバー","2D8",20,null,null,null,"片手剣",3,280,null,null,"△","○"]
[null,"バスタードソード","D10",25,null,null,null,"両用剣",5,300,"○","○","○","○"]
[null,"グレートソード","D10",30,null,null,null,"両手剣",7,350,"○",null,"○","○"]
[null,"シャムシャー","2D10",25,null,null,null,"両手剣",6,350,"○",null,"△","○"]
[null,"フラムバージ","2D10",30,null,null,null,"両手剣",6,400,null,null,"△","○"]
[null,"ハチェット","D20",9,null,null,null,"片手斧",2,190,"○","○","○","○","○",null,null,"○"]
[null,"バトルアックス","D20",17,null,null,null,"片手斧",4,200,"○","○","○","○",null,null,null,"○"]
[null,"トマホーク","D20",20,null,null,null,"両用斧",7,270,"○","○",null,"○"]
[null,"グレートアックス","D20",25,null,null,null,"両手斧",10,350,"○",null,null,"○"]
[null,"ショートスピア","D6",16,null,null,null,"片手槍",2,190,"○","○","○","○",null,null,null,"○"]
[null,"ロングスピア","D6",22,null,null,null,"両手槍",5,250,"○","○","○","○"]
[null,"ランス（馬上用）","2D6",25,null,null,null,"両用槍",4,310,"○",null,"○","○",null,null,null,"○"]
[null,"グレイブ","D6",28,null,null,null,"両手槍",6,310,"○","○","△","○"]
[null,"トライデント","2D6",28,null,null,null,"両手槍",8,340,"○",null,"△","○"]
[null,"ハルバード","2D6",32,null,null,null,"両手槍",10,380,null,null,"△","○"]
[null,"スリング","D8",5,null,null,null,"飛道具",1,90,"○","○","○","○","○","○","○","○"]
[null,"ショートボウ","D10",20,null,null,null,"両手弓",2,250,"○","○","○","○","○","○","○","○"]
[null,"ロングボウ","D10",25,null,null,null,"両手弓",4,300,"○","○","○","○","○","○",null,"○"]
[null,"クロスボウ","2D10",30,null,null,null,"両手弓",6,400,"○",null,"○","○",null,null,null,"○"]
[null,"グレートボウ","2D10",40,null,null,null,"両手弓",10,500,"○",null,"△","○"]
[null,"アーバレスト","3D10",45,null,null,null,"両手弓",15,600,null,null,"△","○"]
[null,"スローイングダガー","2D10",4,null,null,null,"兼用剣",1,140,"○","○","○","○","○",null,null,"○"]
[null,"スローイングアックス","2D20",6,null,null,null,"兼用斧",4,260,"○","○","○","○"]
[null,"ジャベリン","D10",18,null,null,null,"兼用槍",4,230,"○","○","○","○",null,"○",null,"○"]
[null,"シックル","D20",14,null,null,null,"兼用剣",3,240,"○","○","△","○"]
[null,"素手（ハイ・ウォーリアー）","D100",200,null,null,null,"素手",0,0]
[null,"素手（神）","D100",200,null,null,null,"素手",0,0]
[null,"夕映えの剣","D10",40,null,null,null,"片手剣",3,0,"○","○","○","○"]
[null,"焦熱剣","D10",35,null,25,null,"片手剣",3,0,null,null,null,null,null,null,null,null,"1ターンに1回、高熱のブレスと同等の攻撃を行える（回数制限なし）"]
[null,"霧氷剣","D10",35,null,25,null,"片手剣",3,0,null,null,null,null,null,null,null,null,"1ターンに1回、吹雪のブレスと同等の攻撃を行える（回数制限なし）"]
[null,"火炎剣","D10",35,null,25,null,"片手剣",3,0,null,null,null,null,null,null,null,null,"1ターンに1回、炎のブレスと同等の攻撃を行える（回数制限なし）"]
[null,"雷光剣","D10",35,null,25,null,"片手剣",3,0,null,null,null,null,null,null,null,null,"1ターンに1回、雷撃のブレスと同等の攻撃を行える（回数制限なし）"]
[null,"威光剣","4D10",140,null,100,null,"片手剣",1,0,null,null,null,null,null,null,null,null,"戦闘中は、毎ターン1回ずつ、全精霊魔術を使える（MP消費なし）"]
[null,"裁きの剣","2D10",150,null,100,null,"片手剣",1,0,null,null,null,null,null,null,null,null,"Hyper Explosion（神聖魔術・オーゼス）を使用可：MP消費なし・回数制限なし"]
[null,"三日月の弓","2D100",50,null,125,null,"両手弓",1,0,null,null,null,null,null,null,null,null,"攻撃命中時に、目標に対してDispel Undeadが発動する（MP消費なし）"]
[null,"真理の剣","D100",100,null,125,null,"両手剣",1,0,null,null,null,null,null,null,null,null,"攻撃命中時に、3Mチェック失敗で目標をステータス「恐怖」にする"]
[null,"希望の槍","D50",100,null,100,null,"両手槍",1,0,null,null,null,null,null,null,null,null,"Super Recoveryを使用可：MP消費なし・回数制限なし"]
[null,"龍神の牙","2D20",50,null,125,null,"片手槍",1,0,null,null,null,null,null,null,null,null,"攻撃命中時に、3Mチェック失敗で目標をステータス「魅了」にする"]
[null,"烈空の剣","3D20",100,null,100,null,"片手剣",1,0,null,null,null,null,null,null,null,null,"攻撃回数＋1"]
[null,"水晶の剣「代斬者」","D100",150,null,100,null,"片手剣",1,0,null,null,null,null,null,null,null,null,"Lightning（神聖魔術・オーゼス）を使用可：MP消費なし・回数制限なし"]
[null,"正義の杖","D20",100,null,150,null,"片手棒",1,0,null,null,null,null,null,null,null,null,"戦闘中は毎ターン、MPを20回復"]
[null,"勇士の翼","D100",100,null,100,null,"片手剣",1,0,null,null,null,null,null,null,null,null,"攻撃回数＋2"]
[null,"隼の爪","D50",100,null,125,null,"片手剣",1,0,null,null,null,null,null,null,null,null,"攻撃回数＋1"]
[null,"勝者の剣","2D20",150,null,100,null,"片手剣",1,0,null,null,null,null,null,null,null,null,"使用者は、与えたダメージの5分の1のHPを回復"]
[null,"天界の遣い","2D20",50,null,150,null,"両手棒",1,0,null,null,null,null,null,null,null,null,"呪文の消費MP半減"]
[null,"挑みの剣","2D100",50,null,100,null,"不定",1,0,null,null,null,null,null,null,null,null,"攻撃1回ごとに命中率＋5％を累積加算"]
[null,"運命の剣","6D20",300,null,300,null,"両手剣",5,0,null,null,null,null,null,null,null,null,"可視範囲の全ての敵に6D100のダメージ（抵抗2P、結界無効）　※正体は、同化した武器の能力を3倍に高める生命体。ここでの能力は、新星剣に同化したときのもの。"]
[null,"心見の剣","D20",150,null,100,null,"剣",1,0,null,null,null,null,null,null,null,null,"装備者のLV1～10…ダガー、～LV20…ショートソード、～LV30…ロングソード、～LV40…バスタードソード、～LV50グレートソード、以後は任意に形態を選べる"]
[null,"嵐の斧","D200",50,null,100,null,"両手斧",1,0,null,null,null,null,null,null,null,null,"10×10以内の任意の範囲に、攻撃力と同じダメージを与える嵐（抵抗2I、結界無効）を起こす"]
[null,"虹の杖","D100",50,null,150,null,"片手棒",1,0,null,null,null,null,null,null,null,null,"自分を中心とした11×11の範囲の味方に、毎戦闘ターン10ポイントのHP回復能力を与える"]
[null,"闇狩りの弓","2D200",0,null,200,null,"両手弓",1,0,null,null,null,null,null,null,null,null,"矢は召還して用いる（残数制限なし）"]
[null,"蜃気楼の杖","D50",50,null,50,null,"片手棒",1,0,null,null,null,null,null,null,null,null,"1ターンにつき、呪文を2回ずつ唱えられる"]
[null,"光の剣「クリスタル・ドラゴン」","D1000",1000,null,500,null,"片手剣",1,0,null,null,null,null,null,null,null,null,"High Lightning（超上級神聖魔術）を使用可：MP消費なし・回数制限なし 可視範囲の全ての味方にリジェネレート100（死亡状態からも蘇生する）、可視範囲の全ての敵にリジェネレート-100"]
[null,"光の剣「運命の剣」","3D1000",3000,null,1500,null,"両手剣",1,0,null,null,null,null,null,null,null,null,"可視範囲の全ての味方にリジェネレート100（死亡状態からも蘇生する）、可視範囲の全ての敵にリジェネレート-100、可視範囲の全ての敵に6D100のダメージ（抵抗2P、結界無効）　※ここでの能力は、新星剣を「光の剣」として、これに「運命の剣」を同化したときのもの。"]
[null,"光の剣","D1000",1000,null,500,null,"片手剣",1,0,null,null,null,null,null,null,null,null,"可視範囲の全ての味方にリジェネレート100（死亡状態からも蘇生する）、可視範囲の全ての敵にリジェネレート-100　ベースの武器に他の特殊能力があれば、それを継承"]
[null,"光の杖","D1000",1000,null,500,null,"片手剣",1,0,null,null,null,null,null,null,null,null,"可視範囲の全ての味方にリジェネレート100（死亡状態からも蘇生する）、可視範囲の全ての敵にリジェネレート-100　ベースの武器に他の特殊能力があれば、それを継承"]
[null,"光の鞭","D1000",1000,null,500,null,"片手剣",1,0,null,null,null,null,null,null,null,null,"可視範囲の全ての味方にリジェネレート100（死亡状態からも蘇生する）、可視範囲の全ての敵にリジェネレート-100　ベースの武器に他の特殊能力があれば、それを継承"]
[null,"光の槌","D1000",1000,null,500,null,"片手剣",1,0,null,null,null,null,null,null,null,null,"可視範囲の全ての味方にリジェネレート100（死亡状態からも蘇生する）、可視範囲の全ての敵にリジェネレート-100　ベースの武器に他の特殊能力があれば、それを継承"]
[null,"光の斧","D1000",1000,null,500,null,"片手剣",1,0,null,null,null,null,null,null,null,null,"可視範囲の全ての味方にリジェネレート100（死亡状態からも蘇生する）、可視範囲の全ての敵にリジェネレート-100　ベースの武器に他の特殊能力があれば、それを継承"]
[null,"光の槍","D1000",1000,null,500,null,"片手剣",1,0,null,null,null,null,null,null,null,null,"可視範囲の全ての味方にリジェネレート100（死亡状態からも蘇生する）、可視範囲の全ての敵にリジェネレート-100　ベースの武器に他の特殊能力があれば、それを継承"]
[null,"光の弓","D1000",1000,null,500,null,"片手剣",1,0,null,null,null,null,null,null,null,null,"可視範囲の全ての味方にリジェネレート100（死亡状態からも蘇生する）、可視範囲の全ての敵にリジェネレート-100　ベースの武器に他の特殊能力があれば、それを継承"]
[null,"光の剣","D1000",1000,null,500,null,"片手剣",1,0,null,null,null,null,null,null,null,null,"可視範囲の全ての味方にリジェネレート100（死亡状態からも蘇生する）、可視範囲の全ての敵にリジェネレート-100　ベースの武器に他の特殊能力があれば、それを継承"]
[null,"降魔の剣","D10",23,null,15,null,"片手剣",1,0,null,null,null,null,null,null,null,null,"悪魔に対してはD10+30、命中率+50％、攻撃回数+3"]
[null,"覇気の剣","D20",150,null,100,null,"剣",1,0,null,null,null,null,null,null,null,null,"装備者のLV1～10…ダガー、～LV20…ショートソード、～LV30…ロングソード、～LV40…バスタードソード、～LV50グレートソード、以後は任意に形態を選べる"]
[null,"天翔の聖杖","2D20",50,null,150,null,"両手棒",1,0,null,null,null,null,null,null,null,null,"呪文の消費MP半減"]
[null,"彗星剣","D10",50,null,50,null,"両手剣",10,0,"○",null,"○","○"]
[null,"新星剣","2D20",100,null,100,null,"両手剣",5,0,"○",null,"○","○",null,null,null,null,"可視範囲の全ての敵に2D100のダメージ（抵抗2P、結界無効）"]
[null,"不屈の槍","2D6",100,null,25,null,"両手槍",5,0,"○","○","○","○"]
[null,"春日の小太刀","D4",100,null,50,null,"片手剣",1,0]
[null,"ダーク・ブレード","D100",200,null,100,null,"片手剣",1,0,null,null,"△","○"]
[null,"スタッフ・オブ・エナジードレイン","D6",60,null,50,null,"片手棒",1,0,"○","○","○","○","○","○","○","○","使用者は、攻撃目標に与えたダメージと同量のHPを回復"]
[null,"アックス・オブ・デス","D50",100,null,200,null,"両手斧",10,0,"○",null,null,"○"]
[null,"レイピア・オブ・シャドウ","D8",100,null,100,null,"片手剣",1,0,"○",null,"○","○",null,null,null,"○"]
[null,"グランド・スラッシャー","D100",100,null,250,null,"両手槍",5,0,null,null,"△","○"]
[null,"ホーリー・スタッフ","D6",100,null,100,null,"片手棒",1,0,"○","○","○","○","○","○","○","○"]
[null,"フォルテン・ヴァルセ","D100",150,null,100,null,"片手剣",1,0,null,null,null,null,null,null,null,null,"ダルシンドの守護戦士専用"]
[null,"ユレイニアの剣","D10",80,null,50,null,"両手剣",3,0,"○",null,"○","○"]
[null,"バルレインの錫杖","D6",50,null,50,null,"片手棒",1,0,"○","○","○","○","○","○","○","○","呪文の効果倍増"]
[null,"イヴァクス","D100",300,null,100,null,"両手剣",10,0,null,null,null,null,null,null,null,null,"イヴァクス・テュエール専用"]
[null,"紅闇の剣","D100",300,null,100,null,"両手剣",10,0]
[null,"ダミー79","D2",0,null,null,null,null,0,0]
[null,"ダミー78","D2",0,null,null,null,null,0,0]
[null,"ダミー77","D2",0,null,null,null,null,0,0]
[null,"ダミー76","D2",0,null,null,null,null,0,0]
[null,"ダミー75","D2",0,null,null,null,null,0,0]
[null,"ダミー74","D2",0,null,null,null,null,0,0]
[null,"ダミー73","D2",0,null,null,null,null,0,0]
[null,"ダミー72","D2",0,null,null,null,null,0,0]
[null,"ダミー71","D2",0,null,null,null,null,0,0]
[null,"ダミー70","D2",0,null,null,null,null,0,0]
[null,"ダミー69","D2",0,null,null,null,null,0,0]
[null,"ダミー68","D2",0,null,null,null,null,0,0]
[null,"ダミー67","D2",0,null,null,null,null,0,0]
[null,"ダミー66","D2",0,null,null,null,null,0,0]
[null,"ダミー65","D2",0,null,null,null,null,0,0]
[null,"ダミー64","D2",0,null,null,null,null,0,0]
[null,"ダミー63","D2",0,null,null,null,null,0,0]
[null,"ダミー62","D2",0,null,null,null,null,0,0]
[null,"ダミー61","D2",0,null,null,null,null,0,0]
[null,"ダミー60","D2",0,null,null,null,null,0,0]
[null,"ダミー59","D2",0,null,null,null,null,0,0]
[null,"ダミー58","D2",0,null,null,null,null,0,0]
[null,"ダミー57","D2",0,null,null,null,null,0,0]
[null,"ダミー56","D2",0,null,null,null,null,0,0]
[null,"ダミー55","D2",0,null,null,null,null,0,0]
[null,"ダミー54","D2",0,null,null,null,null,0,0]
[null,"ダミー53","D2",0,null,null,null,null,0,0]
[null,"ダミー52","D2",0,null,null,null,null,0,0]
[null,"ダミー51","D2",0,null,null,null,null,0,0]
[null,"ダミー50","D2",0,null,null,null,null,0,0]
[null,"ダミー49","D2",0,null,null,null,null,0,0]
[null,"ダミー48","D2",0,null,null,null,null,0,0]
[null,"ダミー47","D2",0,null,null,null,null,0,0]
[null,"ダミー46","D2",0,null,null,null,null,0,0]
[null,"ダミー45","D2",0,null,null,null,null,0,0]
[null,"ダミー44","D2",0,null,null,null,null,0,0]
[null,"ダミー43","D2",0,null,null,null,null,0,0]
[null,"ダミー42","D2",0,null,null,null,null,0,0]
[null,"ダミー41","D2",0,null,null,null,null,0,0]
[null,"ダミー40","D2",0,null,null,null,null,0,0]
[null,"ダミー39","D2",0,null,null,null,null,0,0]
[null,"ダミー38","D2",0,null,null,null,null,0,0]
[null,"ダミー37","D2",0,null,null,null,null,0,0]
[null,"ダミー36","D2",0,null,null,null,null,0,0]
[null,"ダミー35","D2",0,null,null,null,null,0,0]
[null,"ダミー34","D2",0,null,null,null,null,0,0]
[null,"ダミー33","D2",0,null,null,null,null,0,0]
[null,"ダミー32","D2",0,null,null,null,null,0,0]
[null,"ダミー31","D2",0,null,null,null,null,0,0]
[null,"ダミー30","D2",0,null,null,null,null,0,0]
[null,"ダミー29","D2",0,null,null,null,null,0,0]
[null,"ダミー28","D2",0,null,null,null,null,0,0]
[null,"ダミー27","D2",0,null,null,null,null,0,0]
[null,"ダミー26","D2",0,null,null,null,null,0,0]
[null,"ダミー25","D2",0,null,null,null,null,0,0]
[null,"ダミー24","D2",0,null,null,null,null,0,0]
[null,"ダミー23","D2",0,null,null,null,null,0,0]
[null,"ダミー22","D2",0,null,null,null,null,0,0]
[null,"ダミー21","D2",0,null,null,null,null,0,0]
[null,"ダミー20","D2",0,null,null,null,null,0,0]
[null,"ダミー19","D2",0,null,null,null,null,0,0]
[null,"ダミー18","D2",0,null,null,null,null,0,0]
[null,"ダミー17","D2",0,null,null,null,null,0,0]
[null,"ダミー16","D2",0,null,null,null,null,0,0]
[null,"ダミー15","D2",0,null,null,null,null,0,0]
[null,"ダミー14","D2",0,null,null,null,null,0,0]
[null,"ダミー13","D2",0,null,null,null,null,0,0]
[null,"ダミー12","D2",0,null,null,null,null,0,0]
[null,"ダミー11","D2",0,null,null,null,null,0,0]
[null,"ダミー10","D2",0,null,null,null,null,0,0]
[null,"ダミー9","D2",0,null,null,null,null,0,0]
[null,"ダミー8","D2",0,null,null,null,null,0,0]
[null,"ダミー7","D2",0,null,null,null,null,0,0]
[null,"ダミー6","D2",0,null,null,null,null,0,0]
[null,"ダミー5","D2",0,null,null,null,null,0,0]
[null,"ダミー4","D2",0,null,null,null,null,0,0]
[null,"ダミー3","D2",0,null,null,null,null,0,0]
[null,"ダミー2","D2",0,null,null,null,null,0,0]
[null,"ダミー1","D2",0,null,null,null,null,0,0]

{"sheet":"防具","index":3,"n_rows":358,"n_cols":19,"rows_kept":358,"cut":false,"hidden":false,"merged":[]}
[]
[]
[null,"材質",null,"攻撃力","防御力","命中率","回避率","重量（鎧）","重量","価格"]
[null,"　",null,0,0,null,null,0,0,1]
[null,"ブラス",null,5,1,null,null,-5,-1,10]
[null,"アイアン",null,10,2,null,null,-10,-2,20]
[null,"スチール",null,15,3,null,null,-15,-3,30]
[null,"シルバー",null,20,4,null,null,-20,-4,40]
[null,"ハイパー",null,25,5,null,null,-25,-5,50]
[]
[null,"プラス・アイテム",null,"攻撃力","防御力","命中率","回避率","重量（鎧）","重量","価格"]
[null,"　",null,null,null,0,0,null,null,1]
[null,1,null,null,null,5,1,null,null,10]
[null,2,null,null,null,10,2,null,null,20]
[null,3,null,null,null,15,3,null,null,30]
[null,4,null,null,null,20,4,null,null,40]
[null,5,null,null,null,25,5,null,null,50]
[]
[null,"防具",null,"攻撃力","防御力","命中率","回避率","種別","重量","価格","戦1","戦2","戦3","戦4","術1","術2","術3","術4"]
[null,"なし",null,null,0,null,null,"鎧",0,0,"○","○","○","○","○","○","○","○"]
[null,"ローブ",null,null,1,null,null,"鎧",1,100,"○","○","○","○","○","○","○","○"]
[null,"ショルダーアーマー",null,null,2,null,null,"鎧",3,200,"○","○","○","○","○","○","○","○"]
[null,"レザー・アーマー",null,null,3,null,null,"鎧",5,300,"○","○","○","○","○","○",null,"○"]
[null,"リングメイル",null,null,4,null,null,"鎧",10,400,"○","○","○","○",null,"○",null,"○"]
[null,"スケールアーマー",null,null,5,null,null,"鎧",15,500,"○","○","○","○",null,"○",null,"○"]
[null,"チェインメイル",null,null,6,null,null,"鎧",20,600,"○","○","○","○",null,"○",null,"○"]
[null,"プラストロン",null,null,7,null,null,"鎧",25,700,"○","○","○","○",null,null,null,"○"]
[null,"スプリントメイル",null,null,8,null,null,"鎧",30,800,"○",null,"○","○",null,null,null,"○"]
[null,"バンデッドメイル",null,null,9,null,null,"鎧",35,900,"○",null,"○","○"]
[null,"プレートメイル",null,null,10,null,null,"鎧",50,1000,"○",null,null,"○"]
[null,"夕映えの鎧",null,null,14,null,null,"鎧",30,0,"○","○","○","○"]
[null,"裁きの鎧",null,null,25,null,20,"鎧",1,0,null,null,null,null,null,null,null,null,"呪文反射＋20％、所有者…ヴィンセント・エルスドルフ4世"]
[null,"星灯りの鎧",null,null,20,null,25,"鎧",1,0,null,null,null,null,null,null,null,null,"呪文無効化＋20％、所有者…ジョフリー・ベルモント2世"]
[null,"真理の鎧",null,null,20,null,25,"鎧",1,0,null,null,null,null,null,null,null,null,"呪文無効化＋20％、所有者…ウィルフレッド・レスター"]
[null,"希望の鎧",null,null,25,null,20,"鎧",1,0,null,null,null,null,null,null,null,null,"呪文無効化＋20％、所有者…グレイアム・フォルカーク5世"]
[null,"龍神の鎧",null,null,20,null,25,"鎧",1,0,null,null,null,null,null,null,null,null,"呪文無効化＋20％、所有者…ネイディーン・メレワース"]
[null,"霧の鎧",null,null,25,null,20,"鎧",1,0,null,null,null,null,null,null,null,null,"呪文無効化＋20％、所有者…ウィルバー・ドルトン"]
[null,"黄金の鎧",null,null,30,null,20,"鎧",1,0,null,null,null,null,null,null,null,null,"呪文吸収＋20％、飛行可"]
[null,"正義の鎧",null,null,15,null,30,"鎧",1,0,null,null,null,null,null,null,null,null,"呪文無効化＋20％"]
[null,"勇士の鎧",null,null,25,null,20,"鎧",1,0,null,null,null,null,null,null,null,null,"呪文無効化＋20％"]
[null,"水の鎧",null,null,20,null,25,"鎧",1,0,null,null,null,null,null,null,null,null,"呪文無効化＋20％"]
[null,"勝者の鎧",null,null,25,null,20,"鎧",1,0,null,null,null,null,null,null,null,null,"呪文無効化＋20％"]
[null,"風の鎧",null,null,15,null,30,"鎧",1,0,null,null,null,null,null,null,null,null,"呪文無効化＋20％"]
[null,"挑みの鎧",null,null,25,null,20,"鎧",1,0,null,null,null,null,null,null,null,null,"呪文無効化＋20％"]
[null,"運命の鎧",null,null,40,null,30,"鎧",1,0,null,null,null,null,null,null,null,null,"呪文消散＋20％"]
[null,"心見の鎧",null,null,25,null,15,"鎧",1,0,null,null,null,null,null,null,null,null,"呪文無効化＋20％、形状は見る者のレベルにより変わって見える。見る者のレベルが高いほど重装に見える"]
[null,"嵐の鎧",null,null,25,null,20,"鎧",1,0,null,null,null,null,null,null,null,null,"呪文無効化＋20％"]
[null,"虹の鎧",null,null,20,null,30,"鎧",1,0,null,null,null,null,null,null,null,null,"呪文無効化＋20％"]
[null,"闇狩りの鎧",null,null,15,null,40,"鎧",1,0,null,null,null,null,null,null,null,null,"呪文無効化＋20％"]
[null,"蜃気楼の鎧",null,null,20,null,10,"鎧",1,0,null,null,null,null,null,null,null,null,"呪文無効化＋20％"]
[null,"光の鎧",null,null,100,null,100,"鎧",1,0,null,null,null,null,null,null,null,null,"呪文無効化＋20％（ベースの防具が他の呪文への作用を持つ場合、その能力が優先）　ベースの防具に他の特殊能力があれば、それを継承"]
[null,"天使の衣",null,null,13,null,5,"鎧",2,0,"○","○","○","○","○","○","○","○"]
[null,"覇気の鎧",null,null,25,null,15,"鎧",1,0,null,null,null,null,null,null,null,null,"呪文無効化＋20％、形状は見る者のレベルにより変わって見える。見る者のレベルが高いほど重装に見える"]
[null,"ダーク・プレート",null,null,40,null,20,"鎧",1,0,"○",null,null,"○"]
[null,"ローブ・オブ・ファング",null,null,10,null,10,"鎧",1,0,"○","○","○","○","○","○","○","○","呪文無効化＋8％、装備者が受けたダメージと同量のHPを、攻撃者から減らす"]
[null,"インビジブル・アーマー",null,null,30,null,40,"鎧",0,0,"○","○","○","○",null,null,null,"○","呪文無効化＋20％"]
[null,"アーマー・オブ・シャドウ",null,null,12,null,20,"鎧",1,0,"○","○","○","○",null,null,null,"○","呪文無効化＋１0％"]
[null,"アーマー・オブ・リフレクション",null,null,25,null,50,"鎧",1,0,"○",null,null,"○",null,null,null,null,"呪文無効化＋20％"]
[null,"フォルテン・ネイソス",null,null,30,null,20,"鎧",1,0,null,null,null,null,null,null,null,null,"呪文無効化＋20％、飛行可"]
[null,"イヴァクス",null,null,25,null,20,"鎧",20,0,null,null,null,null,null,null,null,null,"呪文無効化＋20％、イヴァクス・テュエール専用"]
[null,"紅闇の鎧",null,null,20,null,20,"鎧",10,0,null,null,null,null,null,null,null,null,"呪文無効化＋20％"]
[null,"鎧ダミー19",null,null,0,null,null,"鎧",0,0]
[null,"鎧ダミー18",null,null,0,null,null,"鎧",0,0]
[null,"鎧ダミー17",null,null,0,null,null,"鎧",0,0]
[null,"鎧ダミー16",null,null,0,null,null,"鎧",0,0]
[null,"鎧ダミー15",null,null,0,null,null,"鎧",0,0]
[null,"鎧ダミー14",null,null,0,null,null,"鎧",0,0]
[null,"鎧ダミー13",null,null,0,null,null,"鎧",0,0]
[null,"鎧ダミー12",null,null,0,null,null,"鎧",0,0]
[null,"鎧ダミー11",null,null,0,null,null,"鎧",0,0]
[null,"鎧ダミー10",null,null,0,null,null,"鎧",0,0]
[null,"鎧ダミー9",null,null,0,null,null,"鎧",0,0]
[null,"鎧ダミー8",null,null,0,null,null,"鎧",0,0]
[null,"鎧ダミー7",null,null,0,null,null,"鎧",0,0]
[null,"鎧ダミー6",null,null,0,null,null,"鎧",0,0]
[null,"鎧ダミー5",null,null,0,null,null,"鎧",0,0]
[null,"鎧ダミー4",null,null,0,null,null,"鎧",0,0]
[null,"鎧ダミー3",null,null,0,null,null,"鎧",0,0]
[null,"鎧ダミー2",null,null,0,null,null,"鎧",0,0]
[null,"鎧ダミー1",null,null,0,null,null,"鎧",0,0]
[null,"なし",null,null,0,null,null,"盾",0,0,"○","○","○","○","○","○","○","○"]
[null,"フレームシールド",null,null,1,null,null,"小盾",1,100,"○","○","○","○","○","○","○","○"]
[null,"レザー・シールド",null,null,2,null,null,"小盾",2,200,"○","○","○","○","○","○",null,"○"]
[null,"スモールシールド",null,null,3,null,null,"小盾",3,300,"○","○","○","○",null,"○",null,"○"]
[null,"ミドルシールド",null,null,4,null,null,"小盾",5,400,"○",null,"○","○",null,"○",null,"○"]
[null,"ラージシールド",null,null,5,null,null,"大盾",7,500,"○",null,"○","○",null,null,null,"○"]
[null,"カイトシールド",null,null,6,null,null,"大盾",10,600,"○",null,"○","○"]
[null,"グレートシールド",null,null,7,null,null,"大盾",15,700,"○",null,null,"○"]
[null,"夕映えの盾",null,null,8,null,null,"小盾",1,0,"○","○","○","○"]
[null,"裁きの盾",null,null,25,null,20,"大盾",1,0,null,null,null,null,null,null,null,null,"呪文反射＋20％、所有者…ヴィンセント・エルスドルフ4世"]
[null,"星灯りの盾",null,null,20,null,25,"小盾",1,0,null,null,null,null,null,null,null,null,"呪文無効化＋20％、所有者…ジョフリー・ベルモント2世"]
[null,"真理の盾",null,null,20,null,25,"小盾",1,0,null,null,null,null,null,null,null,null,"呪文無効化＋20％、所有者…ウィルフレッド・レスター"]
[null,"希望の盾",null,null,25,null,20,"小盾",1,0,null,null,null,null,null,null,null,null,"呪文無効化＋20％、所有者…グレイアム・フォルカーク5世"]
[null,"龍神の盾",null,null,20,null,25,"大盾",1,0,null,null,null,null,null,null,null,null,"呪文無効化＋20％、所有者…ネイディーン・メレワース"]
[null,"霧の盾",null,null,25,null,20,"大盾",1,0,null,null,null,null,null,null,null,null,"呪文無効化＋20％、所有者…ウィルバー・ドルトン"]
[null,"黄金の盾",null,null,30,null,20,"大盾",1,0,null,null,null,null,null,null,null,null,"呪文吸収＋20％"]
[null,"正義の盾",null,null,15,null,30,"小盾",1,0,null,null,null,null,null,null,null,null,"呪文無効化＋20％"]
[null,"勇士の盾",null,null,25,null,20,"大盾",1,0,null,null,null,null,null,null,null,null,"呪文無効化＋20％"]
[null,"水の盾",null,null,20,null,25,"小盾",1,0,null,null,null,null,null,null,null,null,"呪文無効化＋20％"]
[null,"勝者の盾",null,null,25,null,20,"大盾",1,0,null,null,null,null,null,null,null,null,"呪文無効化＋20％"]
[null,"風の盾",null,null,15,null,30,"小盾",1,0,null,null,null,null,null,null,null,null,"呪文無効化＋20％"]
[null,"挑みの盾",null,null,25,null,20,"小盾",1,0,null,null,null,null,null,null,null,null,"呪文無効化＋20％"]
[null,"運命の盾",null,null,40,null,30,"小盾",1,0,null,null,null,null,null,null,null,null,"呪文消散＋20％"]
[null,"心見の盾",null,null,25,null,15,"小盾",1,0,null,null,null,null,null,null,null,null,"呪文無効化＋20％、形状は見る者のレベルにより変わって見える。見る者のレベルが高いほど重装に見える"]
[null,"嵐の盾",null,null,25,null,20,"小盾",1,0,null,null,null,null,null,null,null,null,"呪文無効化＋20％"]
[null,"虹の盾",null,null,20,null,30,"小盾",1,0,null,null,null,null,null,null,null,null,"呪文無効化＋20％"]
[null,"闇狩りの盾",null,null,15,null,40,"小盾",1,0,null,null,null,null,null,null,null,null,"呪文無効化＋20％"]
[null,"蜃気楼の盾",null,null,20,null,10,"小盾",1,0,null,null,null,null,null,null,null,null,"呪文無効化＋20％"]
[null,"光の盾",null,null,100,null,100,"小盾",1,0,null,null,null,null,null,null,null,null,"呪文無効化＋20％（ベースの防具が他の呪文への作用を持つ場合、その能力が優先）　ベースの防具に他の特殊能力があれば、それを継承"]
[null,"光の盾",null,null,100,null,100,"大盾",1,0,null,null,null,null,null,null,null,null,"呪文無効化＋20％（ベースの防具が他の呪文への作用を持つ場合、その能力が優先）　ベースの防具に他の特殊能力があれば、それを継承"]
[null,"天使の盾",null,null,9,null,5,"大盾",3,0,"○",null,"○","○"]
[null,"覇気の盾",null,null,25,null,15,"小盾",1,0,null,null,null,null,null,null,null,null,"呪文無効化＋20％、形状は見る者のレベルにより変わって見える。見る者のレベルが高いほど重装に見える"]
[null,"ダーク・シールド",null,null,40,null,20,"大盾",1,0,"○",null,"○","○",null,null,null,"○"]
[null,"シールド・オブ・ファング",null,null,10,null,10,"小盾",1,0,"○","○","○","○","○","○","○","○","呪文無効化＋8％、装備者が受けたダメージと同量のHPを、攻撃者から減らす"]
[null,"インビジブル・シールド",null,null,30,null,40,"小盾",0,0,"○","○","○","○",null,null,null,"○","呪文無効化＋20％"]
[null,"シールド・オブ・シャドウ",null,null,12,null,20,"小盾",1,0,"○","○","○","○",null,null,null,"○","呪文無効化＋１0％"]
[null,"シールド・オブ・リフレクション",null,null,25,null,50,"小盾",1,0,"○",null,null,"○",null,null,null,null,"呪文無効化＋20％"]
[null,"フォルテン・ネイソス",null,null,30,null,20,"大盾",1,0,null,null,null,null,null,null,null,null,"呪文無効化＋20％"]
[null,"イヴァクス",null,null,25,null,20,"小盾",5,0,null,null,null,null,null,null,null,null,"呪文無効化＋20％、イヴァクス・テュエール専用"]
[null,"紅闇の盾",null,null,20,null,20,"小盾",3,0,null,null,null,null,null,null,null,null,"呪文無効化＋20％"]
[null,"盾ダミー18",null,null,0,null,null,"盾",0,0]
[null,"盾ダミー17",null,null,0,null,null,"盾",0,0]
[null,"盾ダミー16",null,null,0,null,null,"盾",0,0]
[null,"盾ダミー15",null,null,0,null,null,"盾",0,0]
[null,"盾ダミー14",null,null,0,null,null,"盾",0,0]
[null,"盾ダミー13",null,null,0,null,null,"盾",0,0]
[null,"盾ダミー12",null,null,0,null,null,"盾",0,0]
[null,"盾ダミー11",null,null,0,null,null,"盾",0,0]
[null,"盾ダミー10",null,null,0,null,null,"盾",0,0]
[null,"盾ダミー9",null,null,0,null,null,"盾",0,0]
[null,"盾ダミー8",null,null,0,null,null,"盾",0,0]
[null,"盾ダミー7",null,null,0,null,null,"盾",0,0]
[null,"盾ダミー6",null,null,0,null,null,"盾",0,0]
[null,"盾ダミー5",null,null,0,null,null,"盾",0,0]
[null,"盾ダミー4",null,null,0,null,null,"盾",0,0]
[null,"盾ダミー3",null,null,0,null,null,"盾",0,0]
[null,"盾ダミー2",null,null,0,null,null,"盾",0,0]
[null,"盾ダミー1",null,null,0,null,null,"盾",0,0]
[null,"なし",null,null,0,null,null,"兜",0,0,"○","○","○","○","○","○","○","○"]
[null,"コロネット",null,null,1,null,null,"兜",1,100,"○","○","○","○","○","○","○","○"]
[null,"レザー・キャップ",null,null,2,null,null,"兜",1,200,"○","○","○","○","○","○",null,"○"]
[null,"オープンヘルメット",null,null,3,null,null,"兜",3,300,"○",null,"○","○",null,null,null,"○"]
[null,"バシネット",null,null,4,null,null,"兜",5,400,"○","○","○","○",null,"○",null,"○"]
[null,"クローズヘルメット",null,null,5,null,null,"兜",4,500,"○",null,null,"○"]
[null,"夕映えの兜",null,null,9,null,null,"兜",1,0,"○","○","○","○"]
[null,"裁きの兜",null,null,25,null,20,"兜",1,0,null,null,null,null,null,null,null,null,"呪文反射＋20％、所有者…ヴィンセント・エルスドルフ4世"]
[null,"星灯りの兜",null,null,20,null,25,"兜",1,0,null,null,null,null,null,null,null,null,"呪文無効化＋20％、所有者…ジョフリー・ベルモント2世"]
[null,"真理の兜",null,null,20,null,25,"兜",1,0,null,null,null,null,null,null,null,null,"呪文無効化＋20％、所有者…ウィルフレッド・レスター"]
[null,"希望の兜",null,null,25,null,20,"兜",1,0,null,null,null,null,null,null,null,null,"呪文無効化＋20％、所有者…グレイアム・フォルカーク5世"]
[null,"龍神の兜",null,null,20,null,25,"兜",1,0,null,null,null,null,null,null,null,null,"呪文無効化＋20％、所有者…ネイディーン・メレワース"]
[null,"霧の兜",null,null,25,null,20,"兜",1,0,null,null,null,null,null,null,null,null,"呪文無効化＋20％、所有者…ウィルバー・ドルトン"]
[null,"黄金の兜",null,null,30,null,20,"兜",1,0,null,null,null,null,null,null,null,null,"呪文吸収＋20％"]
[null,"正義の兜",null,null,15,null,30,"兜",1,0,null,null,null,null,null,null,null,null,"呪文無効化＋20％"]
[null,"勇士の兜",null,null,25,null,20,"兜",1,0,null,null,null,null,null,null,null,null,"呪文無効化＋20％"]
[null,"水の宝冠",null,null,20,null,25,"兜",1,0,null,null,null,null,null,null,null,null,"呪文無効化＋20％"]
[null,"勝者の兜",null,null,25,null,20,"兜",1,0,null,null,null,null,null,null,null,null,"呪文無効化＋20％"]
[null,"風の宝冠",null,null,15,null,30,"兜",1,0,null,null,null,null,null,null,null,null,"呪文無効化＋20％"]
[null,"挑みの兜",null,null,25,null,20,"兜",1,0,null,null,null,null,null,null,null,null,"呪文無効化＋20％"]
[null,"運命の兜",null,null,40,null,30,"兜",1,0,null,null,null,null,null,null,null,null,"呪文消散＋20％"]
[null,"心見の宝冠",null,null,25,null,15,"兜",1,0,null,null,null,null,null,null,null,null,"呪文無効化＋20％、形状は見る者のレベルにより変わって見える。見る者のレベルが高いほど重装に見える"]
[null,"嵐の兜",null,null,25,null,20,"兜",1,0,null,null,null,null,null,null,null,null,"呪文無効化＋20％"]
[null,"虹の宝冠",null,null,20,null,30,"兜",1,0,null,null,null,null,null,null,null,null,"呪文無効化＋20％"]
[null,"闇狩りの宝冠",null,null,15,null,40,"兜",1,0,null,null,null,null,null,null,null,null,"呪文無効化＋20％"]
[null,"蜃気楼の兜",null,null,20,null,10,"兜",1,0,null,null,null,null,null,null,null,null,"呪文無効化＋20％"]
[null,"光の兜",null,null,100,null,100,"兜",1,0,null,null,null,null,null,null,null,null,"呪文無効化＋20％（ベースの防具が他の呪文への作用を持つ場合、その能力が優先）　ベースの防具に他の特殊能力があれば、それを継承"]
[null,"光の宝冠",null,null,100,null,100,"兜",1,0,null,null,null,null,null,null,null,null,"呪文無効化＋20％（ベースの防具が他の呪文への作用を持つ場合、その能力が優先）　ベースの防具に他の特殊能力があれば、それを継承"]
[null,"天使の宝冠",null,null,9,null,5,"兜",1,0,"○","○","○","○","○","○","○","○"]
[null,"覇気の宝冠",null,null,25,null,15,"兜",1,0,null,null,null,null,null,null,null,null,"呪文無効化＋20％、形状は見る者のレベルにより変わって見える。見る者のレベルが高いほど重装に見える"]
[null,"ダーク・ヘルメット",null,null,40,null,20,"兜",1,0,"○",null,null,"○"]
[null,"コロネット・オブ・ファング",null,null,10,null,10,"兜",1,0,"○","○","○","○","○","○","○","○","呪文無効化＋8％、装備者が受けたダメージと同量のHPを、攻撃者から減らす"]
[null,"インビジブル・ヘルメット",null,null,30,null,40,"兜",0,0,"○","○","○","○",null,null,null,"○","呪文無効化＋20％"]
[null,"コロネット・オブ・シャドウ",null,null,12,null,20,"兜",0,0,"○","○","○","○",null,null,null,"○","呪文無効化＋１0％"]
[null,"ヘルメット・オブ・リフレクション",null,null,25,null,50,"兜",1,0,"○",null,null,"○",null,null,null,null,"呪文無効化＋20％"]
[null,"フォルテン・ネイソス",null,null,30,null,20,"兜",1,0,null,null,null,null,null,null,null,null,"呪文無効化＋20％"]
[null,"イヴァクス",null,null,25,null,20,"兜",5,0,null,null,null,null,null,null,null,null,"呪文無効化＋20％、イヴァクス・テュエール専用"]
[null,"紅闇の兜",null,null,20,null,20,"兜",3,0,null,null,null,null,null,null,null,null,"呪文無効化＋20％"]
[null,"兜ダミー18",null,null,0,null,null,"兜",0,0]
[null,"兜ダミー17",null,null,0,null,null,"兜",0,0]
[null,"兜ダミー16",null,null,0,null,null,"兜",0,0]
[null,"兜ダミー15",null,null,0,null,null,"兜",0,0]
[null,"兜ダミー14",null,null,0,null,null,"兜",0,0]
[null,"兜ダミー13",null,null,0,null,null,"兜",0,0]
[null,"兜ダミー12",null,null,0,null,null,"兜",0,0]
[null,"兜ダミー11",null,null,0,null,null,"兜",0,0]
[null,"兜ダミー10",null,null,0,null,null,"兜",0,0]
[null,"兜ダミー9",null,null,0,null,null,"兜",0,0]
[null,"兜ダミー8",null,null,0,null,null,"兜",0,0]
[null,"兜ダミー7",null,null,0,null,null,"兜",0,0]
[null,"兜ダミー6",null,null,0,null,null,"兜",0,0]
[null,"兜ダミー5",null,null,0,null,null,"兜",0,0]
[null,"兜ダミー4",null,null,0,null,null,"兜",0,0]
[null,"兜ダミー3",null,null,0,null,null,"兜",0,0]
[null,"兜ダミー2",null,null,0,null,null,"兜",0,0]
[null,"兜ダミー1",null,null,0,null,null,"兜",0,0]
[null,"なし",null,null,0,null,null,"籠手",0,0,"○","○","○","○","○","○","○","○"]
[null,"グラブズ",null,null,1,null,null,"籠手",1,100,"○","○","○","○","○","○","○","○"]
[null,"レザー・グラブズ",null,null,2,null,null,"籠手",1,200,"○","○","○","○","○","○",null,"○"]
[null,"ミッツ",null,null,3,null,null,"籠手",3,300,"○","○","○","○",null,"○",null,"○"]
[null,"ブレイサーズ",null,null,4,null,null,"籠手",4,400,"○",null,"○","○",null,null,null,"○"]
[null,"ガントレッツ",null,null,5,null,null,"籠手",5,500,"○",null,null,"○"]
[null,"夕映えの籠手",null,null,9,null,null,"籠手",1,0,"○","○","○","○"]
[null,"裁きの籠手",null,null,25,null,20,"籠手",1,0,null,null,null,null,null,null,null,null,"呪文反射＋20％、所有者…ヴィンセント・エルスドルフ4世"]
[null,"星灯りの籠手",null,null,20,null,25,"籠手",1,0,null,null,null,null,null,null,null,null,"呪文無効化＋20％、所有者…ジョフリー・ベルモント2世"]
[null,"真理の籠手",null,null,20,null,25,"籠手",1,0,null,null,null,null,null,null,null,null,"呪文無効化＋20％、所有者…ウィルフレッド・レスター"]
[null,"希望の籠手",null,null,25,null,20,"籠手",1,0,null,null,null,null,null,null,null,null,"呪文無効化＋20％、所有者…グレイアム・フォルカーク5世"]
[null,"龍神の籠手",null,null,20,null,25,"籠手",1,0,null,null,null,null,null,null,null,null,"呪文無効化＋20％、所有者…ネイディーン・メレワース"]
[null,"霧の籠手",null,null,25,null,20,"籠手",1,0,null,null,null,null,null,null,null,null,"呪文無効化＋20％、所有者…ウィルバー・ドルトン"]
[null,"黄金の籠手",null,null,30,null,20,"籠手",1,0,null,null,null,null,null,null,null,null,"呪文吸収＋20％"]
[null,"正義の籠手",null,null,15,null,30,"籠手",1,0,null,null,null,null,null,null,null,null,"呪文無効化＋20％"]
[null,"勇士の籠手",null,null,25,null,20,"籠手",1,0,null,null,null,null,null,null,null,null,"呪文無効化＋20％"]
[null,"水の籠手",null,null,20,null,25,"籠手",1,0,null,null,null,null,null,null,null,null,"呪文無効化＋20％"]
[null,"勝者の籠手",null,null,25,null,20,"籠手",1,0,null,null,null,null,null,null,null,null,"呪文無効化＋20％"]
[null,"風の籠手",null,null,15,null,30,"籠手",1,0,null,null,null,null,null,null,null,null,"呪文無効化＋20％"]
[null,"挑みの籠手",null,null,25,null,20,"籠手",1,0,null,null,null,null,null,null,null,null,"呪文無効化＋20％"]
[null,"運命の籠手",null,null,40,null,30,"籠手",1,0,null,null,null,null,null,null,null,null,"呪文消散＋20％"]
[null,"心見の籠手",null,null,25,null,15,"籠手",1,0,null,null,null,null,null,null,null,null,"呪文無効化＋20％、形状は見る者のレベルにより変わって見える。見る者のレベルが高いほど重装に見える"]
[null,"嵐の籠手",null,null,25,null,20,"籠手",1,0,null,null,null,null,null,null,null,null,"呪文無効化＋20％"]
[null,"虹の籠手",null,null,20,null,30,"籠手",1,0,null,null,null,null,null,null,null,null,"呪文無効化＋20％"]
[null,"闇狩りの籠手",null,null,15,null,40,"籠手",1,0,null,null,null,null,null,null,null,null,"呪文無効化＋20％、1戦闘中に1回、敵1体に対してダメージD1000の光弾を撃てる（抵抗3I、結界有効）"]
[null,"蜃気楼の籠手",null,null,20,null,10,"籠手",1,0,null,null,null,null,null,null,null,null,"呪文無効化＋20％"]
[null,"光の籠手",null,null,100,null,100,"籠手",1,0,null,null,null,null,null,null,null,null,"呪文無効化＋20％（ベースの防具が他の呪文への作用を持つ場合、その能力が優先）　ベースの防具に他の特殊能力があれば、それを継承"]
[null,"天使の籠手",null,null,9,null,5,"籠手",1,0]
[null,"覇気の籠手",null,null,25,null,15,"籠手",1,0,null,null,null,null,null,null,null,null,"呪文無効化＋20％、形状は見る者のレベルにより変わって見える。見る者のレベルが高いほど重装に見える"]
[null,"ダーク・ガントレッツ",null,null,40,null,20,"籠手",1,0,"○",null,null,"○"]
[null,"グラブズ・オブ・ファング",null,null,10,null,10,"籠手",1,0,"○","○","○","○","○","○","○","○","呪文無効化＋8％、装備者が受けたダメージと同量のHPを、攻撃者から減らす"]
[null,"インビジブル・ガントレッツ",null,null,30,null,40,"籠手",0,0,"○","○","○","○",null,null,null,"○","呪文無効化＋20％"]
[null,"ブレイサーズ・オブ・シャドウ",null,null,12,null,20,"籠手",0,0,"○","○","○","○",null,null,null,"○","呪文無効化＋１0％"]
[null,"ガントレッツ・オブ・リフレクション",null,null,25,null,50,"籠手",1,0,"○",null,null,"○",null,null,null,null,"呪文無効化＋20％"]
[null,"フォルテン・ネイソス",null,null,30,null,20,"籠手",1,0,null,null,null,null,null,null,null,null,"呪文無効化＋20％"]
[null,"ガドウィンの籠手",null,null,20,null,null,"籠手",5,0,"○",null,null,"○"]
[null,"イヴァクス",null,null,25,null,20,"籠手",5,0,null,null,null,null,null,null,null,null,"呪文無効化＋20％、イヴァクス・テュエール専用"]
[null,"紅闇の籠手",null,null,20,null,20,"籠手",3,0,null,null,null,null,null,null,null,null,"呪文無効化＋20％"]
[null,"籠手ダミー18",null,null,0,null,null,"籠手",0,0]
[null,"籠手ダミー17",null,null,0,null,null,"籠手",0,0]
[null,"籠手ダミー16",null,null,0,null,null,"籠手",0,0]
[null,"籠手ダミー15",null,null,0,null,null,"籠手",0,0]
[null,"籠手ダミー14",null,null,0,null,null,"籠手",0,0]
[null,"籠手ダミー13",null,null,0,null,null,"籠手",0,0]
[null,"籠手ダミー12",null,null,0,null,null,"籠手",0,0]
[null,"籠手ダミー11",null,null,0,null,null,"籠手",0,0]
[null,"籠手ダミー10",null,null,0,null,null,"籠手",0,0]
[null,"籠手ダミー9",null,null,0,null,null,"籠手",0,0]
[null,"籠手ダミー8",null,null,0,null,null,"籠手",0,0]
[null,"籠手ダミー7",null,null,0,null,null,"籠手",0,0]
[null,"籠手ダミー6",null,null,0,null,null,"籠手",0,0]
[null,"籠手ダミー5",null,null,0,null,null,"籠手",0,0]
[null,"籠手ダミー4",null,null,0,null,null,"籠手",0,0]
[null,"籠手ダミー3",null,null,0,null,null,"籠手",0,0]
[null,"籠手ダミー2",null,null,0,null,null,"籠手",0,0]
[null,"籠手ダミー1",null,null,0,null,null,"籠手",0,0]
[null,"なし",null,null,0,null,null,"靴",0,0,"○","○","○","○","○","○","○","○"]
[null,"スパッツ",null,null,1,null,null,"靴",1,100,"○","○","○","○","○","○","○","○"]
[null,"レザー・ブーツ",null,null,2,null,null,"靴",1,200,"○","○","○","○","○","○",null,"○"]
[null,"ブーツ",null,null,3,null,null,"靴",2,300,"○","○","○","○",null,"○",null,"○"]
[null,"レガーズ",null,null,4,null,null,"靴",3,400,"○",null,"○","○",null,null,null,"○"]
[null,"グリーブズ",null,null,5,null,null,"靴",5,500,"○",null,null,"○"]
[null,"夕映えの靴",null,null,9,null,null,"靴",1,0,"○","○","○","○"]
[null,"裁きの靴",null,null,25,null,20,"靴",1,0,null,null,null,null,null,null,null,null,"呪文反射＋20％、所有者…ヴィンセント・エルスドルフ4世"]
[null,"星灯りの靴",null,null,20,null,25,"靴",1,0,null,null,null,null,null,null,null,null,"呪文無効化＋20％、所有者…ジョフリー・ベルモント2世"]
[null,"真理の靴",null,null,20,null,25,"靴",1,0,null,null,null,null,null,null,null,null,"呪文無効化＋20％、所有者…ウィルフレッド・レスター"]
[null,"希望の靴",null,null,25,null,20,"靴",1,0,null,null,null,null,null,null,null,null,"呪文無効化＋20％、所有者…グレイアム・フォルカーク5世"]
[null,"龍神の靴",null,null,20,null,25,"靴",1,0,null,null,null,null,null,null,null,null,"呪文無効化＋20％、所有者…ネイディーン・メレワース"]
[null,"霧の靴",null,null,25,null,20,"靴",1,0,null,null,null,null,null,null,null,null,"呪文無効化＋20％、所有者…ウィルバー・ドルトン"]
[null,"黄金の靴",null,null,30,null,20,"靴",1,0,null,null,null,null,null,null,null,null,"呪文吸収＋20％"]
[null,"正義の靴",null,null,15,null,30,"靴",1,0,null,null,null,null,null,null,null,null,"呪文無効化＋20％"]
[null,"勇士の靴",null,null,25,null,20,"靴",1,0,null,null,null,null,null,null,null,null,"呪文無効化＋20％"]
[null,"水の靴",null,null,20,null,25,"靴",1,0,null,null,null,null,null,null,null,null,"呪文無効化＋20％"]
[null,"勝者の靴",null,null,25,null,20,"靴",1,0,null,null,null,null,null,null,null,null,"呪文無効化＋20％"]
[null,"天界の靴",null,null,15,null,30,"靴",1,0,null,null,null,null,null,null,null,null,"呪文無効化＋20％"]
[null,"挑みの靴",null,null,25,null,20,"靴",1,0,null,null,null,null,null,null,null,null,"呪文無効化＋20％"]
[null,"運命の靴",null,null,40,null,30,"靴",1,0,null,null,null,null,null,null,null,null,"呪文消散＋20％"]
[null,"心見の靴",null,null,25,null,15,"靴",1,0,null,null,null,null,null,null,null,null,"呪文無効化＋20％、移動力+3、形状は見る者のレベルにより変わって見える。見る者のレベルが高いほど重装に見える"]
[null,"嵐の靴",null,null,25,null,20,"靴",1,0,null,null,null,null,null,null,null,null,"呪文無効化＋20％、移動力+5"]
[null,"虹の靴",null,null,20,null,30,"靴",1,0,null,null,null,null,null,null,null,null,"呪文無効化＋20％、移動力+2"]
[null,"闇狩りの靴",null,null,15,null,40,"靴",1,0,null,null,null,null,null,null,null,null,"呪文無効化＋20％、移動力+2"]
[null,"蜃気楼の靴",null,null,20,null,10,"靴",1,0,null,null,null,null,null,null,null,null,"呪文無効化＋20％、移動力+4"]
[null,"光の靴",null,null,100,null,100,"靴",1,0,null,null,null,null,null,null,null,null,"移動力＋10、呪文無効化＋20％（ベースの防具が他の呪文への作用を持つ場合、その能力が優先）　ベースの防具に他の特殊能力があれば、それを継承"]
[null,"天使の靴",null,null,9,null,5,"靴",1,0]
[null,"覇気の靴",null,null,25,null,15,"靴",1,0,null,null,null,null,null,null,null,null,"呪文無効化＋20％、移動力+3、形状は見る者のレベルにより変わって見える。見る者のレベルが高いほど重装に見える"]
[null,"ダーク・グリーブズ",null,null,40,null,20,"靴",1,0,"○",null,null,"○"]
[null,"スパッツ・オブ・ファング",null,null,10,null,10,"靴",1,0,"○","○","○","○","○","○","○","○","呪文無効化＋8％、装備者が受けたダメージと同量のHPを、攻撃者から減らす"]
[null,"インビジブル・グリーブズ",null,null,30,null,40,"靴",0,0,"○","○","○","○",null,null,null,"○","呪文無効化＋20％"]
[null,"ブーツ・オブ・シャドウ",null,null,12,null,20,"靴",0,0,"○","○","○","○",null,null,null,"○","呪文無効化＋１0％"]
[null,"グリーブズ・オブ・リフレクション",null,null,25,null,50,"靴",1,0,"○",null,null,"○",null,null,null,null,"呪文無効化＋20％"]
[null,"フォルテン・ネイソス",null,null,30,null,20,"靴",1,0,null,null,null,null,null,null,null,null,"呪文無効化＋20％"]
[null,"イヴァクス",null,null,25,null,20,"靴",5,0,null,null,null,null,null,null,null,null,"呪文無効化＋20％、イヴァクス・テュエール専用"]
[null,"紅闇の靴",null,null,20,null,20,"靴",3,0,null,null,null,null,null,null,null,null,"呪文無効化＋20％"]
[null,"靴ダミー19",null,null,0,null,null,"靴",0,0]
[null,"靴ダミー18",null,null,0,null,null,"靴",0,0]
[null,"靴ダミー17",null,null,0,null,null,"靴",0,0]
[null,"靴ダミー16",null,null,0,null,null,"靴",0,0]
[null,"靴ダミー15",null,null,0,null,null,"靴",0,0]
[null,"靴ダミー14",null,null,0,null,null,"靴",0,0]
[null,"靴ダミー13",null,null,0,null,null,"靴",0,0]
[null,"靴ダミー12",null,null,0,null,null,"靴",0,0]
[null,"靴ダミー11",null,null,0,null,null,"靴",0,0]
[null,"靴ダミー10",null,null,0,null,null,"靴",0,0]
[null,"靴ダミー9",null,null,0,null,null,"靴",0,0]
[null,"靴ダミー8",null,null,0,null,null,"靴",0,0]
[null,"靴ダミー7",null,null,0,null,null,"靴",0,0]
[null,"靴ダミー6",null,null,0,null,null,"靴",0,0]
[null,"靴ダミー5",null,null,0,null,null,"靴",0,0]
[null,"靴ダミー4",null,null,0,null,null,"靴",0,0]
[null,"靴ダミー3",null,null,0,null,null,"靴",0,0]
[null,"靴ダミー2",null,null,0,null,null,"靴",0,0]
[null,"靴ダミー1",null,null,0,null,null,"靴",0,0]
[null,"靴ダミー1",null,null,0,null,null,"靴",0,0]
[null,"なし",null,0,0,null,null,"その他",0,0,"○","○","○","○","○","○","○","○"]
[null,"運命の戦士の勲章",null,100,100,100,100,"その他",0.1,0,"○","○","○","○","○","○","○","○","毎ターンHP10回復"]
[null,"救世者の勲章",null,50,50,50,50,"その他",0.1,0,"○","○","○","○","○","○","○","○","毎ターンHP5回復"]
[null,"豪傑の勲章",null,40,40,40,40,"その他",0.1,0,"○","○","○","○","○","○","○","○","毎ターンHP4回復"]
[null,"英雄の勲章",null,30,30,30,30,"その他",0.1,0,"○","○","○","○","○","○","○","○","毎ターンHP3回復"]
[null,"勇者の勲章",null,20,20,20,20,"その他",0.1,0,"○","○","○","○","○","○","○","○","毎ターンHP2回復"]
[null,"凱旋者の勲章",null,10,10,10,10,"その他",0.1,0,"○","○","○","○","○","○","○","○","毎ターンHP1回復"]
[null,"ホーリー・アミュレット",null,0,50,null,100,"その他",0.1,0,"○","○","○","○","○","○","○","○","呪文無効化80％"]
[null,"四大神の護符",null,0,50,null,50,"その他",0.1,0,"○","○","○","○","○","○","○","○"]
[null,"他ダミー42",null,0,0,null,null,"その他",0,0]
[null,"他ダミー41",null,0,0,null,null,"その他",0,0]
[null,"他ダミー40",null,0,0,null,null,"その他",0,0]
[null,"他ダミー39",null,0,0,null,null,"その他",0,0]
[null,"他ダミー38",null,0,0,null,null,"その他",0,0]
[null,"他ダミー37",null,0,0,null,null,"その他",0,0]
[null,"他ダミー36",null,0,0,null,null,"その他",0,0]
[null,"他ダミー35",null,0,0,null,null,"その他",0,0]
[null,"他ダミー34",null,0,0,null,null,"その他",0,0]
[null,"他ダミー33",null,0,0,null,null,"その他",0,0]
[null,"他ダミー32",null,0,0,null,null,"その他",0,0]
[null,"他ダミー31",null,0,0,null,null,"その他",0,0]
[null,"他ダミー30",null,0,0,null,null,"その他",0,0]
[null,"他ダミー29",null,0,0,null,null,"その他",0,0]
[null,"他ダミー28",null,0,0,null,null,"その他",0,0]
[null,"他ダミー27",null,0,0,null,null,"その他",0,0]
[null,"他ダミー26",null,0,0,null,null,"その他",0,0]
[null,"他ダミー25",null,0,0,null,null,"その他",0,0]
[null,"他ダミー24",null,0,0,null,null,"その他",0,0]
[null,"他ダミー23",null,0,0,null,null,"その他",0,0]
[null,"他ダミー22",null,0,0,null,null,"その他",0,0]
[null,"他ダミー21",null,0,0,null,null,"その他",0,0]
[null,"他ダミー20",null,0,0,null,null,"その他",0,0]
[null,"他ダミー19",null,0,0,null,null,"その他",0,0]
[null,"他ダミー18",null,0,0,null,null,"その他",0,0]
[null,"他ダミー17",null,0,0,null,null,"その他",0,0]
[null,"他ダミー16",null,0,0,null,null,"その他",0,0]
[null,"他ダミー15",null,0,0,null,null,"その他",0,0]
[null,"他ダミー14",null,0,0,null,null,"その他",0,0]
[null,"他ダミー13",null,0,0,null,null,"その他",0,0]
[null,"他ダミー12",null,0,0,null,null,"その他",0,0]
[null,"他ダミー11",null,0,0,null,null,"その他",0,0]
[null,"他ダミー10",null,0,0,null,null,"その他",0,0]
[null,"他ダミー9",null,0,0,null,null,"その他",0,0]
[null,"他ダミー8",null,0,0,null,null,"その他",0,0]
[null,"他ダミー7",null,0,0,null,null,"その他",0,0]
[null,"他ダミー6",null,0,0,null,null,"その他",0,0]
[null,"他ダミー5",null,0,0,null,null,"その他",0,0]
[null,"他ダミー4",null,0,0,null,null,"その他",0,0]
[null,"他ダミー3",null,0,0,null,null,"その他",0,0]
[null,"他ダミー2",null,0,0,null,null,"その他",0,0]
[null,"他ダミー1",null,0,0,null,null,"その他",0,0]

{"sheet":"アイテム","index":4,"n_rows":100,"n_cols":4,"rows_kept":100,"cut":false,"hidden":false,"merged":[]}
[]
[null,"アイテム"]
[null,"名称","重量","価格"]
[null,"　",0,0]
[null,"油（100ml：ランプで5時間）",0.1,5]
[null,"ランプ",0.5,30]
[null,"火打ち石（一組）",0.1,10]
[null,"たいまつ",0.5,10]
[null,"ろうそく",0.1,3]
[null,"しょく台",0.1,10]
[null,"ロープ（10m）",5,20]
[null,"フック付きロープ（5m）",3,15]
[null,"棒（1m）",0.5,5]
[null,"布地（4m×4m）",2,40]
[null,"バックパック",1,20]
[null,"ポーチ",0.5,10]
[null,"宝箱（鍵付き）",3,70]
[null,"鍵のスペア",0.1,40]
[null,"マント",1,10]
[null,"服（普段着）",2,50]
[null,"服（正装用）",3,100]
[null,"靴（一般用）",0.5,30]
[null,"麻袋（小）",0.1,5]
[null,"麻袋（大）",0.5,15]
[null,"食器セット（1人分）",2,50]
[null,"携帯食（1日分）",1,30]
[null,"水袋（1リットル）",0.1,10]
[null,"テント（6人用）",10,200]
[null,"寝袋",2,50]
[null,"防寒具",2,40]
[null,"馬（馬具付き）","－",5000]
[null,"馬車（4～6頭引き：6人乗り）","－",5000]
[null,"工具セット",5,600]
[null,"材木",10,75]
[null,"ペン",0.1,5]
[null,"インク",0.1,5]
[null,"画材",3,100]
[null,"紙（20cm×30cm：100枚）",0.2,20]
[null,"日時計",0.1,10]
[null,"六分儀",2,100]
[null,"定規（1m）",0.1,10]
[null,"巻き尺（5m）",0.2,50]
[null,"傷薬（HPを2D20回復）",0.1,100]
[null,"解毒薬",0.1,150]
[null,"回復薬（麻痺用）",0.1,200]
[null,"包帯",0.1,15]
[null,"ダミー54",0,0]
[null,"ダミー53",0,0]
[null,"ダミー52",0,0]
[null,"ダミー51",0,0]
[null,"ダミー50",0,0]
[null,"ダミー49",0,0]
[null,"ダミー48",0,0]
[null,"ダミー47",0,0]
[null,"ダミー46",0,0]
[null,"ダミー45",0,0]
[null,"ダミー44",0,0]
[null,"ダミー43",0,0]
[null,"ダミー42",0,0]
[null,"ダミー41",0,0]
[null,"ダミー40",0,0]
[null,"ダミー39",0,0]
[null,"ダミー38",0,0]
[null,"ダミー37",0,0]
[null,"ダミー36",0,0]
[null,"ダミー35",0,0]
[null,"ダミー34",0,0]
[null,"ダミー33",0,0]
[null,"ダミー32",0,0]
[null,"ダミー31",0,0]
[null,"ダミー30",0,0]
[null,"ダミー29",0,0]
[null,"ダミー28",0,0]
[null,"ダミー27",0,0]
[null,"ダミー26",0,0]
[null,"ダミー25",0,0]
[null,"ダミー24",0,0]
[null,"ダミー23",0,0]
[null,"ダミー22",0,0]
[null,"ダミー21",0,0]
[null,"ダミー20",0,0]
[null,"ダミー19",0,0]
[null,"ダミー18",0,0]
[null,"ダミー17",0,0]
[null,"ダミー16",0,0]
[null,"ダミー15",0,0]
[null,"ダミー14",0,0]
[null,"ダミー13",0,0]
[null,"ダミー12",0,0]
[null,"ダミー11",0,0]
[null,"ダミー10",0,0]
[null,"ダミー9",0,0]
[null,"ダミー8",0,0]
[null,"ダミー7",0,0]
[null,"ダミー6",0,0]
[null,"ダミー5",0,0]
[null,"ダミー4",0,0]
[null,"ダミー3",0,0]
[null,"ダミー2",0,0]
[null,"ダミー1",0,0]

{"sheet":"経験値","index":5,"n_rows":103,"n_cols":10,"rows_kept":103,"cut":false,"hidden":false,"merged":[[53,2,54,5]]}
[]
[null,"レベル","必要経験値",null,null,null,"呪文№"]
[null,"到達レベル","初級戦士系","初級術者系","上級戦士系","上級術者系","精霊№","神聖№","精神№","暗黒№"]
[null,1,0,0,0,0,1,1,1,1]
[null,2,1000,1200,1600,1400,1,2,2,2]
[null,3,2000,2400,3200,2800,2,3,3,3]
[null,4,3000,3600,4800,4200,3,4,4,4]
[null,5,4500,5400,7200,6300,4,4,4,4]
[null,6,6700,8100,10800,9400,4,5,5,5]
[null,7,10000,12100,16200,14100,5,6,6,6]
[null,8,15000,18100,24300,21100,6,6,6,6]
[null,9,22500,27100,36400,31600,6,7,7,7]
[null,10,33700,40600,54600,47400,7,8,8,8]
[null,11,50500,60900,81900,71100,8,9,9,9]
[null,12,75700,91300,122800,106600,9,9,9,9]
[null,13,113500,136900,184200,159900,9,10,10,10]
[null,14,170200,205300,300000,239800,10,11,11,11]
[null,15,255300,300000,400000,350000,11,12,12,12]
[null,16,350000,400000,500000,450000,12,12,12,12]
[null,17,450000,500000,600000,550000,12,13,13,13]
[null,18,{"$f":"+C20+100000","v":550000},{"$f":"+D20+100000","v":600000},{"$f":"+E20+100000","v":700000},{"$f":"+F20+100000","v":650000},13,14,14,14]
[null,19,{"$f":"+C21+100000","v":650000},{"$f":"+D21+100000","v":700000},{"$f":"+E21+100000","v":800000},{"$f":"+F21+100000","v":750000},14,15,15,15]
[null,20,750000,800000,900000,850000,15,15,15,15]
[null,21,850000,900000,1000000,950000,15,16,16,16]
[null,22,950000,1000000,1100000,1050000,16,17,17,17]
[null,23,1050000,1100000,1200000,1150000,17,17,17,17]
[null,24,1150000,1200000,1300000,1250000,17,18,18,18]
[null,25,1250000,1300000,1400000,1350000,18,19,19,19]
[null,26,1350000,1400000,1500000,1450000,19,19,19,19]
[null,27,1450000,1500000,1600000,1550000,19,20,20,20]
[null,28,1550000,1600000,1700000,1650000,20,20,20,20]
[null,29,1650000,1700000,1800000,1750000,20,21,21,21]
[null,30,1750000,1800000,1900000,1850000,21,22,22,22]
[null,31,1850000,1900000,2000000,1950000,22,22,22,22]
[null,32,1950000,2000000,2100000,2050000,22,23,23,23]
[null,33,2050000,2100000,2200000,2150000,23,24,24,24]
[null,34,2150000,2200000,2300000,2250000,24,24,24,24]
[null,35,2250000,2300000,2400000,2350000,24,25,25,25]
[null,36,2350000,2400000,2500000,2450000,25,25,25,25]
[null,37,2500000,2550000,2650000,2600000,25,26,26,26]
[null,38,{"$f":"+C40+150000","v":2650000},{"$f":"+D40+150000","v":2700000},{"$f":"+E40+150000","v":2800000},{"$f":"+F40+150000","v":2750000},26,27,27,27]
[null,39,{"$f":"+C41+150000","v":2800000},{"$f":"+D41+150000","v":2850000},{"$f":"+E41+150000","v":2950000},{"$f":"+F41+150000","v":2900000},27,28,28,28]
[null,40,2950000,3000000,3100000,3050000,28,29,29,29]
[null,41,3100000,3150000,3250000,3200000,29,30,30,30]
[null,42,3250000,3300000,3400000,3350000,30,31,31,31]
[null,43,3400000,3450000,3550000,3500000,31,32,32,32]
[null,44,3550000,3600000,3700000,3650000,32,33,33,33]
[null,45,3700000,3750000,3850000,3800000,33,34,34,34]
[null,46,3850000,3900000,4000000,3950000,34,35,35,35]
[null,47,4000000,4050000,4150000,4100000,35,35,35,35]
[null,48,4150000,4200000,4300000,4250000,35,35,35,35]
[null,49,4300000,4350000,4450000,4400000,35,35,35,35]
[null,50,4450000,4500000,4600000,4550000,36,36,36,36]
[null,51,"（前のレベルの必要経験値に200,000点ずつ加算）",null,null,null,{"$f":"+G4+36","v":37},37,37,37]
[null,52,null,null,null,null,37,38,38,38]
[null,53,null,null,null,null,38,39,39,39]
[null,54,null,null,null,null,39,40,40,40]
[null,55,null,null,null,null,40,40,40,40]
[null,56,null,null,null,null,40,41,41,41]
[null,57,null,null,null,null,41,42,42,42]
[null,58,null,null,null,null,42,42,42,42]
[null,59,null,null,null,null,42,43,43,43]
[null,60,null,null,null,null,43,44,44,44]
[null,61,null,null,null,null,44,45,45,45]
[null,62,null,null,null,null,45,45,45,45]
[null,63,null,null,null,null,45,46,46,46]
[null,64,null,null,null,null,46,47,47,47]
[null,65,null,null,null,null,47,48,48,48]
[null,66,null,null,null,null,48,48,48,48]
[null,67,null,null,null,null,48,49,49,49]
[null,68,null,null,null,null,49,50,50,50]
[null,69,null,null,null,null,50,51,51,51]
[null,70,null,null,null,null,51,51,51,51]
[null,71,null,null,null,null,{"$f":"+G24+36","v":51},52,52,52]
[null,72,null,null,null,null,52,53,53,53]
[null,73,null,null,null,null,53,53,53,53]
[null,74,null,null,null,null,53,54,54,54]
[null,75,null,null,null,null,54,55,55,55]
[null,76,null,null,null,null,55,55,55,55]
[null,77,null,null,null,null,55,56,56,56]
[null,78,null,null,null,null,56,56,56,56]
[null,79,null,null,null,null,56,57,57,57]
[null,80,null,null,null,null,57,58,58,58]
[null,81,null,null,null,null,58,58,58,58]
[null,82,null,null,null,null,58,59,59,59]
[null,83,null,null,null,null,59,60,60,60]
[null,84,null,null,null,null,60,60,60,60]
[null,85,null,null,null,null,60,61,61,61]
[null,86,null,null,null,null,61,61,61,61]
[null,87,null,null,null,null,61,62,62,62]
[null,88,null,null,null,null,62,63,63,63]
[null,89,null,null,null,null,63,64,64,64]
[null,90,null,null,null,null,64,65,65,65]
[null,91,null,null,null,null,{"$f":"+G44+36","v":65},66,66,66]
[null,92,null,null,null,null,66,67,67,67]
[null,93,null,null,null,null,67,68,68,68]
[null,94,null,null,null,null,68,69,69,69]
[null,95,null,null,null,null,69,70,70,70]
[null,96,null,null,null,null,70,71,71,71]
[null,97,null,null,null,null,71,71,71,71]
[null,98,null,null,null,null,71,71,71,71]
[null,99,null,null,null,null,71,71,71,71]
[null,100,null,null,null,null,72,72,72,72]